BEGIN:VCALENDAR
VERSION:2.0
PRODID:-//Arundel Community Development Services, Inc. - ECPv6.15.20//NONSGML v1.0//EN
CALSCALE:GREGORIAN
METHOD:PUBLISH
X-ORIGINAL-URL:https://acdsinc.org
X-WR-CALDESC:Events for Arundel Community Development Services, Inc.
REFRESH-INTERVAL;VALUE=DURATION:PT1H
X-Robots-Tag:noindex
X-PUBLISHED-TTL:PT1H
BEGIN:VTIMEZONE
TZID:America/New_York
BEGIN:DAYLIGHT
TZOFFSETFROM:-0500
TZOFFSETTO:-0400
TZNAME:EDT
DTSTART:20170312T070000
END:DAYLIGHT
BEGIN:STANDARD
TZOFFSETFROM:-0400
TZOFFSETTO:-0500
TZNAME:EST
DTSTART:20171105T060000
END:STANDARD
BEGIN:DAYLIGHT
TZOFFSETFROM:-0500
TZOFFSETTO:-0400
TZNAME:EDT
DTSTART:20180311T070000
END:DAYLIGHT
BEGIN:STANDARD
TZOFFSETFROM:-0400
TZOFFSETTO:-0500
TZNAME:EST
DTSTART:20181104T060000
END:STANDARD
BEGIN:DAYLIGHT
TZOFFSETFROM:-0500
TZOFFSETTO:-0400
TZNAME:EDT
DTSTART:20190310T070000
END:DAYLIGHT
BEGIN:STANDARD
TZOFFSETFROM:-0400
TZOFFSETTO:-0500
TZNAME:EST
DTSTART:20191103T060000
END:STANDARD
END:VTIMEZONE
BEGIN:VEVENT
DTSTART;VALUE=DATE:20180822
DTEND;VALUE=DATE:20180823
DTSTAMP:20260419T224752
CREATED:20180809T200640Z
LAST-MODIFIED:20180809T200813Z
UID:10002794-1534896000-1534982399@acdsinc.org
SUMMARY:Ballman Court Community Design Meeting
DESCRIPTION:For more information\, please call 410-222-4393.
URL:https://acdsinc.org/event/ballman-court-community-design-meeting/
LOCATION:MD\, United States
GEO:39.0457549;-76.6412712
END:VEVENT
END:VCALENDAR