BEGIN:VCALENDAR
VERSION:2.0
PRODID:-//Arundel Community Development Services, Inc. - ECPv6.15.20//NONSGML v1.0//EN
CALSCALE:GREGORIAN
METHOD:PUBLISH
X-WR-CALNAME:Arundel Community Development Services, Inc.
X-ORIGINAL-URL:https://acdsinc.org
X-WR-CALDESC:Events for Arundel Community Development Services, Inc.
REFRESH-INTERVAL;VALUE=DURATION:PT1H
X-Robots-Tag:noindex
X-PUBLISHED-TTL:PT1H
BEGIN:VTIMEZONE
TZID:America/New_York
BEGIN:DAYLIGHT
TZOFFSETFROM:-0500
TZOFFSETTO:-0400
TZNAME:EDT
DTSTART:20180311T070000
END:DAYLIGHT
BEGIN:STANDARD
TZOFFSETFROM:-0400
TZOFFSETTO:-0500
TZNAME:EST
DTSTART:20181104T060000
END:STANDARD
BEGIN:DAYLIGHT
TZOFFSETFROM:-0500
TZOFFSETTO:-0400
TZNAME:EDT
DTSTART:20190310T070000
END:DAYLIGHT
BEGIN:STANDARD
TZOFFSETFROM:-0400
TZOFFSETTO:-0500
TZNAME:EST
DTSTART:20191103T060000
END:STANDARD
BEGIN:DAYLIGHT
TZOFFSETFROM:-0500
TZOFFSETTO:-0400
TZNAME:EDT
DTSTART:20200308T070000
END:DAYLIGHT
BEGIN:STANDARD
TZOFFSETFROM:-0400
TZOFFSETTO:-0500
TZNAME:EST
DTSTART:20201101T060000
END:STANDARD
END:VTIMEZONE
BEGIN:VEVENT
DTSTART;TZID=America/New_York:20190228T183000
DTEND;TZID=America/New_York:20190228T183000
DTSTAMP:20260425T115324
CREATED:20181003T131153Z
LAST-MODIFIED:20181003T131153Z
UID:10002840-1551378600-1551378600@acdsinc.org
SUMMARY:2nd Public Hearing: County Housing and Community Development Budget Process
DESCRIPTION:February 28\, 2019 6:30pm – Conference Room\, Arundel Community Development Services\, Inc. \nStaff will review submissions and make recommendations to the ACDS Board of Directors.  The Housing and Community Development Budget is included in the County Executive’s budget\, which is then reviewed and approved by the County Council in May.  The budget will then be further detailed in Anne Arundel County’s Annual Action Plan submission to the US Department of Housing and Urban Development (HUD).  Click here to view past Annual Action Plans.
URL:https://acdsinc.org/event/2nd-public-hearing-county-housing-and-community-development-budget-process/
LOCATION:Arundel Community Development Services\, Inc.\, 2666 Riva Road\, Suite 210\, Annapolis\, MD\, 21401\, United States
GEO:38.9746862;-76.5612782
X-APPLE-STRUCTURED-LOCATION;VALUE=URI;X-ADDRESS=Arundel Community Development Services Inc. 2666 Riva Road Suite 210 Annapolis MD 21401 United States;X-APPLE-RADIUS=500;X-TITLE=2666 Riva Road\, Suite 210:geo:-76.5612782,38.9746862
END:VEVENT
END:VCALENDAR