BEGIN:VCALENDAR
VERSION:2.0
PRODID:-//Arundel Community Development Services, Inc. - ECPv6.15.20//NONSGML v1.0//EN
CALSCALE:GREGORIAN
METHOD:PUBLISH
X-WR-CALNAME:Arundel Community Development Services, Inc.
X-ORIGINAL-URL:https://acdsinc.org
X-WR-CALDESC:Events for Arundel Community Development Services, Inc.
REFRESH-INTERVAL;VALUE=DURATION:PT1H
X-Robots-Tag:noindex
X-PUBLISHED-TTL:PT1H
BEGIN:VTIMEZONE
TZID:America/New_York
BEGIN:DAYLIGHT
TZOFFSETFROM:-0500
TZOFFSETTO:-0400
TZNAME:EDT
DTSTART:20180311T070000
END:DAYLIGHT
BEGIN:STANDARD
TZOFFSETFROM:-0400
TZOFFSETTO:-0500
TZNAME:EST
DTSTART:20181104T060000
END:STANDARD
BEGIN:DAYLIGHT
TZOFFSETFROM:-0500
TZOFFSETTO:-0400
TZNAME:EDT
DTSTART:20190310T070000
END:DAYLIGHT
BEGIN:STANDARD
TZOFFSETFROM:-0400
TZOFFSETTO:-0500
TZNAME:EST
DTSTART:20191103T060000
END:STANDARD
BEGIN:DAYLIGHT
TZOFFSETFROM:-0500
TZOFFSETTO:-0400
TZNAME:EDT
DTSTART:20200308T070000
END:DAYLIGHT
BEGIN:STANDARD
TZOFFSETFROM:-0400
TZOFFSETTO:-0500
TZNAME:EST
DTSTART:20201101T060000
END:STANDARD
END:VTIMEZONE
BEGIN:VEVENT
DTSTART;VALUE=DATE:20190313
DTEND;VALUE=DATE:20190314
DTSTAMP:20260425T202158
CREATED:20190304T205635Z
LAST-MODIFIED:20190304T205635Z
UID:10002926-1552435200-1552521599@acdsinc.org
SUMMARY:Homeownership Counseling Program Introduction Class
DESCRIPTION:THIS CLASS IS FULL \nThe Homeownership Counseling Program classes are by invitation only. THOSE WHO DO NOT APPLY WILL NOT BE ALLOWED TO PARTICIPATE. \nTo apply for the next available class please click here and this link will direct you to the Homeownership Counseling Application. To learn more about our Homeownership Counseling program please click here. \nThe Introduction Class is the first session of the Homeownership Counseling Program and helps participants understand the requirements of the program.
URL:https://acdsinc.org/event/homeownership-counseling-program-introduction-class-13/
END:VEVENT
BEGIN:VEVENT
DTSTART;TZID=America/New_York:20190313T100000
DTEND;TZID=America/New_York:20190313T110000
DTSTAMP:20260425T202158
CREATED:20190304T211724Z
LAST-MODIFIED:20190304T211724Z
UID:10002929-1552471200-1552474800@acdsinc.org
SUMMARY:Property Rehab Discussion
DESCRIPTION:ACDS representatives will be hosting a discussion to promote our Property Rehabilitation Program.
URL:https://acdsinc.org/event/property-rehab-discussion/
LOCATION:Arnold Senior Center\, 44 Church Rd\, Arnold\, MD\, 21012\, United States
GEO:39.0311416;-76.5036836
X-APPLE-STRUCTURED-LOCATION;VALUE=URI;X-ADDRESS=Arnold Senior Center 44 Church Rd Arnold MD 21012 United States;X-APPLE-RADIUS=500;X-TITLE=44 Church Rd:geo:-76.5036836,39.0311416
END:VEVENT
END:VCALENDAR