BEGIN:VCALENDAR
VERSION:2.0
PRODID:-//Arundel Community Development Services, Inc. - ECPv6.15.20//NONSGML v1.0//EN
CALSCALE:GREGORIAN
METHOD:PUBLISH
X-WR-CALNAME:Arundel Community Development Services, Inc.
X-ORIGINAL-URL:https://acdsinc.org
X-WR-CALDESC:Events for Arundel Community Development Services, Inc.
REFRESH-INTERVAL;VALUE=DURATION:PT1H
X-Robots-Tag:noindex
X-PUBLISHED-TTL:PT1H
BEGIN:VTIMEZONE
TZID:America/New_York
BEGIN:DAYLIGHT
TZOFFSETFROM:-0500
TZOFFSETTO:-0400
TZNAME:EDT
DTSTART:20180311T070000
END:DAYLIGHT
BEGIN:STANDARD
TZOFFSETFROM:-0400
TZOFFSETTO:-0500
TZNAME:EST
DTSTART:20181104T060000
END:STANDARD
BEGIN:DAYLIGHT
TZOFFSETFROM:-0500
TZOFFSETTO:-0400
TZNAME:EDT
DTSTART:20190310T070000
END:DAYLIGHT
BEGIN:STANDARD
TZOFFSETFROM:-0400
TZOFFSETTO:-0500
TZNAME:EST
DTSTART:20191103T060000
END:STANDARD
BEGIN:DAYLIGHT
TZOFFSETFROM:-0500
TZOFFSETTO:-0400
TZNAME:EDT
DTSTART:20200308T070000
END:DAYLIGHT
BEGIN:STANDARD
TZOFFSETFROM:-0400
TZOFFSETTO:-0500
TZNAME:EST
DTSTART:20201101T060000
END:STANDARD
END:VTIMEZONE
BEGIN:VEVENT
DTSTART;TZID=America/New_York:20190326T180000
DTEND;TZID=America/New_York:20190326T200000
DTSTAMP:20260424T202507
CREATED:20190206T195409Z
LAST-MODIFIED:20190322T153543Z
UID:10002922-1553623200-1553630400@acdsinc.org
SUMMARY:Building your Career Success
DESCRIPTION:Whether you are looking for a job or a new career\, or wanting to advance within your current position\, this workshop can help you. At this workshop\, you will learn how to identify occupations where your skills are in demand. \nLearn how to be successful in finding employment in today’s job market. You will learn how to access online job listings\, where to go for help with resume and cover letter preparation\, and how to access training that could lead to certification in high-growth industries. \nLearn about a new computerized tool that will help you discover your strengths and personality type to determine a satisfying and fiscally rewarding career path.
URL:https://acdsinc.org/event/building-your-career-sucess/
LOCATION:Arundel Community Development Services\, Inc.\, 2666 Riva Road\, Suite 210\, Annapolis\, MD\, 21401\, United States
GEO:38.9746862;-76.5612782
X-APPLE-STRUCTURED-LOCATION;VALUE=URI;X-ADDRESS=Arundel Community Development Services Inc. 2666 Riva Road Suite 210 Annapolis MD 21401 United States;X-APPLE-RADIUS=500;X-TITLE=2666 Riva Road\, Suite 210:geo:-76.5612782,38.9746862
END:VEVENT
END:VCALENDAR