BEGIN:VCALENDAR
VERSION:2.0
PRODID:-//Arundel Community Development Services, Inc. - ECPv6.15.20//NONSGML v1.0//EN
CALSCALE:GREGORIAN
METHOD:PUBLISH
X-WR-CALNAME:Arundel Community Development Services, Inc.
X-ORIGINAL-URL:https://acdsinc.org
X-WR-CALDESC:Events for Arundel Community Development Services, Inc.
REFRESH-INTERVAL;VALUE=DURATION:PT1H
X-Robots-Tag:noindex
X-PUBLISHED-TTL:PT1H
BEGIN:VTIMEZONE
TZID:America/New_York
BEGIN:DAYLIGHT
TZOFFSETFROM:-0500
TZOFFSETTO:-0400
TZNAME:EDT
DTSTART:20180311T070000
END:DAYLIGHT
BEGIN:STANDARD
TZOFFSETFROM:-0400
TZOFFSETTO:-0500
TZNAME:EST
DTSTART:20181104T060000
END:STANDARD
BEGIN:DAYLIGHT
TZOFFSETFROM:-0500
TZOFFSETTO:-0400
TZNAME:EDT
DTSTART:20190310T070000
END:DAYLIGHT
BEGIN:STANDARD
TZOFFSETFROM:-0400
TZOFFSETTO:-0500
TZNAME:EST
DTSTART:20191103T060000
END:STANDARD
BEGIN:DAYLIGHT
TZOFFSETFROM:-0500
TZOFFSETTO:-0400
TZNAME:EDT
DTSTART:20200308T070000
END:DAYLIGHT
BEGIN:STANDARD
TZOFFSETFROM:-0400
TZOFFSETTO:-0500
TZNAME:EST
DTSTART:20201101T060000
END:STANDARD
END:VTIMEZONE
BEGIN:VEVENT
DTSTART;TZID=America/New_York:20190402T100000
DTEND;TZID=America/New_York:20190402T233000
DTSTAMP:20260425T184357
CREATED:20190214T135724Z
LAST-MODIFIED:20190228T150254Z
UID:10002722-1554199200-1554247800@acdsinc.org
SUMMARY:Lender/Agent Day
DESCRIPTION:This event is designed for Housing Professionals to learn more about the Homeownership Counseling Program and the Mortgage Assistance Program.
URL:https://acdsinc.org/event/lender-agent-day-3/
LOCATION:Arundel Community Development Services\, Inc.\, 2666 Riva Road\, Suite 210\, Annapolis\, MD\, 21401\, United States
ATTACH;FMTTYPE=image/jpeg:https://acdsinc.org/wp-content/uploads/2019/02/Lender-Agent-Day-Flyer-04.02.19.jpg
ORGANIZER;CN="Linda DeLuca":MAILTO:ldeluca@acdsinc.org
GEO:38.9746862;-76.5612782
X-APPLE-STRUCTURED-LOCATION;VALUE=URI;X-ADDRESS=Arundel Community Development Services Inc. 2666 Riva Road Suite 210 Annapolis MD 21401 United States;X-APPLE-RADIUS=500;X-TITLE=2666 Riva Road\, Suite 210:geo:-76.5612782,38.9746862
END:VEVENT
END:VCALENDAR