BEGIN:VCALENDAR
VERSION:2.0
PRODID:-//Arundel Community Development Services, Inc. - ECPv6.15.20//NONSGML v1.0//EN
CALSCALE:GREGORIAN
METHOD:PUBLISH
X-WR-CALNAME:Arundel Community Development Services, Inc.
X-ORIGINAL-URL:https://acdsinc.org
X-WR-CALDESC:Events for Arundel Community Development Services, Inc.
REFRESH-INTERVAL;VALUE=DURATION:PT1H
X-Robots-Tag:noindex
X-PUBLISHED-TTL:PT1H
BEGIN:VTIMEZONE
TZID:America/New_York
BEGIN:DAYLIGHT
TZOFFSETFROM:-0500
TZOFFSETTO:-0400
TZNAME:EDT
DTSTART:20220313T070000
END:DAYLIGHT
BEGIN:STANDARD
TZOFFSETFROM:-0400
TZOFFSETTO:-0500
TZNAME:EST
DTSTART:20221106T060000
END:STANDARD
BEGIN:DAYLIGHT
TZOFFSETFROM:-0500
TZOFFSETTO:-0400
TZNAME:EDT
DTSTART:20230312T070000
END:DAYLIGHT
BEGIN:STANDARD
TZOFFSETFROM:-0400
TZOFFSETTO:-0500
TZNAME:EST
DTSTART:20231105T060000
END:STANDARD
BEGIN:DAYLIGHT
TZOFFSETFROM:-0500
TZOFFSETTO:-0400
TZNAME:EDT
DTSTART:20240310T070000
END:DAYLIGHT
BEGIN:STANDARD
TZOFFSETFROM:-0400
TZOFFSETTO:-0500
TZNAME:EST
DTSTART:20241103T060000
END:STANDARD
END:VTIMEZONE
BEGIN:VEVENT
DTSTART;TZID=America/New_York:20230415T100000
DTEND;TZID=America/New_York:20230415T140000
DTSTAMP:20260421T191920
CREATED:20230405T210847Z
LAST-MODIFIED:20230405T211447Z
UID:10003084-1681552800-1681567200@acdsinc.org
SUMMARY:Brooklyn Park: All For One Community Event
DESCRIPTION:Brooklyn Park: All For One Community Event \nApril 15\, 10am – 2pm \nJoin us for a free family-friendly community event in support of our youth. This fun-filled day will include resource vendors\, activities for kids of all ages\, and showcase projects developed by youth in The Complete Player program to benefit the community. \nACDS will have staff in attendance to provide information about our programming and resources for Anne Arundel County residents.
URL:https://acdsinc.org/event/brooklyn-park-all-for-one-community-event/
LOCATION:Brooklyn Park Library\, 1 E 11th Ave\, Baltimore\, MD\, 21225\, United States
ATTACH;FMTTYPE=image/png:https://acdsinc.org/wp-content/uploads/2023/04/Screenshot-2023-03-06-at-11.09.35-AM.png
GEO:39.2230511;-76.6118302
X-APPLE-STRUCTURED-LOCATION;VALUE=URI;X-ADDRESS=Brooklyn Park Library 1 E 11th Ave Baltimore MD 21225 United States;X-APPLE-RADIUS=500;X-TITLE=1 E 11th Ave:geo:-76.6118302,39.2230511
END:VEVENT
END:VCALENDAR