BEGIN:VCALENDAR
VERSION:2.0
PRODID:-//Arundel Community Development Services, Inc. - ECPv6.15.20//NONSGML v1.0//EN
CALSCALE:GREGORIAN
METHOD:PUBLISH
X-ORIGINAL-URL:https://acdsinc.org
X-WR-CALDESC:Events for Arundel Community Development Services, Inc.
REFRESH-INTERVAL;VALUE=DURATION:PT1H
X-Robots-Tag:noindex
X-PUBLISHED-TTL:PT1H
BEGIN:VTIMEZONE
TZID:America/New_York
BEGIN:DAYLIGHT
TZOFFSETFROM:-0500
TZOFFSETTO:-0400
TZNAME:EDT
DTSTART:20240310T070000
END:DAYLIGHT
BEGIN:STANDARD
TZOFFSETFROM:-0400
TZOFFSETTO:-0500
TZNAME:EST
DTSTART:20241103T060000
END:STANDARD
BEGIN:DAYLIGHT
TZOFFSETFROM:-0500
TZOFFSETTO:-0400
TZNAME:EDT
DTSTART:20250309T070000
END:DAYLIGHT
BEGIN:STANDARD
TZOFFSETFROM:-0400
TZOFFSETTO:-0500
TZNAME:EST
DTSTART:20251102T060000
END:STANDARD
BEGIN:DAYLIGHT
TZOFFSETFROM:-0500
TZOFFSETTO:-0400
TZNAME:EDT
DTSTART:20260308T070000
END:DAYLIGHT
BEGIN:STANDARD
TZOFFSETFROM:-0400
TZOFFSETTO:-0500
TZNAME:EST
DTSTART:20261101T060000
END:STANDARD
END:VTIMEZONE
BEGIN:VEVENT
DTSTART;TZID=America/New_York:20250929T183000
DTEND;TZID=America/New_York:20250929T193000
DTSTAMP:20260424T132944
CREATED:20250825T200120Z
LAST-MODIFIED:20250825T200120Z
UID:10003315-1759170600-1759174200@acdsinc.org
SUMMARY:Laurel Race Course Impact Fund Advisory Committee Meeting
DESCRIPTION:The Laurel Race Course Impact Fund Advisory Committee is an advisory body that advises the County Executive on the distribution of grant funds received from the Special Fund for the area surrounding the Laurel Race Course. \n  \nVirtual Meeting\nMonday\, September 29\, 2025 at 6:30pm\nZoom: https://aacounty.zoom.us/j/88315240533?pwd=vwslGRApaObaPte8hKvWuIS5XjpFgz.1\nPasscode:  Cyhqj8w^
URL:https://acdsinc.org/event/laurel-race-course-impact-fund-advisory-committee-meeting/
END:VEVENT
END:VCALENDAR