BEGIN:VCALENDAR
VERSION:2.0
PRODID:-//Arundel Community Development Services, Inc. - ECPv6.15.20//NONSGML v1.0//EN
CALSCALE:GREGORIAN
METHOD:PUBLISH
X-WR-CALNAME:Arundel Community Development Services, Inc.
X-ORIGINAL-URL:https://acdsinc.org
X-WR-CALDESC:Events for Arundel Community Development Services, Inc.
REFRESH-INTERVAL;VALUE=DURATION:PT1H
X-Robots-Tag:noindex
X-PUBLISHED-TTL:PT1H
BEGIN:VTIMEZONE
TZID:America/New_York
BEGIN:DAYLIGHT
TZOFFSETFROM:-0500
TZOFFSETTO:-0400
TZNAME:EDT
DTSTART:20240310T070000
END:DAYLIGHT
BEGIN:STANDARD
TZOFFSETFROM:-0400
TZOFFSETTO:-0500
TZNAME:EST
DTSTART:20241103T060000
END:STANDARD
BEGIN:DAYLIGHT
TZOFFSETFROM:-0500
TZOFFSETTO:-0400
TZNAME:EDT
DTSTART:20250309T070000
END:DAYLIGHT
BEGIN:STANDARD
TZOFFSETFROM:-0400
TZOFFSETTO:-0500
TZNAME:EST
DTSTART:20251102T060000
END:STANDARD
BEGIN:DAYLIGHT
TZOFFSETFROM:-0500
TZOFFSETTO:-0400
TZNAME:EDT
DTSTART:20260308T070000
END:DAYLIGHT
BEGIN:STANDARD
TZOFFSETFROM:-0400
TZOFFSETTO:-0500
TZNAME:EST
DTSTART:20261101T060000
END:STANDARD
END:VTIMEZONE
BEGIN:VEVENT
DTSTART;TZID=America/New_York:20250103T100000
DTEND;TZID=America/New_York:20250103T110000
DTSTAMP:20260424T134523
CREATED:20230918T153751Z
LAST-MODIFIED:20230918T153751Z
UID:10003193-1735898400-1735902000@acdsinc.org
SUMMARY:CoC Homeless Coalition – Board Meeting
DESCRIPTION:The Anne Arundel and Annapolis Coalition to End Homelessness (the Coalition) is the convening and planning body for Anne Arundel County and the City of Annapolis tasked with promoting community-wide commitment to ending homelessness\, creation of and access to mainstream programs by people experiencing homelessness or at risk of homelessness\, and optimizing self-sufficiency within our community. This group promotes community-wide planning and strategic use of resources to address homelessness and is committed to improving data collection and performance measurement over time. \n  \nCoalition Board Meetings are held semi-monthly on the 1st Friday of the month.  Meeting minutes are available upon request. \n  \nPlease contact Hannah Breakstone at hbreakstone@acds.org or 410-222-3958 to become a member\, add your name to our mailing list\, or receive general meeting notices and minutes.
URL:https://acdsinc.org/event/coc-homeless-coalition-board-meeting-2/2025-01-03/
END:VEVENT
BEGIN:VEVENT
DTSTART;VALUE=DATE:20250108
DTEND;VALUE=DATE:20250109
DTSTAMP:20260424T134523
CREATED:20240918T160454Z
LAST-MODIFIED:20240918T160745Z
UID:10003247-1736294400-1736380799@acdsinc.org
SUMMARY:Grant Application Opens: Community Support Grants
DESCRIPTION:Grants for nonprofit organizations to increase their impact and operate more efficiently and effectively to improve and enrich the lives of Anne Arundel County residents and communities. \nApplication Training: Friday\, January 10\, 2025 at 2:00pm\nPlease email Elisha Harig-Blaine at eharig-blaine@acdsinc.org to RSVP and receive a Zoom link. \nApplication Deadline: Friday\, February 21\, 2025
URL:https://acdsinc.org/event/grant-application-opens-community-support-grants/
END:VEVENT
BEGIN:VEVENT
DTSTART;TZID=America/New_York:20250109T163000
DTEND;TZID=America/New_York:20250109T183000
DTSTAMP:20260424T134523
CREATED:20240918T154702Z
LAST-MODIFIED:20250109T181410Z
UID:10003242-1736440200-1736447400@acdsinc.org
SUMMARY:Public Hearing: 5-Year ConPlan & FY2026 Budget Process
DESCRIPTION:At this hearing\, ACDS will present on housing and community development needs\, general demographic trends\, and a summary of focus group findings. Additionally\, ACDS will review and discuss the proposed geographic priorities\, guiding principles\, as well as the proposed goals and strategies.  The public will be given an opportunity to prioritize needs\, review and discuss the proposed goals and strategies\, geographic priorities\, guiding principles\, and provide feedback on recommended changes.  \nIf you would like to join this meeting virtually\, please use this link: https://us02web.zoom.us/j/81258946571 \nRSVP to Elisha Harig-Blaine at eharig-blaine@acdsinc.org
URL:https://acdsinc.org/event/public-hearing-5-year-conplan-fy2026-budget-process-2/
LOCATION:Independence Conference Room\, 2664 Riva Road\, Annapolis\, Maryland\, 21401
GEO:38.975029;-76.561776
X-APPLE-STRUCTURED-LOCATION;VALUE=URI;X-ADDRESS=Independence Conference Room 2664 Riva Road Annapolis Maryland 21401;X-APPLE-RADIUS=500;X-TITLE=2664 Riva Road:geo:-76.561776,38.975029
END:VEVENT
END:VCALENDAR