BEGIN:VCALENDAR
VERSION:2.0
PRODID:-//Arundel Community Development Services, Inc. - ECPv6.15.20//NONSGML v1.0//EN
CALSCALE:GREGORIAN
METHOD:PUBLISH
X-WR-CALNAME:Arundel Community Development Services, Inc.
X-ORIGINAL-URL:https://acdsinc.org
X-WR-CALDESC:Events for Arundel Community Development Services, Inc.
REFRESH-INTERVAL;VALUE=DURATION:PT1H
X-Robots-Tag:noindex
X-PUBLISHED-TTL:PT1H
BEGIN:VTIMEZONE
TZID:America/New_York
BEGIN:DAYLIGHT
TZOFFSETFROM:-0500
TZOFFSETTO:-0400
TZNAME:EDT
DTSTART:20240310T070000
END:DAYLIGHT
BEGIN:STANDARD
TZOFFSETFROM:-0400
TZOFFSETTO:-0500
TZNAME:EST
DTSTART:20241103T060000
END:STANDARD
BEGIN:DAYLIGHT
TZOFFSETFROM:-0500
TZOFFSETTO:-0400
TZNAME:EDT
DTSTART:20250309T070000
END:DAYLIGHT
BEGIN:STANDARD
TZOFFSETFROM:-0400
TZOFFSETTO:-0500
TZNAME:EST
DTSTART:20251102T060000
END:STANDARD
BEGIN:DAYLIGHT
TZOFFSETFROM:-0500
TZOFFSETTO:-0400
TZNAME:EDT
DTSTART:20260308T070000
END:DAYLIGHT
BEGIN:STANDARD
TZOFFSETFROM:-0400
TZOFFSETTO:-0500
TZNAME:EST
DTSTART:20261101T060000
END:STANDARD
END:VTIMEZONE
BEGIN:VEVENT
DTSTART;TZID=America/New_York:20251107T100000
DTEND;TZID=America/New_York:20251107T110000
DTSTAMP:20260421T035319
CREATED:20230918T153751Z
LAST-MODIFIED:20230918T153751Z
UID:10003198-1762509600-1762513200@acdsinc.org
SUMMARY:CoC Homeless Coalition – Board Meeting
DESCRIPTION:The Anne Arundel and Annapolis Coalition to End Homelessness (the Coalition) is the convening and planning body for Anne Arundel County and the City of Annapolis tasked with promoting community-wide commitment to ending homelessness\, creation of and access to mainstream programs by people experiencing homelessness or at risk of homelessness\, and optimizing self-sufficiency within our community. This group promotes community-wide planning and strategic use of resources to address homelessness and is committed to improving data collection and performance measurement over time. \n  \nCoalition Board Meetings are held semi-monthly on the 1st Friday of the month.  Meeting minutes are available upon request. \n  \nPlease contact Hannah Breakstone at hbreakstone@acds.org or 410-222-3958 to become a member\, add your name to our mailing list\, or receive general meeting notices and minutes.
URL:https://acdsinc.org/event/coc-homeless-coalition-board-meeting-2/2025-11-07/
END:VEVENT
BEGIN:VEVENT
DTSTART;TZID=America/New_York:20251119T180000
DTEND;TZID=America/New_York:20251119T193000
DTSTAMP:20260421T035319
CREATED:20250825T191409Z
LAST-MODIFIED:20250825T191409Z
UID:10003309-1763575200-1763580600@acdsinc.org
SUMMARY:Local Development Council Meeting
DESCRIPTION:The Local Development Council (LDC) is established under the authority of State law in those counties in which a video lottery terminal facility (casino) is located. The Local Development Council’s sole purpose is to advise the County Executive on the needs and priorities of the communities surrounding the Maryland Live! Casino and the expenditure of video lottery terminal funds. \nNovember 19\, 2025 06:00 PM\n\nVirtual Meeting\nhttps://aacounty.zoom.us/j/87235414690?pwd=IboA1vLCGoMEuyK3aCCFFVROv9t3KQ.1\nPasscode: j?+h.X7n
URL:https://acdsinc.org/event/local-development-council-meeting-3/
END:VEVENT
END:VCALENDAR