BEGIN:VCALENDAR
VERSION:2.0
PRODID:-//Arundel Community Development Services, Inc. - ECPv6.15.20//NONSGML v1.0//EN
CALSCALE:GREGORIAN
METHOD:PUBLISH
X-WR-CALNAME:Arundel Community Development Services, Inc.
X-ORIGINAL-URL:https://acdsinc.org
X-WR-CALDESC:Events for Arundel Community Development Services, Inc.
REFRESH-INTERVAL;VALUE=DURATION:PT1H
X-Robots-Tag:noindex
X-PUBLISHED-TTL:PT1H
BEGIN:VTIMEZONE
TZID:America/New_York
BEGIN:DAYLIGHT
TZOFFSETFROM:-0500
TZOFFSETTO:-0400
TZNAME:EDT
DTSTART:20250309T070000
END:DAYLIGHT
BEGIN:STANDARD
TZOFFSETFROM:-0400
TZOFFSETTO:-0500
TZNAME:EST
DTSTART:20251102T060000
END:STANDARD
BEGIN:DAYLIGHT
TZOFFSETFROM:-0500
TZOFFSETTO:-0400
TZNAME:EDT
DTSTART:20260308T070000
END:DAYLIGHT
BEGIN:STANDARD
TZOFFSETFROM:-0400
TZOFFSETTO:-0500
TZNAME:EST
DTSTART:20261101T060000
END:STANDARD
BEGIN:DAYLIGHT
TZOFFSETFROM:-0500
TZOFFSETTO:-0400
TZNAME:EDT
DTSTART:20270314T070000
END:DAYLIGHT
BEGIN:STANDARD
TZOFFSETFROM:-0400
TZOFFSETTO:-0500
TZNAME:EST
DTSTART:20271107T060000
END:STANDARD
END:VTIMEZONE
BEGIN:VEVENT
DTSTART;TZID=America/New_York:20260102T100000
DTEND;TZID=America/New_York:20260102T110000
DTSTAMP:20260419T213214
CREATED:20230918T153751Z
LAST-MODIFIED:20230918T153751Z
UID:10003199-1767348000-1767351600@acdsinc.org
SUMMARY:CoC Homeless Coalition – Board Meeting
DESCRIPTION:The Anne Arundel and Annapolis Coalition to End Homelessness (the Coalition) is the convening and planning body for Anne Arundel County and the City of Annapolis tasked with promoting community-wide commitment to ending homelessness\, creation of and access to mainstream programs by people experiencing homelessness or at risk of homelessness\, and optimizing self-sufficiency within our community. This group promotes community-wide planning and strategic use of resources to address homelessness and is committed to improving data collection and performance measurement over time. \n  \nCoalition Board Meetings are held semi-monthly on the 1st Friday of the month.  Meeting minutes are available upon request. \n  \nPlease contact Hannah Breakstone at hbreakstone@acds.org or 410-222-3958 to become a member\, add your name to our mailing list\, or receive general meeting notices and minutes.
URL:https://acdsinc.org/event/coc-homeless-coalition-board-meeting-2/2026-01-02/
END:VEVENT
BEGIN:VEVENT
DTSTART;TZID=America/New_York:20260107T180000
DTEND;TZID=America/New_York:20260107T193000
DTSTAMP:20260419T213214
CREATED:20260106T205955Z
LAST-MODIFIED:20260106T205955Z
UID:10003322-1767808800-1767814200@acdsinc.org
SUMMARY:Homeownership Counseling Program Introduction Class
DESCRIPTION:THIS CLASS IS FULL \nThe Homeownership Counseling Program classes are by invitation only. THOSE WHO DO NOT APPLY WILL NOT BE ALLOWED TO PARTICIPATE. \nTo apply for the next available class please click here and this link will direct you to the Homeownership Counseling Application. To learn more about our Homeownership Counseling program please click here. \nThe Introduction Class is the first session of the Homeownership Counseling Program and helps participants understand the requirements of the program.
URL:https://acdsinc.org/event/homeownership-counseling-program-introduction-class-21-2/
END:VEVENT
BEGIN:VEVENT
DTSTART;TZID=America/New_York:20260114T180000
DTEND;TZID=America/New_York:20260114T193000
DTSTAMP:20260419T213214
CREATED:20260106T210023Z
LAST-MODIFIED:20260106T210023Z
UID:10003323-1768413600-1768419000@acdsinc.org
SUMMARY:Homeownership Counseling Program Introduction Class
DESCRIPTION:THIS CLASS IS FULL \nThe Homeownership Counseling Program classes are by invitation only. THOSE WHO DO NOT APPLY WILL NOT BE ALLOWED TO PARTICIPATE. \nTo apply for the next available class please click here and this link will direct you to the Homeownership Counseling Application. To learn more about our Homeownership Counseling program please click here. \nThe Introduction Class is the first session of the Homeownership Counseling Program and helps participants understand the requirements of the program.
URL:https://acdsinc.org/event/homeownership-counseling-program-introduction-class-22/
END:VEVENT
BEGIN:VEVENT
DTSTART;TZID=America/New_York:20260121T180000
DTEND;TZID=America/New_York:20260121T193000
DTSTAMP:20260419T213214
CREATED:20250825T192120Z
LAST-MODIFIED:20250825T192120Z
UID:10003311-1769018400-1769023800@acdsinc.org
SUMMARY:Local Development Council Meeting
DESCRIPTION:The Local Development Council (LDC) is established under the authority of State law in those counties in which a video lottery terminal facility (casino) is located. The Local Development Council’s sole purpose is to advise the County Executive on the needs and priorities of the communities surrounding the Maryland Live! Casino and the expenditure of video lottery terminal funds. \n  \nJan 21\, 2026 06:00 PM\nHybrid meeting\nIn-person location: Severn Library – 2624 Annapolis Rd\, Severn\, MD 21144\nZoom:  https://aacounty.zoom.us/j/87235414690?pwd=IboA1vLCGoMEuyK3aCCFFVROv9t3KQ.1\nPasscode: j?+h.X7n
URL:https://acdsinc.org/event/local-development-council-meeting-4/
END:VEVENT
BEGIN:VEVENT
DTSTART;TZID=America/New_York:20260122T133000
DTEND;TZID=America/New_York:20260122T150000
DTSTAMP:20260419T213214
CREATED:20251203T155739Z
LAST-MODIFIED:20251203T155739Z
UID:10003321-1769088600-1769094000@acdsinc.org
SUMMARY:Plan for the Future: Will and Estate Planning Info Session
DESCRIPTION:To register for the FREE event and receive the Zoom link\, email ldeluca@acdsinc.org.
URL:https://acdsinc.org/event/plan-for-the-future-will-and-estate-planning-info-session/
LOCATION:Zoom Call
END:VEVENT
BEGIN:VEVENT
DTSTART;TZID=America/New_York:20260127T160000
DTEND;TZID=America/New_York:20260127T190000
DTSTAMP:20260419T213214
CREATED:20260106T210203Z
LAST-MODIFIED:20260106T210203Z
UID:10003326-1769529600-1769540400@acdsinc.org
SUMMARY:Homeownership Counseling Workshop Part I
DESCRIPTION:The Homeownership Counseling Program classes are by invitation only. \nTHOSE WHO DO NOT APPLY WILL NOT BE ALLOWED TO PARTICIPATE. \nTo being the programs please click here and this link will direct you to the Homeownership Counseling Application. To learn more about our Homeownership Counseling program please click here.
URL:https://acdsinc.org/event/homeownership-counseling-workshop-part-i-3/
LOCATION:Virtual
ORGANIZER;CN="Arundel Community Development Services%2C Inc.":MAILTO:info@acdsinc.org
END:VEVENT
BEGIN:VEVENT
DTSTART;TZID=America/New_York:20260129T160000
DTEND;TZID=America/New_York:20260129T190000
DTSTAMP:20260419T213214
CREATED:20260106T210306Z
LAST-MODIFIED:20260106T210306Z
UID:10003328-1769702400-1769713200@acdsinc.org
SUMMARY:Homeownership Counseling Workshop Part II
DESCRIPTION:The Homeownership Counseling Program classes are by invitation only. \nTHOSE WHO DO NOT APPLY WILL NOT BE ALLOWED TO PARTICIPATE. \nTo being the programs please click here and this link will direct you to the Homeownership Counseling Application. To learn more about our Homeownership Counseling program please click here.
URL:https://acdsinc.org/event/homeownership-counseling-workshop-part-ii-2-2-3-2-2/
LOCATION:Virtual
ORGANIZER;CN="Arundel Community Development Services%2C Inc.":MAILTO:info@acdsinc.org
END:VEVENT
END:VCALENDAR