BEGIN:VCALENDAR
VERSION:2.0
PRODID:-//Arundel Community Development Services, Inc. - ECPv6.15.20//NONSGML v1.0//EN
CALSCALE:GREGORIAN
METHOD:PUBLISH
X-WR-CALNAME:Arundel Community Development Services, Inc.
X-ORIGINAL-URL:https://acdsinc.org
X-WR-CALDESC:Events for Arundel Community Development Services, Inc.
REFRESH-INTERVAL;VALUE=DURATION:PT1H
X-Robots-Tag:noindex
X-PUBLISHED-TTL:PT1H
BEGIN:VTIMEZONE
TZID:America/New_York
BEGIN:DAYLIGHT
TZOFFSETFROM:-0500
TZOFFSETTO:-0400
TZNAME:EDT
DTSTART:20250309T070000
END:DAYLIGHT
BEGIN:STANDARD
TZOFFSETFROM:-0400
TZOFFSETTO:-0500
TZNAME:EST
DTSTART:20251102T060000
END:STANDARD
BEGIN:DAYLIGHT
TZOFFSETFROM:-0500
TZOFFSETTO:-0400
TZNAME:EDT
DTSTART:20260308T070000
END:DAYLIGHT
BEGIN:STANDARD
TZOFFSETFROM:-0400
TZOFFSETTO:-0500
TZNAME:EST
DTSTART:20261101T060000
END:STANDARD
BEGIN:DAYLIGHT
TZOFFSETFROM:-0500
TZOFFSETTO:-0400
TZNAME:EDT
DTSTART:20270314T070000
END:DAYLIGHT
BEGIN:STANDARD
TZOFFSETFROM:-0400
TZOFFSETTO:-0500
TZNAME:EST
DTSTART:20271107T060000
END:STANDARD
END:VTIMEZONE
BEGIN:VEVENT
DTSTART;TZID=America/New_York:20260304T180000
DTEND;TZID=America/New_York:20260304T193000
DTSTAMP:20260419T213212
CREATED:20260220T195118Z
LAST-MODIFIED:20260220T195118Z
UID:10003330-1772647200-1772652600@acdsinc.org
SUMMARY:Homeownership Counseling Program Introduction Class
DESCRIPTION:THIS CLASS IS FULL \nThe Homeownership Counseling Program classes are by invitation only. THOSE WHO DO NOT APPLY WILL NOT BE ALLOWED TO PARTICIPATE. \nTo apply for the next available class please click here and this link will direct you to the Homeownership Counseling Application. To learn more about our Homeownership Counseling program please click here. \nThe Introduction Class is the first session of the Homeownership Counseling Program and helps participants understand the requirements of the program.
URL:https://acdsinc.org/event/homeownership-counseling-program-introduction-class-25/
END:VEVENT
BEGIN:VEVENT
DTSTART;TZID=America/New_York:20260304T183000
DTEND;TZID=America/New_York:20260304T200000
DTSTAMP:20260419T213212
CREATED:20250825T200310Z
LAST-MODIFIED:20250825T200310Z
UID:10003317-1772649000-1772654400@acdsinc.org
SUMMARY:Laurel Race Course Impact Fund Advisory Committee Meeting
DESCRIPTION:The Laurel Race Course Impact Fund Advisory Committee is an advisory body that advises the County Executive on the distribution of grant funds received from the Special Fund for the area surrounding the Laurel Race Course. \n  \nVirtual Meeting\nWednesday\, March 4\, 2026 at 6:30pm\nZoom: https://aacounty.zoom.us/j/83327596656?pwd=UbOAonnGxR8tYHAcjFrpcxjgqlI0V4.1\nPasscode: EgV#r5G6\n \n 
URL:https://acdsinc.org/event/laurel-race-course-impact-fund-advisory-committee-meeting-3/
END:VEVENT
BEGIN:VEVENT
DTSTART;TZID=America/New_York:20260306T100000
DTEND;TZID=America/New_York:20260306T110000
DTSTAMP:20260419T213212
CREATED:20230918T153751Z
LAST-MODIFIED:20230918T153751Z
UID:10003200-1772791200-1772794800@acdsinc.org
SUMMARY:CoC Homeless Coalition – Board Meeting
DESCRIPTION:The Anne Arundel and Annapolis Coalition to End Homelessness (the Coalition) is the convening and planning body for Anne Arundel County and the City of Annapolis tasked with promoting community-wide commitment to ending homelessness\, creation of and access to mainstream programs by people experiencing homelessness or at risk of homelessness\, and optimizing self-sufficiency within our community. This group promotes community-wide planning and strategic use of resources to address homelessness and is committed to improving data collection and performance measurement over time. \n  \nCoalition Board Meetings are held semi-monthly on the 1st Friday of the month.  Meeting minutes are available upon request. \n  \nPlease contact Hannah Breakstone at hbreakstone@acds.org or 410-222-3958 to become a member\, add your name to our mailing list\, or receive general meeting notices and minutes.
URL:https://acdsinc.org/event/coc-homeless-coalition-board-meeting-2/2026-03-06/
END:VEVENT
BEGIN:VEVENT
DTSTART;TZID=America/New_York:20260311T183000
DTEND;TZID=America/New_York:20260311T200000
DTSTAMP:20260419T213212
CREATED:20250825T200353Z
LAST-MODIFIED:20250825T200353Z
UID:10003318-1773253800-1773259200@acdsinc.org
SUMMARY:Laurel Race Course Impact Fund Advisory Committee Meeting
DESCRIPTION:The Laurel Race Course Impact Fund Advisory Committee is an advisory body that advises the County Executive on the distribution of grant funds received from the Special Fund for the area surrounding the Laurel Race Course. \n  \nVirtual Meeting\nWednesday\, March 11\, 2026 at 6:30pm\nZoom: https://aacounty.zoom.us/j/89473898138?pwd=AAuVl8lSr2DhVYpJxSM0ba2LaZeAeS.1\nPasscode:  ^a%Ah6CH\n \n 
URL:https://acdsinc.org/event/laurel-race-course-impact-fund-advisory-committee-meeting-4/
END:VEVENT
BEGIN:VEVENT
DTSTART;TZID=America/New_York:20260318T180000
DTEND;TZID=America/New_York:20260318T193000
DTSTAMP:20260419T213212
CREATED:20250825T193753Z
LAST-MODIFIED:20250825T193753Z
UID:10003312-1773856800-1773862200@acdsinc.org
SUMMARY:Local Development Council Meeting
DESCRIPTION:The Local Development Council (LDC) is established under the authority of State law in those counties in which a video lottery terminal facility (casino) is located. The Local Development Council’s sole purpose is to advise the County Executive on the needs and priorities of the communities surrounding the Maryland Live! Casino and the expenditure of video lottery terminal funds. \n  \nMarch 18\, 2026 06:00 PM\nHybrid meeting\nIn-person location: Severn Library – 2624 Annapolis Rd\, Severn\, MD 21144\nZoom:  https://aacounty.zoom.us/j/87235414690?pwd=IboA1vLCGoMEuyK3aCCFFVROv9t3KQ.1\nPasscode: j?+h.X7n
URL:https://acdsinc.org/event/local-development-council-meeting-6/
END:VEVENT
BEGIN:VEVENT
DTSTART;TZID=America/New_York:20260324T160000
DTEND;TZID=America/New_York:20260324T190000
DTSTAMP:20260419T213212
CREATED:20260220T195312Z
LAST-MODIFIED:20260220T195312Z
UID:10003331-1774368000-1774378800@acdsinc.org
SUMMARY:Homeownership Counseling Workshop Part I
DESCRIPTION:The Homeownership Counseling Program classes are by invitation only. \nTHOSE WHO DO NOT APPLY WILL NOT BE ALLOWED TO PARTICIPATE. \nTo being the programs please click here and this link will direct you to the Homeownership Counseling Application. To learn more about our Homeownership Counseling program please click here.
URL:https://acdsinc.org/event/homeownership-counseling-workshop-part-i-5/
LOCATION:Virtual
ORGANIZER;CN="Arundel Community Development Services%2C Inc.":MAILTO:info@acdsinc.org
END:VEVENT
BEGIN:VEVENT
DTSTART;TZID=America/New_York:20260325T183000
DTEND;TZID=America/New_York:20260325T200000
DTSTAMP:20260419T213212
CREATED:20250825T200525Z
LAST-MODIFIED:20250825T200525Z
UID:10003319-1774463400-1774468800@acdsinc.org
SUMMARY:Laurel Race Course Impact Fund Advisory Committee Meeting
DESCRIPTION:The Laurel Race Course Impact Fund Advisory Committee is an advisory body that advises the County Executive on the distribution of grant funds received from the Special Fund for the area surrounding the Laurel Race Course. \n  \n\nThis meeting will be hybrid. Location is TBD\nWednesday\, March 25\, 2026 at 6:30 pm\nZoom: https://aacounty.zoom.us/j/89987546797?pwd=uzTrSy9DmCuPx83bokNSsh9ei4TahD.1\nPasscode:  MGQj!i49\n  \n 
URL:https://acdsinc.org/event/laurel-race-course-impact-fund-advisory-committee-meeting-5/
END:VEVENT
BEGIN:VEVENT
DTSTART;TZID=America/New_York:20260326T160000
DTEND;TZID=America/New_York:20260326T190000
DTSTAMP:20260419T213212
CREATED:20260220T195356Z
LAST-MODIFIED:20260220T195356Z
UID:10003332-1774540800-1774551600@acdsinc.org
SUMMARY:Homeownership Counseling Workshop Part II
DESCRIPTION:The Homeownership Counseling Program classes are by invitation only. \nTHOSE WHO DO NOT APPLY WILL NOT BE ALLOWED TO PARTICIPATE. \nTo being the programs please click here and this link will direct you to the Homeownership Counseling Application. To learn more about our Homeownership Counseling program please click here.
URL:https://acdsinc.org/event/homeownership-counseling-workshop-part-ii-3/
LOCATION:Virtual
ORGANIZER;CN="Arundel Community Development Services%2C Inc.":MAILTO:info@acdsinc.org
END:VEVENT
END:VCALENDAR