BEGIN:VCALENDAR
VERSION:2.0
PRODID:-//Arundel Community Development Services, Inc. - ECPv6.15.20//NONSGML v1.0//EN
CALSCALE:GREGORIAN
METHOD:PUBLISH
X-WR-CALNAME:Arundel Community Development Services, Inc.
X-ORIGINAL-URL:https://acdsinc.org
X-WR-CALDESC:Events for Arundel Community Development Services, Inc.
REFRESH-INTERVAL;VALUE=DURATION:PT1H
X-Robots-Tag:noindex
X-PUBLISHED-TTL:PT1H
BEGIN:VTIMEZONE
TZID:America/New_York
BEGIN:DAYLIGHT
TZOFFSETFROM:-0500
TZOFFSETTO:-0400
TZNAME:EDT
DTSTART:20180311T070000
END:DAYLIGHT
BEGIN:STANDARD
TZOFFSETFROM:-0400
TZOFFSETTO:-0500
TZNAME:EST
DTSTART:20181104T060000
END:STANDARD
BEGIN:DAYLIGHT
TZOFFSETFROM:-0500
TZOFFSETTO:-0400
TZNAME:EDT
DTSTART:20190310T070000
END:DAYLIGHT
BEGIN:STANDARD
TZOFFSETFROM:-0400
TZOFFSETTO:-0500
TZNAME:EST
DTSTART:20191103T060000
END:STANDARD
BEGIN:DAYLIGHT
TZOFFSETFROM:-0500
TZOFFSETTO:-0400
TZNAME:EDT
DTSTART:20200308T070000
END:DAYLIGHT
BEGIN:STANDARD
TZOFFSETFROM:-0400
TZOFFSETTO:-0500
TZNAME:EST
DTSTART:20201101T060000
END:STANDARD
END:VTIMEZONE
BEGIN:VEVENT
DTSTART;TZID=America/New_York:20190130T100000
DTEND;TZID=America/New_York:20190130T120000
DTSTAMP:20260420T211617
CREATED:20190103T185907Z
LAST-MODIFIED:20190103T185907Z
UID:10002910-1548842400-1548849600@acdsinc.org
SUMMARY:Youth Homelessness Working Group
DESCRIPTION:
URL:https://acdsinc.org/event/youth-homelessness-working-group-2/
END:VEVENT
BEGIN:VEVENT
DTSTART;TZID=America/New_York:20190201T100000
DTEND;TZID=America/New_York:20190201T113000
DTSTAMP:20260420T211617
CREATED:20190103T184459Z
LAST-MODIFIED:20190604T143423Z
UID:10002897-1549015200-1549020600@acdsinc.org
SUMMARY:Continuum of Care (CoC) Board Meeting
DESCRIPTION:
URL:https://acdsinc.org/event/continuum-of-care-coc-board-meeting/2019-02-01/
END:VEVENT
END:VCALENDAR