BEGIN:VCALENDAR
VERSION:2.0
PRODID:-//Arundel Community Development Services, Inc. - ECPv6.15.20//NONSGML v1.0//EN
CALSCALE:GREGORIAN
METHOD:PUBLISH
X-WR-CALNAME:Arundel Community Development Services, Inc.
X-ORIGINAL-URL:https://acdsinc.org
X-WR-CALDESC:Events for Arundel Community Development Services, Inc.
REFRESH-INTERVAL;VALUE=DURATION:PT1H
X-Robots-Tag:noindex
X-PUBLISHED-TTL:PT1H
BEGIN:VTIMEZONE
TZID:America/New_York
BEGIN:DAYLIGHT
TZOFFSETFROM:-0500
TZOFFSETTO:-0400
TZNAME:EDT
DTSTART:20180311T070000
END:DAYLIGHT
BEGIN:STANDARD
TZOFFSETFROM:-0400
TZOFFSETTO:-0500
TZNAME:EST
DTSTART:20181104T060000
END:STANDARD
BEGIN:DAYLIGHT
TZOFFSETFROM:-0500
TZOFFSETTO:-0400
TZNAME:EDT
DTSTART:20190310T070000
END:DAYLIGHT
BEGIN:STANDARD
TZOFFSETFROM:-0400
TZOFFSETTO:-0500
TZNAME:EST
DTSTART:20191103T060000
END:STANDARD
BEGIN:DAYLIGHT
TZOFFSETFROM:-0500
TZOFFSETTO:-0400
TZNAME:EDT
DTSTART:20200308T070000
END:DAYLIGHT
BEGIN:STANDARD
TZOFFSETFROM:-0400
TZOFFSETTO:-0500
TZNAME:EST
DTSTART:20201101T060000
END:STANDARD
END:VTIMEZONE
BEGIN:VEVENT
DTSTART;TZID=America/New_York:20190204T120000
DTEND;TZID=America/New_York:20190204T120000
DTSTAMP:20260421T065355
CREATED:20190130T164332Z
LAST-MODIFIED:20190130T164332Z
UID:10002920-1549281600-1549281600@acdsinc.org
SUMMARY:Spring Meadows Roof Covering Replacement Project Bid Opening
DESCRIPTION:Proposals for the provision of roof covering replacement project will be read at this time. \n  \nFor Contractor Opportunities please click here.
URL:https://acdsinc.org/event/spring-meadows-roof-covering-replacement-project-bid-opening/
LOCATION:Arundel Community Development Services\, Inc.\, 2666 Riva Road\, Suite 210\, Annapolis\, MD\, 21401\, United States
ORGANIZER;CN="Chris Maruyama":MAILTO:cmaruyama@acdsinc.org
GEO:38.9746862;-76.5612782
X-APPLE-STRUCTURED-LOCATION;VALUE=URI;X-ADDRESS=Arundel Community Development Services Inc. 2666 Riva Road Suite 210 Annapolis MD 21401 United States;X-APPLE-RADIUS=500;X-TITLE=2666 Riva Road\, Suite 210:geo:-76.5612782,38.9746862
END:VEVENT
BEGIN:VEVENT
DTSTART;TZID=America/New_York:20190204T190000
DTEND;TZID=America/New_York:20190204T203000
DTSTAMP:20260421T065356
CREATED:20190122T173012Z
LAST-MODIFIED:20190122T173012Z
UID:10002918-1549306800-1549312200@acdsinc.org
SUMMARY:Preparing for the 2019 Tax Season
DESCRIPTION:  \nCASH Campaign of Maryland will be hosting a free in-person financial class which will discuss how to minimize you taxes and maximize your refund. Also\, will discuss the new tax law changes. \n  \nTo register please visit their website at http://mdcashacademy.org.
URL:https://acdsinc.org/event/preparing-for-the-2019-tax-season/
LOCATION:Crofton Community Library\, 1681 Riedel Road\, Crofton\, MD\, 21114\, United States
GEO:39.0134896;-76.6793921
X-APPLE-STRUCTURED-LOCATION;VALUE=URI;X-ADDRESS=Crofton Community Library 1681 Riedel Road Crofton MD 21114 United States;X-APPLE-RADIUS=500;X-TITLE=1681 Riedel Road:geo:-76.6793921,39.0134896
END:VEVENT
BEGIN:VEVENT
DTSTART;TZID=America/New_York:20190207T100000
DTEND;TZID=America/New_York:20190207T133000
DTSTAMP:20260421T065356
CREATED:20190206T210604Z
LAST-MODIFIED:20190206T210604Z
UID:10002716-1549533600-1549546200@acdsinc.org
SUMMARY:Community Development Day in Annapolis
DESCRIPTION:ACDS staff will be attending and promoting our programs. Click here for more information.
URL:https://acdsinc.org/event/community-development-day-in-annapolis/
LOCATION:Lowe House Office Building\, 6 Bladen Street\, Annapolis\, Maryland\, 21401
GEO:38.980449;-76.4925943
X-APPLE-STRUCTURED-LOCATION;VALUE=URI;X-ADDRESS=Lowe House Office Building 6 Bladen Street Annapolis Maryland 21401;X-APPLE-RADIUS=500;X-TITLE=6 Bladen Street:geo:-76.4925943,38.980449
END:VEVENT
END:VCALENDAR