BEGIN:VCALENDAR
VERSION:2.0
PRODID:-//Arundel Community Development Services, Inc. - ECPv6.15.20//NONSGML v1.0//EN
CALSCALE:GREGORIAN
METHOD:PUBLISH
X-WR-CALNAME:Arundel Community Development Services, Inc.
X-ORIGINAL-URL:https://acdsinc.org
X-WR-CALDESC:Events for Arundel Community Development Services, Inc.
REFRESH-INTERVAL;VALUE=DURATION:PT1H
X-Robots-Tag:noindex
X-PUBLISHED-TTL:PT1H
BEGIN:VTIMEZONE
TZID:America/New_York
BEGIN:DAYLIGHT
TZOFFSETFROM:-0500
TZOFFSETTO:-0400
TZNAME:EDT
DTSTART:20180311T070000
END:DAYLIGHT
BEGIN:STANDARD
TZOFFSETFROM:-0400
TZOFFSETTO:-0500
TZNAME:EST
DTSTART:20181104T060000
END:STANDARD
BEGIN:DAYLIGHT
TZOFFSETFROM:-0500
TZOFFSETTO:-0400
TZNAME:EDT
DTSTART:20190310T070000
END:DAYLIGHT
BEGIN:STANDARD
TZOFFSETFROM:-0400
TZOFFSETTO:-0500
TZNAME:EST
DTSTART:20191103T060000
END:STANDARD
BEGIN:DAYLIGHT
TZOFFSETFROM:-0500
TZOFFSETTO:-0400
TZNAME:EDT
DTSTART:20200308T070000
END:DAYLIGHT
BEGIN:STANDARD
TZOFFSETFROM:-0400
TZOFFSETTO:-0500
TZNAME:EST
DTSTART:20201101T060000
END:STANDARD
END:VTIMEZONE
BEGIN:VEVENT
DTSTART;VALUE=DATE:20190212
DTEND;VALUE=DATE:20190213
DTSTAMP:20260421T162643
CREATED:20190122T171909Z
LAST-MODIFIED:20190206T210802Z
UID:10002917-1549929600-1550015999@acdsinc.org
SUMMARY:RESCHEDULED:  Homeownership Workshop Class Pt II
DESCRIPTION:ALERT: Due to inclement weather ACDS Homeownership Counseling Workshop class for Tuesday\, January 29\, 2019 has been cancelled. The class has been rescheduled for Tuesday\, February 12\, 2019. We apologize for the inconvenience. \n  \nTHIS CLASS IS FULL \nThe Homeownership Counseling Program classes are by invitation only. THOSE WHO DO NOT APPLY WILL NOT BE ALLOWED TO PARTICIPATE.To apply for the next available class please click here and this link will direct you to the Homeownership Counseling Application. To learn more about our Homeownership Counseling program please click here. \nThis Workshop Class is the forth session of the Homeownership Counseling Program.
URL:https://acdsinc.org/event/rescheduled-homeownership-workshop-class-pt-ii/
END:VEVENT
BEGIN:VEVENT
DTSTART;TZID=America/New_York:20190214T080000
DTEND;TZID=America/New_York:20190214T120000
DTSTAMP:20260421T162643
CREATED:20190103T190625Z
LAST-MODIFIED:20190103T190625Z
UID:10002911-1550131200-1550145600@acdsinc.org
SUMMARY:Maryland Affordable Housing Coalition (MAHC) - Housing Day in Annapolis
DESCRIPTION:
URL:https://acdsinc.org/event/maryland-affordable-housing-coalition-mahc-housing-day-in-annapolis/
END:VEVENT
BEGIN:VEVENT
DTSTART;TZID=America/New_York:20190215T120000
DTEND;TZID=America/New_York:20190215T120000
DTSTAMP:20260421T162643
CREATED:20190208T213635Z
LAST-MODIFIED:20190208T213635Z
UID:10002718-1550232000-1550232000@acdsinc.org
SUMMARY:Spring Meadows Roof Replacement Project Bid Opening
DESCRIPTION:Proposals for a roof replacement project will be read at this time. \nFor Contractor Opportunities please click here.
URL:https://acdsinc.org/event/spring-meadows-roof-replacement-project-bid-opening/
LOCATION:Arundel Community Development Services\, Inc.\, 2666 Riva Road\, Suite 210\, Annapolis\, MD\, 21401\, United States
ORGANIZER;CN="Chris Maruyama":MAILTO:cmaruyama@acdsinc.org
GEO:38.9746862;-76.5612782
X-APPLE-STRUCTURED-LOCATION;VALUE=URI;X-ADDRESS=Arundel Community Development Services Inc. 2666 Riva Road Suite 210 Annapolis MD 21401 United States;X-APPLE-RADIUS=500;X-TITLE=2666 Riva Road\, Suite 210:geo:-76.5612782,38.9746862
END:VEVENT
BEGIN:VEVENT
DTSTART;TZID=America/New_York:20190215T120000
DTEND;TZID=America/New_York:20190215T120000
DTSTAMP:20260421T162643
CREATED:20190208T214106Z
LAST-MODIFIED:20190208T214106Z
UID:10002720-1550232000-1550232000@acdsinc.org
SUMMARY:Rental Maintenance Turnover Bid Opening
DESCRIPTION:Proposals for a Maintenance and Repair Project located at 5105 Brookwood Road\, Baltimore\, MD 21225 offering general contracting services will be read at this time. \nFor Contractor Opportunities please click here.
URL:https://acdsinc.org/event/rental-maintenance-turnover-bid-opening/
LOCATION:Arundel Community Development Services\, Inc.\, 2666 Riva Road\, Suite 210\, Annapolis\, MD\, 21401\, United States
ORGANIZER;CN="David Andrews":MAILTO:dandrews@acdsinc.org
GEO:38.9746862;-76.5612782
X-APPLE-STRUCTURED-LOCATION;VALUE=URI;X-ADDRESS=Arundel Community Development Services Inc. 2666 Riva Road Suite 210 Annapolis MD 21401 United States;X-APPLE-RADIUS=500;X-TITLE=2666 Riva Road\, Suite 210:geo:-76.5612782,38.9746862
END:VEVENT
END:VCALENDAR