BEGIN:VCALENDAR
VERSION:2.0
PRODID:-//Arundel Community Development Services, Inc. - ECPv6.15.20//NONSGML v1.0//EN
CALSCALE:GREGORIAN
METHOD:PUBLISH
X-WR-CALNAME:Arundel Community Development Services, Inc.
X-ORIGINAL-URL:https://acdsinc.org
X-WR-CALDESC:Events for Arundel Community Development Services, Inc.
REFRESH-INTERVAL;VALUE=DURATION:PT1H
X-Robots-Tag:noindex
X-PUBLISHED-TTL:PT1H
BEGIN:VTIMEZONE
TZID:America/New_York
BEGIN:DAYLIGHT
TZOFFSETFROM:-0500
TZOFFSETTO:-0400
TZNAME:EDT
DTSTART:20180311T070000
END:DAYLIGHT
BEGIN:STANDARD
TZOFFSETFROM:-0400
TZOFFSETTO:-0500
TZNAME:EST
DTSTART:20181104T060000
END:STANDARD
BEGIN:DAYLIGHT
TZOFFSETFROM:-0500
TZOFFSETTO:-0400
TZNAME:EDT
DTSTART:20190310T070000
END:DAYLIGHT
BEGIN:STANDARD
TZOFFSETFROM:-0400
TZOFFSETTO:-0500
TZNAME:EST
DTSTART:20191103T060000
END:STANDARD
BEGIN:DAYLIGHT
TZOFFSETFROM:-0500
TZOFFSETTO:-0400
TZNAME:EDT
DTSTART:20200308T070000
END:DAYLIGHT
BEGIN:STANDARD
TZOFFSETFROM:-0400
TZOFFSETTO:-0500
TZNAME:EST
DTSTART:20201101T060000
END:STANDARD
END:VTIMEZONE
BEGIN:VEVENT
DTSTART;VALUE=DATE:20190319
DTEND;VALUE=DATE:20190320
DTSTAMP:20260425T202108
CREATED:20190304T210549Z
LAST-MODIFIED:20190304T210549Z
UID:10002927-1552953600-1553039999@acdsinc.org
SUMMARY:Homeownership Counseling Program Workshop Class Pt. I
DESCRIPTION:THIS CLASS IS FULL \nThe Homeownership Counseling Program classes are by invitation only. THOSE WHO DO NOT APPLY WILL NOT BE ALLOWED TO PARTICIPATE. \nTo apply for the next available class please click here and this link will direct you to the Homeownership Counseling Application. To learn more about our Homeownership Counseling program please click here. \nThis Workshop Class is the third session of the Homeownership Counseling Program.
URL:https://acdsinc.org/event/homeownership-counseling-program-workshop-class-pt-i/
END:VEVENT
BEGIN:VEVENT
DTSTART;TZID=America/New_York:20190320T180000
DTEND;TZID=America/New_York:20190320T200000
DTSTAMP:20260425T202108
CREATED:20181005T194921Z
LAST-MODIFIED:20200521T185229Z
UID:10002846-1553104800-1553112000@acdsinc.org
SUMMARY:Local Development Council Monthly Meeting
DESCRIPTION:All meetings are held at the Harmans Community Room at Arundel Mills Mall and begin at 6pm. \nNote: In the event of inclement weather\, we will follow Anne Arundel County Public Schools’ closures.  If evening activities/meetings are cancelled due to weather\, the LDC will not hold its meeting.  AACPS announcements can be found by clicking here.
URL:https://acdsinc.org/event/local-development-council-monthly-meeting/2019-03-20/
LOCATION:MD\, United States
GEO:39.0457549;-76.6412712
END:VEVENT
BEGIN:VEVENT
DTSTART;TZID=America/New_York:20190320T180000
DTEND;TZID=America/New_York:20190320T200000
DTSTAMP:20260425T202108
CREATED:20221116T195902Z
LAST-MODIFIED:20221116T195902Z
UID:10002862-1553104800-1553112000@acdsinc.org
SUMMARY:Local Development Council Monthly Meeting
DESCRIPTION:All meetings are held at the Harmans Community Room at Arundel Mills Mall and begin at 6pm. \nNote: In the event of inclement weather\, we will follow Anne Arundel County Public Schools’ closures.  If evening activities/meetings are cancelled due to weather\, the LDC will not hold its meeting.  AACPS announcements can be found by clicking here.
URL:https://acdsinc.org/event/local-development-council-monthly-meeting/2019-03-20/
LOCATION:MD\, United States
GEO:39.0457549;-76.6412712
END:VEVENT
BEGIN:VEVENT
DTSTART;VALUE=DATE:20190321
DTEND;VALUE=DATE:20190322
DTSTAMP:20260425T202108
CREATED:20190304T210819Z
LAST-MODIFIED:20190304T210819Z
UID:10002928-1553126400-1553212799@acdsinc.org
SUMMARY:Homeownership Counseling Program Workshop Class Pt. II
DESCRIPTION:THIS CLASS IS FULL \nThe Homeownership Counseling Program classes are by invitation only. THOSE WHO DO NOT APPLY WILL NOT BE ALLOWED TO PARTICIPATE. \nTo apply for the next available class please click here and this link will direct you to the Homeownership Counseling Application. To learn more about our Homeownership Counseling program please click here.\nThis Workshop Class is the third session of the Homeownership Counseling Program.
URL:https://acdsinc.org/event/homeownership-counseling-program-workshop-class-pt-ii/
END:VEVENT
BEGIN:VEVENT
DTSTART;TZID=America/New_York:20190322T120000
DTEND;TZID=America/New_York:20190322T120000
DTSTAMP:20260425T202108
CREATED:20190307T151729Z
LAST-MODIFIED:20190307T151729Z
UID:10002930-1553256000-1553256000@acdsinc.org
SUMMARY:Property Rehab Bid Opening
DESCRIPTION:Proposals for a Property Rehab Case offering general contracting services will be read at this time. \nFor Contractor Opportunities please click here.
URL:https://acdsinc.org/event/property-rehab-bid-opening-56/
LOCATION:Arundel Community Development Services\, Inc.\, 2666 Riva Road\, Suite 210\, Annapolis\, MD\, 21401\, United States
ORGANIZER;CN="George Leslie":MAILTO:gleslie@acdsinc.org
GEO:38.9746862;-76.5612782
X-APPLE-STRUCTURED-LOCATION;VALUE=URI;X-ADDRESS=Arundel Community Development Services Inc. 2666 Riva Road Suite 210 Annapolis MD 21401 United States;X-APPLE-RADIUS=500;X-TITLE=2666 Riva Road\, Suite 210:geo:-76.5612782,38.9746862
END:VEVENT
END:VCALENDAR