BEGIN:VCALENDAR
VERSION:2.0
PRODID:-//Arundel Community Development Services, Inc. - ECPv6.15.20//NONSGML v1.0//EN
CALSCALE:GREGORIAN
METHOD:PUBLISH
X-ORIGINAL-URL:https://acdsinc.org
X-WR-CALDESC:Events for Arundel Community Development Services, Inc.
REFRESH-INTERVAL;VALUE=DURATION:PT1H
X-Robots-Tag:noindex
X-PUBLISHED-TTL:PT1H
BEGIN:VTIMEZONE
TZID:America/New_York
BEGIN:DAYLIGHT
TZOFFSETFROM:-0500
TZOFFSETTO:-0400
TZNAME:EDT
DTSTART:20190310T070000
END:DAYLIGHT
BEGIN:STANDARD
TZOFFSETFROM:-0400
TZOFFSETTO:-0500
TZNAME:EST
DTSTART:20191103T060000
END:STANDARD
BEGIN:DAYLIGHT
TZOFFSETFROM:-0500
TZOFFSETTO:-0400
TZNAME:EDT
DTSTART:20200308T070000
END:DAYLIGHT
BEGIN:STANDARD
TZOFFSETFROM:-0400
TZOFFSETTO:-0500
TZNAME:EST
DTSTART:20201101T060000
END:STANDARD
BEGIN:DAYLIGHT
TZOFFSETFROM:-0500
TZOFFSETTO:-0400
TZNAME:EDT
DTSTART:20210314T070000
END:DAYLIGHT
BEGIN:STANDARD
TZOFFSETFROM:-0400
TZOFFSETTO:-0500
TZNAME:EST
DTSTART:20211107T060000
END:STANDARD
END:VTIMEZONE
BEGIN:VEVENT
DTSTART;TZID=America/New_York:20201029T170000
DTEND;TZID=America/New_York:20201029T183000
DTSTAMP:20260423T063136
CREATED:20190625T173957Z
LAST-MODIFIED:20201002T131934Z
UID:10002955-1603990800-1603996200@acdsinc.org
SUMMARY:1st Public Hearing: County Housing and Community Development Budget Process
DESCRIPTION:This meeting is VIRTUAL: Please RSVP to asmith@acdsinc.org for meeting information. \nArundel Community Development Services\, Inc. (ACDS)\, under contract with Anne Arundel County\, will hold a virtual public hearing to provide residents with information on the Community Development Block Grant (CDBG)\, HOME Investment Partnerships (HOME)\, Emergency Solutions Grant (ESG)\, and Housing Opportunities for Persons with AIDS (HOPWA) Programs and to solicit recommendations for the use of these funds for Local Fiscal Year 2022\, which begins July 1\, 2021.  The budget applications for this process can be found HERE. \nThe hearing will also provide residents with information on FY 2020 accomplishments. \nThe Public will have an opportunity to comment and share information on the housing and community development needs they are seeing in their communities\, including the needs resulting from COVID-19 and make suggestions for the use of CDBG-CV-III and ESG-CV-II to address those needs. This will be a virtual meeting\, please RSVP to asmith@acdsinc.org and you will receive the login information.   \nIf you wish to attend and require a special accommodation (e.g. interpreter for deaf and hard of hearing or an interpreter for persons with limited English proficiency) please contact ekarpewicz@acdsinc.org no later than seven business days prior to the public meeting. \n  \n  \n  \n 
URL:https://acdsinc.org/event/1st-public-hearing-county-housing-and-community-development-budget-process/
END:VEVENT
END:VCALENDAR