BEGIN:VCALENDAR
VERSION:2.0
PRODID:-//Arundel Community Development Services, Inc. - ECPv6.15.20//NONSGML v1.0//EN
CALSCALE:GREGORIAN
METHOD:PUBLISH
X-WR-CALNAME:Arundel Community Development Services, Inc.
X-ORIGINAL-URL:https://acdsinc.org
X-WR-CALDESC:Events for Arundel Community Development Services, Inc.
REFRESH-INTERVAL;VALUE=DURATION:PT1H
X-Robots-Tag:noindex
X-PUBLISHED-TTL:PT1H
BEGIN:VTIMEZONE
TZID:America/New_York
BEGIN:DAYLIGHT
TZOFFSETFROM:-0500
TZOFFSETTO:-0400
TZNAME:EDT
DTSTART:20220313T070000
END:DAYLIGHT
BEGIN:STANDARD
TZOFFSETFROM:-0400
TZOFFSETTO:-0500
TZNAME:EST
DTSTART:20221106T060000
END:STANDARD
BEGIN:DAYLIGHT
TZOFFSETFROM:-0500
TZOFFSETTO:-0400
TZNAME:EDT
DTSTART:20230312T070000
END:DAYLIGHT
BEGIN:STANDARD
TZOFFSETFROM:-0400
TZOFFSETTO:-0500
TZNAME:EST
DTSTART:20231105T060000
END:STANDARD
BEGIN:DAYLIGHT
TZOFFSETFROM:-0500
TZOFFSETTO:-0400
TZNAME:EDT
DTSTART:20240310T070000
END:DAYLIGHT
BEGIN:STANDARD
TZOFFSETFROM:-0400
TZOFFSETTO:-0500
TZNAME:EST
DTSTART:20241103T060000
END:STANDARD
END:VTIMEZONE
BEGIN:VEVENT
DTSTART;TZID=America/New_York:20231011T180000
DTEND;TZID=America/New_York:20231011T190000
DTSTAMP:20260421T143636
CREATED:20230926T172406Z
LAST-MODIFIED:20230926T172413Z
UID:10003126-1697047200-1697050800@acdsinc.org
SUMMARY:Homeownership Counseling Introduction Class
DESCRIPTION:THIS CLASS IS FULL \nThe Homeownership Counseling Program classes are by invitation only. THOSE WHO DO NOT APPLY WILL NOT BE ALLOWED TO PARTICIPATE. \nTo apply for the next available class please click here and this link will direct you to the Homeownership Counseling Application. To learn more about our Homeownership Counseling program please click here. \nThe Introduction Class is the first session of the Homeownership Counseling Program and helps participants understand the requirements of the program.
URL:https://acdsinc.org/event/homeownership-counseling-introduction-class-36-11/
LOCATION:Zoom Call
ORGANIZER;CN="Arundel Community Development Services%2C Inc.":MAILTO:info@acdsinc.org
END:VEVENT
BEGIN:VEVENT
DTSTART;TZID=America/New_York:20231012T180000
DTEND;TZID=America/New_York:20231012T190000
DTSTAMP:20260421T143637
CREATED:20230831T145645Z
LAST-MODIFIED:20230831T145645Z
UID:10003153-1697133600-1697137200@acdsinc.org
SUMMARY:Brooklyn Park Library: Community Resources Learning Series
DESCRIPTION:Learn about resources available in Brooklyn Park that address needs in food\, housing\, and utilities. The Anne Arundel County Food Bank will be providing a free food giveaway at these events. \nArundel Community Development Services will present on their housing resources\, which includes programs for homebuyers\, rehabilitation assistance\, and foreclosure prevention help.
URL:https://acdsinc.org/event/brooklyn-park-library-community-resources-learning-series/
LOCATION:Brooklyn Park Library\, 1 E 11th Ave\, Baltimore\, MD\, 21225\, United States
GEO:39.2230511;-76.6118302
X-APPLE-STRUCTURED-LOCATION;VALUE=URI;X-ADDRESS=Brooklyn Park Library 1 E 11th Ave Baltimore MD 21225 United States;X-APPLE-RADIUS=500;X-TITLE=1 E 11th Ave:geo:-76.6118302,39.2230511
END:VEVENT
END:VCALENDAR