BEGIN:VCALENDAR
VERSION:2.0
PRODID:-//Arundel Community Development Services, Inc. - ECPv6.15.20//NONSGML v1.0//EN
CALSCALE:GREGORIAN
METHOD:PUBLISH
X-ORIGINAL-URL:https://acdsinc.org
X-WR-CALDESC:Events for Arundel Community Development Services, Inc.
REFRESH-INTERVAL;VALUE=DURATION:PT1H
X-Robots-Tag:noindex
X-PUBLISHED-TTL:PT1H
BEGIN:VTIMEZONE
TZID:America/New_York
BEGIN:DAYLIGHT
TZOFFSETFROM:-0500
TZOFFSETTO:-0400
TZNAME:EDT
DTSTART:20170312T070000
END:DAYLIGHT
BEGIN:STANDARD
TZOFFSETFROM:-0400
TZOFFSETTO:-0500
TZNAME:EST
DTSTART:20171105T060000
END:STANDARD
BEGIN:DAYLIGHT
TZOFFSETFROM:-0500
TZOFFSETTO:-0400
TZNAME:EDT
DTSTART:20180311T070000
END:DAYLIGHT
BEGIN:STANDARD
TZOFFSETFROM:-0400
TZOFFSETTO:-0500
TZNAME:EST
DTSTART:20181104T060000
END:STANDARD
BEGIN:DAYLIGHT
TZOFFSETFROM:-0500
TZOFFSETTO:-0400
TZNAME:EDT
DTSTART:20190310T070000
END:DAYLIGHT
BEGIN:STANDARD
TZOFFSETFROM:-0400
TZOFFSETTO:-0500
TZNAME:EST
DTSTART:20191103T060000
END:STANDARD
END:VTIMEZONE
BEGIN:VEVENT
DTSTART;TZID=America/New_York:20180705T160000
DTEND;TZID=America/New_York:20180705T170000
DTSTAMP:20260424T082331
CREATED:20180622T191835Z
LAST-MODIFIED:20180622T191835Z
UID:10002770-1530806400-1530810000@acdsinc.org
SUMMARY:Rental Open House (5303 Brookwood Road)
DESCRIPTION:ACDS will be hosting an open house for perspective tenants to view this available rental property\, pick up an application and speak with the property manager. \nFor more information on this rental home\, please click here.
URL:https://acdsinc.org/event/rental-open-house-5303-brookwood-road-5/
LOCATION:5303 brookwood\, 5303 Brookwood Road\, Baltimore\, MD\, 21225\, United States
GEO:39.221981;-76.6087469
X-APPLE-STRUCTURED-LOCATION;VALUE=URI;X-ADDRESS=5303 brookwood 5303 Brookwood Road Baltimore MD 21225 United States;X-APPLE-RADIUS=500;X-TITLE=5303 Brookwood Road:geo:-76.6087469,39.221981
END:VEVENT
BEGIN:VEVENT
DTSTART;TZID=America/New_York:20180703T170000
DTEND;TZID=America/New_York:20180703T180000
DTSTAMP:20260424T082331
CREATED:20180622T191750Z
LAST-MODIFIED:20180622T191750Z
UID:10002633-1530637200-1530640800@acdsinc.org
SUMMARY:Rental Open House (5303 Brookwood Road)
DESCRIPTION:ACDS will be hosting an open house for perspective tenants to view this available rental property\, pick up an application and speak with the property manager. \nFor more information on this rental home\, please click here.
URL:https://acdsinc.org/event/rental-open-house-5303-brookwood-road-4/
LOCATION:5303 brookwood\, 5303 Brookwood Road\, Baltimore\, MD\, 21225\, United States
GEO:39.221981;-76.6087469
X-APPLE-STRUCTURED-LOCATION;VALUE=URI;X-ADDRESS=5303 brookwood 5303 Brookwood Road Baltimore MD 21225 United States;X-APPLE-RADIUS=500;X-TITLE=5303 Brookwood Road:geo:-76.6087469,39.221981
END:VEVENT
BEGIN:VEVENT
DTSTART;TZID=America/New_York:20180630T100000
DTEND;TZID=America/New_York:20180630T110000
DTSTAMP:20260424T082331
CREATED:20180622T191657Z
LAST-MODIFIED:20180622T191657Z
UID:10002631-1530352800-1530356400@acdsinc.org
SUMMARY:Rental Open House (5303 Brookwood Road)
DESCRIPTION:ACDS will be hosting an open house for perspective tenants to view this available rental property\, pick up an application and speak with the property manager. \nFor more information on this rental home\, please click here.
URL:https://acdsinc.org/event/rental-open-house-5303-brookwood-road-2/
LOCATION:5303 brookwood\, 5303 Brookwood Road\, Baltimore\, MD\, 21225\, United States
GEO:39.221981;-76.6087469
X-APPLE-STRUCTURED-LOCATION;VALUE=URI;X-ADDRESS=5303 brookwood 5303 Brookwood Road Baltimore MD 21225 United States;X-APPLE-RADIUS=500;X-TITLE=5303 Brookwood Road:geo:-76.6087469,39.221981
END:VEVENT
BEGIN:VEVENT
DTSTART;TZID=America/New_York:20180626T160000
DTEND;TZID=America/New_York:20180626T170000
DTSTAMP:20260424T082331
CREATED:20180622T191534Z
LAST-MODIFIED:20180622T191534Z
UID:10002629-1530028800-1530032400@acdsinc.org
SUMMARY:Rental Open House (5303 Brookwood Road)
DESCRIPTION:ACDS will be hosting an open house for perspective tenants to view this available rental property\, pick up an application and speak with the property manager. \nFor more information on this rental home\, please click here.
URL:https://acdsinc.org/event/rental-open-house-5303-brookwood-road/
LOCATION:5303 brookwood\, 5303 Brookwood Road\, Baltimore\, MD\, 21225\, United States
GEO:39.221981;-76.6087469
X-APPLE-STRUCTURED-LOCATION;VALUE=URI;X-ADDRESS=5303 brookwood 5303 Brookwood Road Baltimore MD 21225 United States;X-APPLE-RADIUS=500;X-TITLE=5303 Brookwood Road:geo:-76.6087469,39.221981
END:VEVENT
BEGIN:VEVENT
DTSTART;TZID=America/New_York:20180621T160000
DTEND;TZID=America/New_York:20180621T170000
DTSTAMP:20260424T082331
CREATED:20180525T200025Z
LAST-MODIFIED:20180525T200025Z
UID:10002752-1529596800-1529600400@acdsinc.org
SUMMARY:Rental Open House (5227 Patrick Henry Drive)
DESCRIPTION:ACDS will be hosting an open house for perspective tenants to view this available rental property\, pick up an application and speak with the property manager. \nFor more information on this rental home\, please click here.
URL:https://acdsinc.org/event/rental-open-house-5227-patrick-henry-drive-9/
LOCATION:5227 Patrick Henry\, 5227 Patrick Henry Drive\, Baltimore\, MD\, 21225\, United States
GEO:39.223283;-76.604479
X-APPLE-STRUCTURED-LOCATION;VALUE=URI;X-ADDRESS=5227 Patrick Henry 5227 Patrick Henry Drive Baltimore MD 21225 United States;X-APPLE-RADIUS=500;X-TITLE=5227 Patrick Henry Drive:geo:-76.604479,39.223283
END:VEVENT
BEGIN:VEVENT
DTSTART;TZID=America/New_York:20180614T160000
DTEND;TZID=America/New_York:20180614T170000
DTSTAMP:20260424T082331
CREATED:20180525T195932Z
LAST-MODIFIED:20180525T195932Z
UID:10002751-1528992000-1528995600@acdsinc.org
SUMMARY:Rental Open House (5227 Patrick Henry Drive)
DESCRIPTION:ACDS will be hosting an open house for perspective tenants to view this available rental property\, pick up an application and speak with the property manager. \nFor more information on this rental home\, please click here.
URL:https://acdsinc.org/event/rental-open-house-5227-patrick-henry-drive-8/
LOCATION:5227 Patrick Henry\, 5227 Patrick Henry Drive\, Baltimore\, MD\, 21225\, United States
GEO:39.223283;-76.604479
X-APPLE-STRUCTURED-LOCATION;VALUE=URI;X-ADDRESS=5227 Patrick Henry 5227 Patrick Henry Drive Baltimore MD 21225 United States;X-APPLE-RADIUS=500;X-TITLE=5227 Patrick Henry Drive:geo:-76.604479,39.223283
END:VEVENT
BEGIN:VEVENT
DTSTART;TZID=America/New_York:20180605T170000
DTEND;TZID=America/New_York:20180605T180000
DTSTAMP:20260424T082331
CREATED:20180525T195712Z
LAST-MODIFIED:20180525T195712Z
UID:10002749-1528218000-1528221600@acdsinc.org
SUMMARY:Rental Open House (5227 Patrick Henry Drive)
DESCRIPTION:ACDS will be hosting an open house for perspective tenants to view this available rental property\, pick up an application and speak with the property manager. \nFor more information on this rental home\, please click here.
URL:https://acdsinc.org/event/rental-open-house-5227-patrick-henry-drive-6/
LOCATION:5227 Patrick Henry\, 5227 Patrick Henry Drive\, Baltimore\, MD\, 21225\, United States
GEO:39.223283;-76.604479
X-APPLE-STRUCTURED-LOCATION;VALUE=URI;X-ADDRESS=5227 Patrick Henry 5227 Patrick Henry Drive Baltimore MD 21225 United States;X-APPLE-RADIUS=500;X-TITLE=5227 Patrick Henry Drive:geo:-76.604479,39.223283
END:VEVENT
BEGIN:VEVENT
DTSTART;TZID=America/New_York:20180602T100000
DTEND;TZID=America/New_York:20180602T110000
DTSTAMP:20260424T082331
CREATED:20180525T200258Z
LAST-MODIFIED:20180525T200258Z
UID:10002756-1527933600-1527937200@acdsinc.org
SUMMARY:Rental Open House (967 W. Benning Road)
DESCRIPTION:ACDS will be hosting an open house for perspective tenants to view this available rental property\, pick up an application and speak with the property manager. \nFor more information on this rental home\, please click here.
URL:https://acdsinc.org/event/rental-open-house-967-w-benning-road-2/
LOCATION:967 W Benning Road\, 967 W Benning Road\, Galesville\, MD\, 20765\, United States
GEO:38.8459025;-76.5453166
X-APPLE-STRUCTURED-LOCATION;VALUE=URI;X-ADDRESS=967 W Benning Road 967 W Benning Road Galesville MD 20765 United States;X-APPLE-RADIUS=500;X-TITLE=967 W Benning Road:geo:-76.5453166,38.8459025
END:VEVENT
BEGIN:VEVENT
DTSTART;TZID=America/New_York:20180529T160000
DTEND;TZID=America/New_York:20180529T170000
DTSTAMP:20260424T082331
CREATED:20180525T200208Z
LAST-MODIFIED:20180525T200208Z
UID:10002754-1527609600-1527613200@acdsinc.org
SUMMARY:Rental Open House (967 W. Benning Road)
DESCRIPTION:ACDS will be hosting an open house for perspective tenants to view this available rental property\, pick up an application and speak with the property manager. \nFor more information on this rental home\, please click here.
URL:https://acdsinc.org/event/rental-open-house-967-w-benning-road/
LOCATION:967 W Benning Road\, 967 W Benning Road\, Galesville\, MD\, 20765\, United States
GEO:38.8459025;-76.5453166
X-APPLE-STRUCTURED-LOCATION;VALUE=URI;X-ADDRESS=967 W Benning Road 967 W Benning Road Galesville MD 20765 United States;X-APPLE-RADIUS=500;X-TITLE=967 W Benning Road:geo:-76.5453166,38.8459025
END:VEVENT
BEGIN:VEVENT
DTSTART;TZID=America/New_York:20180515T170000
DTEND;TZID=America/New_York:20180515T180000
DTSTAMP:20260424T082331
CREATED:20180507T144315Z
LAST-MODIFIED:20180507T145135Z
UID:10002744-1526403600-1526407200@acdsinc.org
SUMMARY:Rental Open House (5201 Patrick Henry Drive)
DESCRIPTION:ACDS will be hosting an open house for perspective tenants to view this available rental property\, pick up an application and speak with the property manager. \nFor more information on this rental home\, please click here.
URL:https://acdsinc.org/event/rental-open-house-5201-patrick-henry-drive/
LOCATION:5201 Patrick Henry\, 5201 Patrick Henry Drive\, Baltimore\, MD\, 21225\, United States
GEO:39.223892;-76.6048969
X-APPLE-STRUCTURED-LOCATION;VALUE=URI;X-ADDRESS=5201 Patrick Henry 5201 Patrick Henry Drive Baltimore MD 21225 United States;X-APPLE-RADIUS=500;X-TITLE=5201 Patrick Henry Drive:geo:-76.6048969,39.223892
END:VEVENT
BEGIN:VEVENT
DTSTART;TZID=America/New_York:20180505T100000
DTEND;TZID=America/New_York:20180505T110000
DTSTAMP:20260424T082331
CREATED:20180507T143148Z
LAST-MODIFIED:20180507T143148Z
UID:10002741-1525514400-1525518000@acdsinc.org
SUMMARY:Rental Open House (5227 Patrick Henry Drive)
DESCRIPTION:ACDS will be hosting an open house for perspective tenants to view this available rental property\, pick up an application and speak with the property manager. \nFor more information on this rental home\, please click here.
URL:https://acdsinc.org/event/rental-open-house-5227-patrick-henry-drive/
LOCATION:5227 Patrick Henry\, 5227 Patrick Henry Drive\, Baltimore\, MD\, 21225\, United States
GEO:39.223283;-76.604479
X-APPLE-STRUCTURED-LOCATION;VALUE=URI;X-ADDRESS=5227 Patrick Henry 5227 Patrick Henry Drive Baltimore MD 21225 United States;X-APPLE-RADIUS=500;X-TITLE=5227 Patrick Henry Drive:geo:-76.604479,39.223283
END:VEVENT
BEGIN:VEVENT
DTSTART;TZID=America/New_York:20180501T163000
DTEND;TZID=America/New_York:20180501T180000
DTSTAMP:20260424T082331
CREATED:20180406T144909Z
LAST-MODIFIED:20180507T142640Z
UID:10002610-1525192200-1525197600@acdsinc.org
SUMMARY:Rental Open House (5105 Brookwood Road)
DESCRIPTION:ACDS will be hosting an open house for perspective tenants to view this available rental property\, pick up an application and speak with the property manager.
URL:https://acdsinc.org/event/rental-open-house-209-southerly-road-9/
LOCATION:5105\, 5105 Brookwood Road\, Baltimore\, MD\, 21225\, United States
GEO:39.223521;-76.609035
X-APPLE-STRUCTURED-LOCATION;VALUE=URI;X-ADDRESS=5105 5105 Brookwood Road Baltimore MD 21225 United States;X-APPLE-RADIUS=500;X-TITLE=5105 Brookwood Road:geo:-76.609035,39.223521
END:VEVENT
BEGIN:VEVENT
DTSTART;TZID=America/New_York:20180417T170000
DTEND;TZID=America/New_York:20180417T180000
DTSTAMP:20260424T082331
CREATED:20180406T145213Z
LAST-MODIFIED:20180410T150717Z
UID:10002612-1523984400-1523988000@acdsinc.org
SUMMARY:Rental Open House (209 Southerly Road)
DESCRIPTION:ACDS will be hosting an open house for perspective tenants to view this available rental property\, pick up an application and speak with the property manager. \nFor more information on this rental home\, please click here.
URL:https://acdsinc.org/event/rental-open-house-5105-brookwood-road-4/
LOCATION:209 Southerly Road\, 209 Southerly Road\, Baltimore\, MD\, 21225\, United States
GEO:39.2232259;-76.6082069
X-APPLE-STRUCTURED-LOCATION;VALUE=URI;X-ADDRESS=209 Southerly Road 209 Southerly Road Baltimore MD 21225 United States;X-APPLE-RADIUS=500;X-TITLE=209 Southerly Road:geo:-76.6082069,39.2232259
END:VEVENT
BEGIN:VEVENT
DTSTART;TZID=America/New_York:20180412T170000
DTEND;TZID=America/New_York:20180412T180000
DTSTAMP:20260424T082331
CREATED:20180406T144702Z
LAST-MODIFIED:20180406T144702Z
UID:10002606-1523552400-1523556000@acdsinc.org
SUMMARY:Rental Open House (209 Southerly Road)
DESCRIPTION:ACDS will be hosting an open house for perspective tenants to view this available rental property\, pick up an application and speak with the property manager. \nFor more information on this rental home\, please click here.
URL:https://acdsinc.org/event/rental-open-house-209-southerly-road-7/
LOCATION:209 Southerly Road\, 209 Southerly Road\, Baltimore\, MD\, 21225\, United States
GEO:39.2232259;-76.6082069
X-APPLE-STRUCTURED-LOCATION;VALUE=URI;X-ADDRESS=209 Southerly Road 209 Southerly Road Baltimore MD 21225 United States;X-APPLE-RADIUS=500;X-TITLE=209 Southerly Road:geo:-76.6082069,39.2232259
END:VEVENT
BEGIN:VEVENT
DTSTART;TZID=America/New_York:20180325T113000
DTEND;TZID=America/New_York:20180325T123000
DTSTAMP:20260424T082331
CREATED:20180305T144240Z
LAST-MODIFIED:20180319T195152Z
UID:10002719-1521977400-1521981000@acdsinc.org
SUMMARY:Rental Open House (8224 Kilmory Court)
DESCRIPTION:ACDS will be hosting an open house for perspective tenants to view this available rental property\, pick up an application and speak with the property manager. \nFor more information on this rental home\, please click here.
URL:https://acdsinc.org/event/rental-open-house-5105-brookwood-road-3/
LOCATION:8224 kilmory court\, severn\, 8224 Kilmory Court\, Severn\, MD\, 21144\, United States
GEO:39.116981;-76.711569
X-APPLE-STRUCTURED-LOCATION;VALUE=URI;X-ADDRESS=8224 kilmory court severn 8224 Kilmory Court Severn MD 21144 United States;X-APPLE-RADIUS=500;X-TITLE=8224 Kilmory Court:geo:-76.711569,39.116981
END:VEVENT
BEGIN:VEVENT
DTSTART;TZID=America/New_York:20180317T100000
DTEND;TZID=America/New_York:20180317T110000
DTSTAMP:20260424T082331
CREATED:20180305T142328Z
LAST-MODIFIED:20180305T142328Z
UID:10002713-1521280800-1521284400@acdsinc.org
SUMMARY:Rental Open House (209 Southerly Road)
DESCRIPTION:ACDS will be hosting an open house for perspective tenants to view this available rental property\, pick up an application and speak with the property manager. \nFor more information on this rental home\, please click here.
URL:https://acdsinc.org/event/rental-open-house-209-southerly-road-6/
LOCATION:209 Southerly Road\, 209 Southerly Road\, Baltimore\, MD\, 21225\, United States
GEO:39.2232259;-76.6082069
X-APPLE-STRUCTURED-LOCATION;VALUE=URI;X-ADDRESS=209 Southerly Road 209 Southerly Road Baltimore MD 21225 United States;X-APPLE-RADIUS=500;X-TITLE=209 Southerly Road:geo:-76.6082069,39.2232259
END:VEVENT
BEGIN:VEVENT
DTSTART;TZID=America/New_York:20180314T160000
DTEND;TZID=America/New_York:20180314T170000
DTSTAMP:20260424T082331
CREATED:20180306T200946Z
LAST-MODIFIED:20180306T200946Z
UID:10002721-1521043200-1521046800@acdsinc.org
SUMMARY:Rental Open House (8224 Kilmory Court)
DESCRIPTION:ACDS will be hosting an open house for perspective tenants to view this available rental property\, pick up an application and speak with the property manager. \nFor more information on this rental home\, please click here.
URL:https://acdsinc.org/event/rental-open-house-8224-kilmory-court-6/
LOCATION:8224 kilmory court\, severn\, 8224 Kilmory Court\, Severn\, MD\, 21144\, United States
GEO:39.116981;-76.711569
X-APPLE-STRUCTURED-LOCATION;VALUE=URI;X-ADDRESS=8224 kilmory court severn 8224 Kilmory Court Severn MD 21144 United States;X-APPLE-RADIUS=500;X-TITLE=8224 Kilmory Court:geo:-76.711569,39.116981
END:VEVENT
BEGIN:VEVENT
DTSTART;TZID=America/New_York:20180313T170000
DTEND;TZID=America/New_York:20180313T180000
DTSTAMP:20260424T082331
CREATED:20180305T144139Z
LAST-MODIFIED:20180306T200639Z
UID:10002717-1520960400-1520964000@acdsinc.org
SUMMARY:Rental Open House (615 Wood Street)
DESCRIPTION:ACDS will be hosting an open house for perspective tenants to view this available rental property\, pick up an application and speak with the property manager. \nFor more information on this rental home\, please click here.
URL:https://acdsinc.org/event/rental-open-house-5105-brookwood-road-2/
LOCATION:615 wood\, 615 Wood Street\, Baltimore\, MD\, 21225\, United States
GEO:39.221521;-76.602161
X-APPLE-STRUCTURED-LOCATION;VALUE=URI;X-ADDRESS=615 wood 615 Wood Street Baltimore MD 21225 United States;X-APPLE-RADIUS=500;X-TITLE=615 Wood Street:geo:-76.602161,39.221521
END:VEVENT
BEGIN:VEVENT
DTSTART;TZID=America/New_York:20180310T103000
DTEND;TZID=America/New_York:20180310T113000
DTSTAMP:20260424T082331
CREATED:20180302T194807Z
LAST-MODIFIED:20180302T194807Z
UID:10002710-1520677800-1520681400@acdsinc.org
SUMMARY:Rental Open House (5102 Brookwood Road)
DESCRIPTION:ACDS will be hosting an open house for perspective tenants to view this available rental property\, pick up an application and speak with the property manager. \nFor more information on this rental home\, please click here.
URL:https://acdsinc.org/event/rental-open-house-5102-brookwood-road-3/
LOCATION:5102 Brookwood Road\, 5102 Brookwood Road\, Baltimore\, MD\, 21225\, United States
GEO:39.223397;-76.609647
X-APPLE-STRUCTURED-LOCATION;VALUE=URI;X-ADDRESS=5102 Brookwood Road 5102 Brookwood Road Baltimore MD 21225 United States;X-APPLE-RADIUS=500;X-TITLE=5102 Brookwood Road:geo:-76.609647,39.223397
END:VEVENT
BEGIN:VEVENT
DTSTART;TZID=America/New_York:20180305T170000
DTEND;TZID=America/New_York:20180305T180000
DTSTAMP:20260424T082331
CREATED:20180305T142225Z
LAST-MODIFIED:20180305T142225Z
UID:10002711-1520269200-1520272800@acdsinc.org
SUMMARY:Rental Open House (209 Southerly Road)
DESCRIPTION:ACDS will be hosting an open house for perspective tenants to view this available rental property\, pick up an application and speak with the property manager. \nFor more information on this rental home\, please click here.
URL:https://acdsinc.org/event/rental-open-house-209-southerly-road-5/
LOCATION:209 Southerly Road\, 209 Southerly Road\, Baltimore\, MD\, 21225\, United States
GEO:39.2232259;-76.6082069
X-APPLE-STRUCTURED-LOCATION;VALUE=URI;X-ADDRESS=209 Southerly Road 209 Southerly Road Baltimore MD 21225 United States;X-APPLE-RADIUS=500;X-TITLE=209 Southerly Road:geo:-76.6082069,39.2232259
END:VEVENT
BEGIN:VEVENT
DTSTART;TZID=America/New_York:20180301T170000
DTEND;TZID=America/New_York:20180301T180000
DTSTAMP:20260424T082331
CREATED:20180305T144035Z
LAST-MODIFIED:20180305T144035Z
UID:10002715-1519923600-1519927200@acdsinc.org
SUMMARY:Rental Open House (5105 Brookwood Road)
DESCRIPTION:ACDS will be hosting an open house for perspective tenants to view this available rental property\, pick up an application and speak with the property manager. \nFor more information on this rental home\, please click here.
URL:https://acdsinc.org/event/rental-open-house-5105-brookwood-road/
LOCATION:5105\, 5105 Brookwood Road\, Baltimore\, MD\, 21225\, United States
GEO:39.223521;-76.609035
X-APPLE-STRUCTURED-LOCATION;VALUE=URI;X-ADDRESS=5105 5105 Brookwood Road Baltimore MD 21225 United States;X-APPLE-RADIUS=500;X-TITLE=5105 Brookwood Road:geo:-76.609035,39.223521
END:VEVENT
BEGIN:VEVENT
DTSTART;TZID=America/New_York:20180225T113000
DTEND;TZID=America/New_York:20180225T123000
DTSTAMP:20260424T082331
CREATED:20180130T191211Z
LAST-MODIFIED:20180130T191211Z
UID:10002686-1519558200-1519561800@acdsinc.org
SUMMARY:Rental Open House (5102 Brookwood Road)
DESCRIPTION:ACDS will be hosting an open house for perspective tenants to view this available rental property\, pick up an application and speak with the property manager. \nFor more information on this rental home\, please click here.
URL:https://acdsinc.org/event/rental-open-house-5102-brookwood-road-2/
LOCATION:5102 Brookwood Road\, 5102 Brookwood Road\, Baltimore\, MD\, 21225\, United States
GEO:39.223397;-76.609647
X-APPLE-STRUCTURED-LOCATION;VALUE=URI;X-ADDRESS=5102 Brookwood Road 5102 Brookwood Road Baltimore MD 21225 United States;X-APPLE-RADIUS=500;X-TITLE=5102 Brookwood Road:geo:-76.609647,39.223397
END:VEVENT
BEGIN:VEVENT
DTSTART;TZID=America/New_York:20180222T170000
DTEND;TZID=America/New_York:20180222T180000
DTSTAMP:20260424T082331
CREATED:20180130T190554Z
LAST-MODIFIED:20180130T190554Z
UID:10002682-1519318800-1519322400@acdsinc.org
SUMMARY:Rental Open House (209 Southerly Road)
DESCRIPTION:ACDS will be hosting an open house for perspective tenants to view this available rental property\, pick up an application and speak with the property manager. \nFor more information on this rental home\, please click here.
URL:https://acdsinc.org/event/rental-open-house-209-southerly-road-4/
LOCATION:209 Southerly Road\, 209 Southerly Road\, Baltimore\, MD\, 21225\, United States
GEO:39.2232259;-76.6082069
X-APPLE-STRUCTURED-LOCATION;VALUE=URI;X-ADDRESS=209 Southerly Road 209 Southerly Road Baltimore MD 21225 United States;X-APPLE-RADIUS=500;X-TITLE=209 Southerly Road:geo:-76.6082069,39.2232259
END:VEVENT
BEGIN:VEVENT
DTSTART;TZID=America/New_York:20180215T170000
DTEND;TZID=America/New_York:20180215T180000
DTSTAMP:20260424T082331
CREATED:20180130T190806Z
LAST-MODIFIED:20180130T190806Z
UID:10002684-1518714000-1518717600@acdsinc.org
SUMMARY:Rental Open House (5304 4th Street)
DESCRIPTION:ACDS will be hosting an open house for perspective tenants to view this available rental property\, pick up an application and speak with the property manager. \nFor more information on this rental home\, please click here.
URL:https://acdsinc.org/event/rental-open-house-5304-4th-street-7/
LOCATION:5304 4th Street\, 5304 4th Street\, Baltimore\, 21225\, United States
GEO:39.222555;-76.603393
X-APPLE-STRUCTURED-LOCATION;VALUE=URI;X-ADDRESS=5304 4th Street 5304 4th Street Baltimore 21225 United States;X-APPLE-RADIUS=500;X-TITLE=5304 4th Street:geo:-76.603393,39.222555
END:VEVENT
BEGIN:VEVENT
DTSTART;TZID=America/New_York:20180210T100000
DTEND;TZID=America/New_York:20180210T110000
DTSTAMP:20260424T082331
CREATED:20180130T190503Z
LAST-MODIFIED:20180130T190503Z
UID:10002681-1518256800-1518260400@acdsinc.org
SUMMARY:Rental Open House (209 Southerly Road)
DESCRIPTION:ACDS will be hosting an open house for perspective tenants to view this available rental property\, pick up an application and speak with the property manager. \nFor more information on this rental home\, please click here.
URL:https://acdsinc.org/event/rental-open-house-209-southerly-road-3/
LOCATION:209 Southerly Road\, 209 Southerly Road\, Baltimore\, MD\, 21225\, United States
GEO:39.2232259;-76.6082069
X-APPLE-STRUCTURED-LOCATION;VALUE=URI;X-ADDRESS=209 Southerly Road 209 Southerly Road Baltimore MD 21225 United States;X-APPLE-RADIUS=500;X-TITLE=209 Southerly Road:geo:-76.6082069,39.2232259
END:VEVENT
BEGIN:VEVENT
DTSTART;TZID=America/New_York:20180206T163000
DTEND;TZID=America/New_York:20180206T173000
DTSTAMP:20260424T082331
CREATED:20180130T190716Z
LAST-MODIFIED:20180202T212703Z
UID:10002683-1517934600-1517938200@acdsinc.org
SUMMARY:Rental Open House (5102 Brookwood Road)
DESCRIPTION:ACDS will be hosting an open house for perspective tenants to view this available rental property\, pick up an application and speak with the property manager. \nFor more information on this rental home\, please click here.
URL:https://acdsinc.org/event/rental-open-house-5304-4th-street-6/
LOCATION:5102 Brookwood Road\, 5102 Brookwood Road\, Baltimore\, MD\, 21225\, United States
GEO:39.223397;-76.609647
X-APPLE-STRUCTURED-LOCATION;VALUE=URI;X-ADDRESS=5102 Brookwood Road 5102 Brookwood Road Baltimore MD 21225 United States;X-APPLE-RADIUS=500;X-TITLE=5102 Brookwood Road:geo:-76.609647,39.223397
END:VEVENT
BEGIN:VEVENT
DTSTART;TZID=America/New_York:20180203T100000
DTEND;TZID=America/New_York:20180203T110000
DTSTAMP:20260424T082331
CREATED:20180130T191056Z
LAST-MODIFIED:20180130T191056Z
UID:10002685-1517652000-1517655600@acdsinc.org
SUMMARY:Rental Open House (5102 Brookwood Road)
DESCRIPTION:ACDS will be hosting an open house for perspective tenants to view this available rental property\, pick up an application and speak with the property manager. \nFor more information on this rental home\, please click here.
URL:https://acdsinc.org/event/rental-open-house-5102-brookwood-road/
LOCATION:5102 Brookwood Road\, 5102 Brookwood Road\, Baltimore\, MD\, 21225\, United States
GEO:39.223397;-76.609647
X-APPLE-STRUCTURED-LOCATION;VALUE=URI;X-ADDRESS=5102 Brookwood Road 5102 Brookwood Road Baltimore MD 21225 United States;X-APPLE-RADIUS=500;X-TITLE=5102 Brookwood Road:geo:-76.609647,39.223397
END:VEVENT
BEGIN:VEVENT
DTSTART;TZID=America/New_York:20180131T170000
DTEND;TZID=America/New_York:20180131T180000
DTSTAMP:20260424T082331
CREATED:20180130T190404Z
LAST-MODIFIED:20180130T190404Z
UID:10002680-1517418000-1517421600@acdsinc.org
SUMMARY:Rental Open House (209 Southerly Road)
DESCRIPTION:ACDS will be hosting an open house for perspective tenants to view this available rental property\, pick up an application and speak with the property manager. \nFor more information on this rental home\, please click here.
URL:https://acdsinc.org/event/rental-open-house-209-southerly-road-2/
LOCATION:209 Southerly Road\, 209 Southerly Road\, Baltimore\, MD\, 21225\, United States
GEO:39.2232259;-76.6082069
X-APPLE-STRUCTURED-LOCATION;VALUE=URI;X-ADDRESS=209 Southerly Road 209 Southerly Road Baltimore MD 21225 United States;X-APPLE-RADIUS=500;X-TITLE=209 Southerly Road:geo:-76.6082069,39.2232259
END:VEVENT
BEGIN:VEVENT
DTSTART;TZID=America/New_York:20180128T113000
DTEND;TZID=America/New_York:20180128T123000
DTSTAMP:20260424T082331
CREATED:20180103T205006Z
LAST-MODIFIED:20180103T205006Z
UID:10002568-1517139000-1517142600@acdsinc.org
SUMMARY:Rental Open House (5304 4th Street)
DESCRIPTION:ACDS will be hosting an open house for perspective tenants to view this available rental property\, pick up an application and speak with the property manager. \nFor more information on this rental home\, please click here.
URL:https://acdsinc.org/event/rental-open-house-5304-4th-street-4/
LOCATION:5304 4th Street\, 5304 4th Street\, Baltimore\, 21225\, United States
GEO:39.222555;-76.603393
X-APPLE-STRUCTURED-LOCATION;VALUE=URI;X-ADDRESS=5304 4th Street 5304 4th Street Baltimore 21225 United States;X-APPLE-RADIUS=500;X-TITLE=5304 4th Street:geo:-76.603393,39.222555
END:VEVENT
BEGIN:VEVENT
DTSTART;TZID=America/New_York:20180124T180000
DTEND;TZID=America/New_York:20180124T190000
DTSTAMP:20260424T082331
CREATED:20180103T205155Z
LAST-MODIFIED:20180103T205155Z
UID:10002570-1516816800-1516820400@acdsinc.org
SUMMARY:Rental Open House (209 Southerly Road)
DESCRIPTION:ACDS will be hosting an open house for perspective tenants to view this available rental property\, pick up an application and speak with the property manager. \nFor more information on this rental home\, please click here.
URL:https://acdsinc.org/event/rental-open-house-209-southerly-road/
LOCATION:209 Southerly Road\, 209 Southerly Road\, Baltimore\, MD\, 21225\, United States
GEO:39.2232259;-76.6082069
X-APPLE-STRUCTURED-LOCATION;VALUE=URI;X-ADDRESS=209 Southerly Road 209 Southerly Road Baltimore MD 21225 United States;X-APPLE-RADIUS=500;X-TITLE=209 Southerly Road:geo:-76.6082069,39.2232259
END:VEVENT
END:VCALENDAR