BEGIN:VCALENDAR
VERSION:2.0
PRODID:-//Arundel Community Development Services, Inc. - ECPv6.15.20//NONSGML v1.0//EN
CALSCALE:GREGORIAN
METHOD:PUBLISH
X-ORIGINAL-URL:https://acdsinc.org
X-WR-CALDESC:Events for Arundel Community Development Services, Inc.
REFRESH-INTERVAL;VALUE=DURATION:PT1H
X-Robots-Tag:noindex
X-PUBLISHED-TTL:PT1H
BEGIN:VTIMEZONE
TZID:America/New_York
BEGIN:DAYLIGHT
TZOFFSETFROM:-0500
TZOFFSETTO:-0400
TZNAME:EDT
DTSTART:20160313T070000
END:DAYLIGHT
BEGIN:STANDARD
TZOFFSETFROM:-0400
TZOFFSETTO:-0500
TZNAME:EST
DTSTART:20161106T060000
END:STANDARD
BEGIN:DAYLIGHT
TZOFFSETFROM:-0500
TZOFFSETTO:-0400
TZNAME:EDT
DTSTART:20170312T070000
END:DAYLIGHT
BEGIN:STANDARD
TZOFFSETFROM:-0400
TZOFFSETTO:-0500
TZNAME:EST
DTSTART:20171105T060000
END:STANDARD
BEGIN:DAYLIGHT
TZOFFSETFROM:-0500
TZOFFSETTO:-0400
TZNAME:EDT
DTSTART:20180311T070000
END:DAYLIGHT
BEGIN:STANDARD
TZOFFSETFROM:-0400
TZOFFSETTO:-0500
TZNAME:EST
DTSTART:20181104T060000
END:STANDARD
BEGIN:DAYLIGHT
TZOFFSETFROM:-0500
TZOFFSETTO:-0400
TZNAME:EDT
DTSTART:20190310T070000
END:DAYLIGHT
BEGIN:STANDARD
TZOFFSETFROM:-0400
TZOFFSETTO:-0500
TZNAME:EST
DTSTART:20191103T060000
END:STANDARD
END:VTIMEZONE
BEGIN:VEVENT
DTSTART;TZID=America/New_York:20180301T170000
DTEND;TZID=America/New_York:20180301T180000
DTSTAMP:20260424T132245
CREATED:20180305T144035Z
LAST-MODIFIED:20180305T144035Z
UID:10002715-1519923600-1519927200@acdsinc.org
SUMMARY:Rental Open House (5105 Brookwood Road)
DESCRIPTION:ACDS will be hosting an open house for perspective tenants to view this available rental property\, pick up an application and speak with the property manager. \nFor more information on this rental home\, please click here.
URL:https://acdsinc.org/event/rental-open-house-5105-brookwood-road/
LOCATION:5105\, 5105 Brookwood Road\, Baltimore\, MD\, 21225\, United States
GEO:39.223521;-76.609035
X-APPLE-STRUCTURED-LOCATION;VALUE=URI;X-ADDRESS=5105 5105 Brookwood Road Baltimore MD 21225 United States;X-APPLE-RADIUS=500;X-TITLE=5105 Brookwood Road:geo:-76.609035,39.223521
END:VEVENT
BEGIN:VEVENT
DTSTART;TZID=America/New_York:20180225T113000
DTEND;TZID=America/New_York:20180225T123000
DTSTAMP:20260424T132245
CREATED:20180130T191211Z
LAST-MODIFIED:20180130T191211Z
UID:10002686-1519558200-1519561800@acdsinc.org
SUMMARY:Rental Open House (5102 Brookwood Road)
DESCRIPTION:ACDS will be hosting an open house for perspective tenants to view this available rental property\, pick up an application and speak with the property manager. \nFor more information on this rental home\, please click here.
URL:https://acdsinc.org/event/rental-open-house-5102-brookwood-road-2/
LOCATION:5102 Brookwood Road\, 5102 Brookwood Road\, Baltimore\, MD\, 21225\, United States
GEO:39.223397;-76.609647
X-APPLE-STRUCTURED-LOCATION;VALUE=URI;X-ADDRESS=5102 Brookwood Road 5102 Brookwood Road Baltimore MD 21225 United States;X-APPLE-RADIUS=500;X-TITLE=5102 Brookwood Road:geo:-76.609647,39.223397
END:VEVENT
BEGIN:VEVENT
DTSTART;TZID=America/New_York:20180222T170000
DTEND;TZID=America/New_York:20180222T180000
DTSTAMP:20260424T132245
CREATED:20180130T190554Z
LAST-MODIFIED:20180130T190554Z
UID:10002682-1519318800-1519322400@acdsinc.org
SUMMARY:Rental Open House (209 Southerly Road)
DESCRIPTION:ACDS will be hosting an open house for perspective tenants to view this available rental property\, pick up an application and speak with the property manager. \nFor more information on this rental home\, please click here.
URL:https://acdsinc.org/event/rental-open-house-209-southerly-road-4/
LOCATION:209 Southerly Road\, 209 Southerly Road\, Baltimore\, MD\, 21225\, United States
GEO:39.2232259;-76.6082069
X-APPLE-STRUCTURED-LOCATION;VALUE=URI;X-ADDRESS=209 Southerly Road 209 Southerly Road Baltimore MD 21225 United States;X-APPLE-RADIUS=500;X-TITLE=209 Southerly Road:geo:-76.6082069,39.2232259
END:VEVENT
BEGIN:VEVENT
DTSTART;TZID=America/New_York:20180215T170000
DTEND;TZID=America/New_York:20180215T180000
DTSTAMP:20260424T132245
CREATED:20180130T190806Z
LAST-MODIFIED:20180130T190806Z
UID:10002684-1518714000-1518717600@acdsinc.org
SUMMARY:Rental Open House (5304 4th Street)
DESCRIPTION:ACDS will be hosting an open house for perspective tenants to view this available rental property\, pick up an application and speak with the property manager. \nFor more information on this rental home\, please click here.
URL:https://acdsinc.org/event/rental-open-house-5304-4th-street-7/
LOCATION:5304 4th Street\, 5304 4th Street\, Baltimore\, 21225\, United States
GEO:39.222555;-76.603393
X-APPLE-STRUCTURED-LOCATION;VALUE=URI;X-ADDRESS=5304 4th Street 5304 4th Street Baltimore 21225 United States;X-APPLE-RADIUS=500;X-TITLE=5304 4th Street:geo:-76.603393,39.222555
END:VEVENT
BEGIN:VEVENT
DTSTART;TZID=America/New_York:20180210T100000
DTEND;TZID=America/New_York:20180210T110000
DTSTAMP:20260424T132245
CREATED:20180130T190503Z
LAST-MODIFIED:20180130T190503Z
UID:10002681-1518256800-1518260400@acdsinc.org
SUMMARY:Rental Open House (209 Southerly Road)
DESCRIPTION:ACDS will be hosting an open house for perspective tenants to view this available rental property\, pick up an application and speak with the property manager. \nFor more information on this rental home\, please click here.
URL:https://acdsinc.org/event/rental-open-house-209-southerly-road-3/
LOCATION:209 Southerly Road\, 209 Southerly Road\, Baltimore\, MD\, 21225\, United States
GEO:39.2232259;-76.6082069
X-APPLE-STRUCTURED-LOCATION;VALUE=URI;X-ADDRESS=209 Southerly Road 209 Southerly Road Baltimore MD 21225 United States;X-APPLE-RADIUS=500;X-TITLE=209 Southerly Road:geo:-76.6082069,39.2232259
END:VEVENT
BEGIN:VEVENT
DTSTART;TZID=America/New_York:20180206T163000
DTEND;TZID=America/New_York:20180206T173000
DTSTAMP:20260424T132245
CREATED:20180130T190716Z
LAST-MODIFIED:20180202T212703Z
UID:10002683-1517934600-1517938200@acdsinc.org
SUMMARY:Rental Open House (5102 Brookwood Road)
DESCRIPTION:ACDS will be hosting an open house for perspective tenants to view this available rental property\, pick up an application and speak with the property manager. \nFor more information on this rental home\, please click here.
URL:https://acdsinc.org/event/rental-open-house-5304-4th-street-6/
LOCATION:5102 Brookwood Road\, 5102 Brookwood Road\, Baltimore\, MD\, 21225\, United States
GEO:39.223397;-76.609647
X-APPLE-STRUCTURED-LOCATION;VALUE=URI;X-ADDRESS=5102 Brookwood Road 5102 Brookwood Road Baltimore MD 21225 United States;X-APPLE-RADIUS=500;X-TITLE=5102 Brookwood Road:geo:-76.609647,39.223397
END:VEVENT
BEGIN:VEVENT
DTSTART;TZID=America/New_York:20180203T100000
DTEND;TZID=America/New_York:20180203T110000
DTSTAMP:20260424T132245
CREATED:20180130T191056Z
LAST-MODIFIED:20180130T191056Z
UID:10002685-1517652000-1517655600@acdsinc.org
SUMMARY:Rental Open House (5102 Brookwood Road)
DESCRIPTION:ACDS will be hosting an open house for perspective tenants to view this available rental property\, pick up an application and speak with the property manager. \nFor more information on this rental home\, please click here.
URL:https://acdsinc.org/event/rental-open-house-5102-brookwood-road/
LOCATION:5102 Brookwood Road\, 5102 Brookwood Road\, Baltimore\, MD\, 21225\, United States
GEO:39.223397;-76.609647
X-APPLE-STRUCTURED-LOCATION;VALUE=URI;X-ADDRESS=5102 Brookwood Road 5102 Brookwood Road Baltimore MD 21225 United States;X-APPLE-RADIUS=500;X-TITLE=5102 Brookwood Road:geo:-76.609647,39.223397
END:VEVENT
BEGIN:VEVENT
DTSTART;TZID=America/New_York:20180131T170000
DTEND;TZID=America/New_York:20180131T180000
DTSTAMP:20260424T132245
CREATED:20180130T190404Z
LAST-MODIFIED:20180130T190404Z
UID:10002680-1517418000-1517421600@acdsinc.org
SUMMARY:Rental Open House (209 Southerly Road)
DESCRIPTION:ACDS will be hosting an open house for perspective tenants to view this available rental property\, pick up an application and speak with the property manager. \nFor more information on this rental home\, please click here.
URL:https://acdsinc.org/event/rental-open-house-209-southerly-road-2/
LOCATION:209 Southerly Road\, 209 Southerly Road\, Baltimore\, MD\, 21225\, United States
GEO:39.2232259;-76.6082069
X-APPLE-STRUCTURED-LOCATION;VALUE=URI;X-ADDRESS=209 Southerly Road 209 Southerly Road Baltimore MD 21225 United States;X-APPLE-RADIUS=500;X-TITLE=209 Southerly Road:geo:-76.6082069,39.2232259
END:VEVENT
BEGIN:VEVENT
DTSTART;TZID=America/New_York:20180128T113000
DTEND;TZID=America/New_York:20180128T123000
DTSTAMP:20260424T132245
CREATED:20180103T205006Z
LAST-MODIFIED:20180103T205006Z
UID:10002568-1517139000-1517142600@acdsinc.org
SUMMARY:Rental Open House (5304 4th Street)
DESCRIPTION:ACDS will be hosting an open house for perspective tenants to view this available rental property\, pick up an application and speak with the property manager. \nFor more information on this rental home\, please click here.
URL:https://acdsinc.org/event/rental-open-house-5304-4th-street-4/
LOCATION:5304 4th Street\, 5304 4th Street\, Baltimore\, 21225\, United States
GEO:39.222555;-76.603393
X-APPLE-STRUCTURED-LOCATION;VALUE=URI;X-ADDRESS=5304 4th Street 5304 4th Street Baltimore 21225 United States;X-APPLE-RADIUS=500;X-TITLE=5304 4th Street:geo:-76.603393,39.222555
END:VEVENT
BEGIN:VEVENT
DTSTART;TZID=America/New_York:20180124T180000
DTEND;TZID=America/New_York:20180124T190000
DTSTAMP:20260424T132245
CREATED:20180103T205155Z
LAST-MODIFIED:20180103T205155Z
UID:10002570-1516816800-1516820400@acdsinc.org
SUMMARY:Rental Open House (209 Southerly Road)
DESCRIPTION:ACDS will be hosting an open house for perspective tenants to view this available rental property\, pick up an application and speak with the property manager. \nFor more information on this rental home\, please click here.
URL:https://acdsinc.org/event/rental-open-house-209-southerly-road/
LOCATION:209 Southerly Road\, 209 Southerly Road\, Baltimore\, MD\, 21225\, United States
GEO:39.2232259;-76.6082069
X-APPLE-STRUCTURED-LOCATION;VALUE=URI;X-ADDRESS=209 Southerly Road 209 Southerly Road Baltimore MD 21225 United States;X-APPLE-RADIUS=500;X-TITLE=209 Southerly Road:geo:-76.6082069,39.2232259
END:VEVENT
BEGIN:VEVENT
DTSTART;TZID=America/New_York:20180121T113000
DTEND;TZID=America/New_York:20180121T123000
DTSTAMP:20260424T132245
CREATED:20180103T204647Z
LAST-MODIFIED:20180103T204647Z
UID:10002562-1516534200-1516537800@acdsinc.org
SUMMARY:Rental Open House (203 Southerly Road)
DESCRIPTION:ACDS will be hosting an open house for perspective tenants to view this available rental property\, pick up an application and speak with the property manager. \nFor more information on this rental home\, please click here.
URL:https://acdsinc.org/event/rental-open-house-203-southerly-road-17/
LOCATION:203 Southerly Road\, 203 Southerly Road\, Baltimore\, MD\, 21225\, United States
GEO:39.223299;-76.608032
X-APPLE-STRUCTURED-LOCATION;VALUE=URI;X-ADDRESS=203 Southerly Road 203 Southerly Road Baltimore MD 21225 United States;X-APPLE-RADIUS=500;X-TITLE=203 Southerly Road:geo:-76.608032,39.223299
END:VEVENT
BEGIN:VEVENT
DTSTART;TZID=America/New_York:20180118T170000
DTEND;TZID=America/New_York:20180118T180000
DTSTAMP:20260424T132245
CREATED:20180103T204903Z
LAST-MODIFIED:20180103T204903Z
UID:10002566-1516294800-1516298400@acdsinc.org
SUMMARY:Rental Open House (5304 4th Street)
DESCRIPTION:ACDS will be hosting an open house for perspective tenants to view this available rental property\, pick up an application and speak with the property manager. \nFor more information on this rental home\, please click here.
URL:https://acdsinc.org/event/rental-open-house-5304-4th-street-3/
LOCATION:5304 4th Street\, 5304 4th Street\, Baltimore\, 21225\, United States
GEO:39.222555;-76.603393
X-APPLE-STRUCTURED-LOCATION;VALUE=URI;X-ADDRESS=5304 4th Street 5304 4th Street Baltimore 21225 United States;X-APPLE-RADIUS=500;X-TITLE=5304 4th Street:geo:-76.603393,39.222555
END:VEVENT
BEGIN:VEVENT
DTSTART;TZID=America/New_York:20180113T103000
DTEND;TZID=America/New_York:20180113T113000
DTSTAMP:20260424T132245
CREATED:20180103T204812Z
LAST-MODIFIED:20180103T204812Z
UID:10002564-1515839400-1515843000@acdsinc.org
SUMMARY:Rental Open House (5304 4th Street)
DESCRIPTION:ACDS will be hosting an open house for perspective tenants to view this available rental property\, pick up an application and speak with the property manager. \nFor more information on this rental home\, please click here.
URL:https://acdsinc.org/event/rental-open-house-5304-4th-street-2/
LOCATION:5304 4th Street\, 5304 4th Street\, Baltimore\, 21225\, United States
GEO:39.222555;-76.603393
X-APPLE-STRUCTURED-LOCATION;VALUE=URI;X-ADDRESS=5304 4th Street 5304 4th Street Baltimore 21225 United States;X-APPLE-RADIUS=500;X-TITLE=5304 4th Street:geo:-76.603393,39.222555
END:VEVENT
BEGIN:VEVENT
DTSTART;TZID=America/New_York:20180110T180000
DTEND;TZID=America/New_York:20180110T190000
DTSTAMP:20260424T132245
CREATED:20180103T204549Z
LAST-MODIFIED:20180103T204549Z
UID:10002560-1515607200-1515610800@acdsinc.org
SUMMARY:Rental Open House (203 Southerly Road)
DESCRIPTION:ACDS will be hosting an open house for perspective tenants to view this available rental property\, pick up an application and speak with the property manager. \nFor more information on this rental home\, please click here.
URL:https://acdsinc.org/event/rental-open-house-203-southerly-road-16/
LOCATION:203 Southerly Road\, 203 Southerly Road\, Baltimore\, MD\, 21225\, United States
GEO:39.223299;-76.608032
X-APPLE-STRUCTURED-LOCATION;VALUE=URI;X-ADDRESS=203 Southerly Road 203 Southerly Road Baltimore MD 21225 United States;X-APPLE-RADIUS=500;X-TITLE=203 Southerly Road:geo:-76.608032,39.223299
END:VEVENT
BEGIN:VEVENT
DTSTART;TZID=America/New_York:20180106T110000
DTEND;TZID=America/New_York:20180106T120000
DTSTAMP:20260424T132245
CREATED:20180103T204441Z
LAST-MODIFIED:20180103T204441Z
UID:10002558-1515236400-1515240000@acdsinc.org
SUMMARY:Rental Open House (203 Southerly Road)
DESCRIPTION:ACDS will be hosting an open house for perspective tenants to view this available rental property\, pick up an application and speak with the property manager. \nFor more information on this rental home\, please click here.
URL:https://acdsinc.org/event/rental-open-house-203-southerly-road-15/
LOCATION:203 Southerly Road\, 203 Southerly Road\, Baltimore\, MD\, 21225\, United States
GEO:39.223299;-76.608032
X-APPLE-STRUCTURED-LOCATION;VALUE=URI;X-ADDRESS=203 Southerly Road 203 Southerly Road Baltimore MD 21225 United States;X-APPLE-RADIUS=500;X-TITLE=203 Southerly Road:geo:-76.608032,39.223299
END:VEVENT
BEGIN:VEVENT
DTSTART;TZID=America/New_York:20180102T160000
DTEND;TZID=America/New_York:20180102T170000
DTSTAMP:20260424T132245
CREATED:20180103T205437Z
LAST-MODIFIED:20180103T205437Z
UID:10002571-1514908800-1514912400@acdsinc.org
SUMMARY:Rental Open House (5304 4th Street)
DESCRIPTION:ACDS will be hosting an open house for perspective tenants to view this available rental property\, pick up an application and speak with the property manager. \nFor more information on this rental home\, please click here.
URL:https://acdsinc.org/event/rental-open-house-5304-4th-street-5/
LOCATION:5304 4th Street\, 5304 4th Street\, Baltimore\, 21225\, United States
GEO:39.222555;-76.603393
X-APPLE-STRUCTURED-LOCATION;VALUE=URI;X-ADDRESS=5304 4th Street 5304 4th Street Baltimore 21225 United States;X-APPLE-RADIUS=500;X-TITLE=5304 4th Street:geo:-76.603393,39.222555
END:VEVENT
BEGIN:VEVENT
DTSTART;TZID=America/New_York:20171128T160000
DTEND;TZID=America/New_York:20171128T170000
DTSTAMP:20260424T132245
CREATED:20171023T204053Z
LAST-MODIFIED:20171023T204053Z
UID:10002613-1511884800-1511888400@acdsinc.org
SUMMARY:Rental Open House (5306 Brookwood Road)
DESCRIPTION:ACDS will be hosting an open house for perspective tenants to view this available rental property\, pick up an application and speak with the property manager. \nFor more information on this rental home\, please click here.
URL:https://acdsinc.org/event/rental-open-house-5306-brookwood-road-6/
LOCATION:5306 Brookwood Road\, 5306 Brookwood Road\, Baltimore\, MD\, 21225\, United States
GEO:39.221981;-76.6087469
X-APPLE-STRUCTURED-LOCATION;VALUE=URI;X-ADDRESS=5306 Brookwood Road 5306 Brookwood Road Baltimore MD 21225 United States;X-APPLE-RADIUS=500;X-TITLE=5306 Brookwood Road:geo:-76.6087469,39.221981
END:VEVENT
BEGIN:VEVENT
DTSTART;TZID=America/New_York:20171119T110000
DTEND;TZID=America/New_York:20171119T120000
DTSTAMP:20260424T132245
CREATED:20171023T203841Z
LAST-MODIFIED:20171102T183018Z
UID:10002609-1511089200-1511092800@acdsinc.org
SUMMARY:Rental Open House (5304 4th Street)
DESCRIPTION:ACDS will be hosting an open house for perspective tenants to view this available rental property\, pick up an application and speak with the property manager. \nFor more information on this rental home\, please click here.
URL:https://acdsinc.org/event/rental-open-house-2/
LOCATION:5304 4th Street\, 5304 4th Street\, Baltimore\, 21225\, United States
GEO:39.222555;-76.603393
X-APPLE-STRUCTURED-LOCATION;VALUE=URI;X-ADDRESS=5304 4th Street 5304 4th Street Baltimore 21225 United States;X-APPLE-RADIUS=500;X-TITLE=5304 4th Street:geo:-76.603393,39.222555
END:VEVENT
BEGIN:VEVENT
DTSTART;TZID=America/New_York:20171116T163000
DTEND;TZID=America/New_York:20171116T173000
DTSTAMP:20260424T132245
CREATED:20171023T203757Z
LAST-MODIFIED:20171023T203757Z
UID:10002607-1510849800-1510853400@acdsinc.org
SUMMARY:Rental Open House (203 Southerly Road)
DESCRIPTION:ACDS will be hosting an open house for perspective tenants to view this available rental property\, pick up an application and speak with the property manager. \nFor more information on this rental home\, please click here.
URL:https://acdsinc.org/event/rental-open-house-203-southerly-road-14/
LOCATION:203 Southerly Road\, 203 Southerly Road\, Baltimore\, MD\, 21225\, United States
GEO:39.223299;-76.608032
X-APPLE-STRUCTURED-LOCATION;VALUE=URI;X-ADDRESS=203 Southerly Road 203 Southerly Road Baltimore MD 21225 United States;X-APPLE-RADIUS=500;X-TITLE=203 Southerly Road:geo:-76.608032,39.223299
END:VEVENT
BEGIN:VEVENT
DTSTART;TZID=America/New_York:20171114T163000
DTEND;TZID=America/New_York:20171114T173000
DTSTAMP:20260424T132245
CREATED:20171108T210220Z
LAST-MODIFIED:20171108T210220Z
UID:10002648-1510677000-1510680600@acdsinc.org
SUMMARY:Rental Open House (5304 4th Street)
DESCRIPTION:ACDS will be hosting an open house for perspective tenants to view this available rental property\, pick up an application and speak with the property manager. For more information on this rental home\, please click here.
URL:https://acdsinc.org/event/rental-open-house-5304-4th-street/
LOCATION:5304 4th Street\, 5304 4th Street\, Baltimore\, 21225\, United States
GEO:39.222555;-76.603393
X-APPLE-STRUCTURED-LOCATION;VALUE=URI;X-ADDRESS=5304 4th Street 5304 4th Street Baltimore 21225 United States;X-APPLE-RADIUS=500;X-TITLE=5304 4th Street:geo:-76.603393,39.222555
END:VEVENT
BEGIN:VEVENT
DTSTART;TZID=America/New_York:20171106T163000
DTEND;TZID=America/New_York:20171106T173000
DTSTAMP:20260424T132245
CREATED:20171023T204008Z
LAST-MODIFIED:20171024T164752Z
UID:10002611-1509985800-1509989400@acdsinc.org
SUMMARY:Rental Open House (5306 Brookwood Road)
DESCRIPTION:ACDS will be hosting an open house for perspective tenants to view this available rental property\, pick up an application and speak with the property manager. \nFor more information on this rental home\, please click here.
URL:https://acdsinc.org/event/rental-open-house-5306-brookwood-road-4/
LOCATION:5306 Brookwood Road\, 5306 Brookwood Road\, Baltimore\, MD\, 21225\, United States
GEO:39.221981;-76.6087469
X-APPLE-STRUCTURED-LOCATION;VALUE=URI;X-ADDRESS=5306 Brookwood Road 5306 Brookwood Road Baltimore MD 21225 United States;X-APPLE-RADIUS=500;X-TITLE=5306 Brookwood Road:geo:-76.6087469,39.221981
END:VEVENT
BEGIN:VEVENT
DTSTART;TZID=America/New_York:20171105T110000
DTEND;TZID=America/New_York:20171105T120000
DTSTAMP:20260424T132245
CREATED:20171023T203710Z
LAST-MODIFIED:20171023T203710Z
UID:10002605-1509879600-1509883200@acdsinc.org
SUMMARY:Rental Open House (203 Southerly Road)
DESCRIPTION:ACDS will be hosting an open house for perspective tenants to view this available rental property\, pick up an application and speak with the property manager. \nFor more information on this rental home\, please click here.
URL:https://acdsinc.org/event/rental-open-house-203-southerly-road-13/
LOCATION:203 Southerly Road\, 203 Southerly Road\, Baltimore\, MD\, 21225\, United States
GEO:39.223299;-76.608032
X-APPLE-STRUCTURED-LOCATION;VALUE=URI;X-ADDRESS=203 Southerly Road 203 Southerly Road Baltimore MD 21225 United States;X-APPLE-RADIUS=500;X-TITLE=203 Southerly Road:geo:-76.608032,39.223299
END:VEVENT
BEGIN:VEVENT
DTSTART;TZID=America/New_York:20171102T170000
DTEND;TZID=America/New_York:20171102T180000
DTSTAMP:20260424T132245
CREATED:20171023T203613Z
LAST-MODIFIED:20171023T203613Z
UID:10002603-1509642000-1509645600@acdsinc.org
SUMMARY:Rental Open House (203 Southerly Road)
DESCRIPTION:ACDS will be hosting an open house for perspective tenants to view this available rental property\, pick up an application and speak with the property manager. \nFor more information on this rental home\, please click here.
URL:https://acdsinc.org/event/rental-open-house-203-southerly-road-12/
LOCATION:203 Southerly Road\, 203 Southerly Road\, Baltimore\, MD\, 21225\, United States
GEO:39.223299;-76.608032
X-APPLE-STRUCTURED-LOCATION;VALUE=URI;X-ADDRESS=203 Southerly Road 203 Southerly Road Baltimore MD 21225 United States;X-APPLE-RADIUS=500;X-TITLE=203 Southerly Road:geo:-76.608032,39.223299
END:VEVENT
BEGIN:VEVENT
DTSTART;TZID=America/New_York:20171030T163000
DTEND;TZID=America/New_York:20171030T173000
DTSTAMP:20260424T132245
CREATED:20170925T185321Z
LAST-MODIFIED:20171009T185448Z
UID:10002588-1509381000-1509384600@acdsinc.org
SUMMARY:Rental Open House (5306 Brookwood Road)
DESCRIPTION:ACDS will be hosting an open house for perspective tenants to view this available rental property\, pick up an application and speak with the property manager. \nFor more information on this rental home\, please click here.
URL:https://acdsinc.org/event/rental-open-house/
LOCATION:5306 Brookwood Road\, 5306 Brookwood Road\, Baltimore\, MD\, 21225\, United States
GEO:39.221981;-76.6087469
X-APPLE-STRUCTURED-LOCATION;VALUE=URI;X-ADDRESS=5306 Brookwood Road 5306 Brookwood Road Baltimore MD 21225 United States;X-APPLE-RADIUS=500;X-TITLE=5306 Brookwood Road:geo:-76.6087469,39.221981
END:VEVENT
BEGIN:VEVENT
DTSTART;TZID=America/New_York:20171024T163000
DTEND;TZID=America/New_York:20171024T173000
DTSTAMP:20260424T132245
CREATED:20170925T185206Z
LAST-MODIFIED:20171023T203501Z
UID:10002587-1508862600-1508866200@acdsinc.org
SUMMARY:Rental Open House (203 Southerly Road)
DESCRIPTION:ACDS will be hosting an open house for perspective tenants to view this available rental property\, pick up an application and speak with the property manager. \nFor more information on this rental home\, please click here.
URL:https://acdsinc.org/event/rental-open-house-5306-brookwood-road-5/
LOCATION:5306 Brookwood Road\, 5306 Brookwood Road\, Baltimore\, MD\, 21225\, United States
GEO:39.221981;-76.6087469
X-APPLE-STRUCTURED-LOCATION;VALUE=URI;X-ADDRESS=5306 Brookwood Road 5306 Brookwood Road Baltimore MD 21225 United States;X-APPLE-RADIUS=500;X-TITLE=5306 Brookwood Road:geo:-76.6087469,39.221981
END:VEVENT
BEGIN:VEVENT
DTSTART;TZID=America/New_York:20171018T170000
DTEND;TZID=America/New_York:20171018T180000
DTSTAMP:20260424T132245
CREATED:20170925T184815Z
LAST-MODIFIED:20170925T184815Z
UID:10002584-1508346000-1508349600@acdsinc.org
SUMMARY:Rental Open House (203 Southerly Road)
DESCRIPTION:ACDS will be hosting an open house for perspective tenants to view this available rental property\, pick up an application and speak with the property manager. \nFor more information on this rental home\, please click here.
URL:https://acdsinc.org/event/rental-open-house-203-southerly-road-11/
LOCATION:203 Southerly Road\, 203 Southerly Road\, Baltimore\, MD\, 21225\, United States
GEO:39.223299;-76.608032
X-APPLE-STRUCTURED-LOCATION;VALUE=URI;X-ADDRESS=203 Southerly Road 203 Southerly Road Baltimore MD 21225 United States;X-APPLE-RADIUS=500;X-TITLE=203 Southerly Road:geo:-76.608032,39.223299
END:VEVENT
BEGIN:VEVENT
DTSTART;TZID=America/New_York:20171014T100000
DTEND;TZID=America/New_York:20171014T110000
DTSTAMP:20260424T132245
CREATED:20170925T185043Z
LAST-MODIFIED:20171009T185247Z
UID:10002586-1507975200-1507978800@acdsinc.org
SUMMARY:Rental Open House (203 Southerly Road)
DESCRIPTION:ACDS will be hosting an open house for perspective tenants to view this available rental property\, pick up an application and speak with the property manager. \nFor more information on this rental home\, please click here.
URL:https://acdsinc.org/event/rental-open-house-5306-brookwood-road-3/
LOCATION:5306 Brookwood Road\, 5306 Brookwood Road\, Baltimore\, MD\, 21225\, United States
GEO:39.221981;-76.6087469
X-APPLE-STRUCTURED-LOCATION;VALUE=URI;X-ADDRESS=5306 Brookwood Road 5306 Brookwood Road Baltimore MD 21225 United States;X-APPLE-RADIUS=500;X-TITLE=5306 Brookwood Road:geo:-76.6087469,39.221981
END:VEVENT
BEGIN:VEVENT
DTSTART;TZID=America/New_York:20171010T163000
DTEND;TZID=America/New_York:20171010T173000
DTSTAMP:20260424T132245
CREATED:20170925T184724Z
LAST-MODIFIED:20170925T184724Z
UID:10002583-1507653000-1507656600@acdsinc.org
SUMMARY:Rental Open House (203 Southerly Road)
DESCRIPTION:ACDS will be hosting an open house for perspective tenants to view this available rental property\, pick up an application and speak with the property manager. \nFor more information on this rental home\, please click here.
URL:https://acdsinc.org/event/rental-open-house-203-southerly-road-10/
LOCATION:203 Southerly Road\, 203 Southerly Road\, Baltimore\, MD\, 21225\, United States
GEO:39.223299;-76.608032
X-APPLE-STRUCTURED-LOCATION;VALUE=URI;X-ADDRESS=203 Southerly Road 203 Southerly Road Baltimore MD 21225 United States;X-APPLE-RADIUS=500;X-TITLE=203 Southerly Road:geo:-76.608032,39.223299
END:VEVENT
BEGIN:VEVENT
DTSTART;TZID=America/New_York:20171006T163000
DTEND;TZID=America/New_York:20171006T173000
DTSTAMP:20260424T132245
CREATED:20170925T185005Z
LAST-MODIFIED:20170925T185005Z
UID:10002585-1507307400-1507311000@acdsinc.org
SUMMARY:Rental Open House (5306 Brookwood Road)
DESCRIPTION:ACDS will be hosting an open house for perspective tenants to view this available rental property\, pick up an application and speak with the property manager. \nFor more information on this rental home\, please click here.
URL:https://acdsinc.org/event/rental-open-house-5306-brookwood-road-2/
LOCATION:5306 Brookwood Road\, 5306 Brookwood Road\, Baltimore\, MD\, 21225\, United States
GEO:39.221981;-76.6087469
X-APPLE-STRUCTURED-LOCATION;VALUE=URI;X-ADDRESS=5306 Brookwood Road 5306 Brookwood Road Baltimore MD 21225 United States;X-APPLE-RADIUS=500;X-TITLE=5306 Brookwood Road:geo:-76.6087469,39.221981
END:VEVENT
BEGIN:VEVENT
DTSTART;TZID=America/New_York:20171004T170000
DTEND;TZID=America/New_York:20171004T180000
DTSTAMP:20260424T132245
CREATED:20170925T184639Z
LAST-MODIFIED:20170925T184639Z
UID:10002582-1507136400-1507140000@acdsinc.org
SUMMARY:Rental Open House (203 Southerly Road)
DESCRIPTION:ACDS will be hosting an open house for perspective tenants to view this available rental property\, pick up an application and speak with the property manager. \nFor more information on this rental home\, please click here.
URL:https://acdsinc.org/event/rental-open-house-203-southerly-road-9/
LOCATION:203 Southerly Road\, 203 Southerly Road\, Baltimore\, MD\, 21225\, United States
GEO:39.223299;-76.608032
X-APPLE-STRUCTURED-LOCATION;VALUE=URI;X-ADDRESS=203 Southerly Road 203 Southerly Road Baltimore MD 21225 United States;X-APPLE-RADIUS=500;X-TITLE=203 Southerly Road:geo:-76.608032,39.223299
END:VEVENT
END:VCALENDAR