BEGIN:VCALENDAR
VERSION:2.0
PRODID:-//Arundel Community Development Services, Inc. - ECPv6.15.20//NONSGML v1.0//EN
CALSCALE:GREGORIAN
METHOD:PUBLISH
X-ORIGINAL-URL:https://acdsinc.org
X-WR-CALDESC:Events for Arundel Community Development Services, Inc.
REFRESH-INTERVAL;VALUE=DURATION:PT1H
X-Robots-Tag:noindex
X-PUBLISHED-TTL:PT1H
BEGIN:VTIMEZONE
TZID:America/New_York
BEGIN:DAYLIGHT
TZOFFSETFROM:-0500
TZOFFSETTO:-0400
TZNAME:EDT
DTSTART:20210314T070000
END:DAYLIGHT
BEGIN:STANDARD
TZOFFSETFROM:-0400
TZOFFSETTO:-0500
TZNAME:EST
DTSTART:20211107T060000
END:STANDARD
BEGIN:DAYLIGHT
TZOFFSETFROM:-0500
TZOFFSETTO:-0400
TZNAME:EDT
DTSTART:20220313T070000
END:DAYLIGHT
BEGIN:STANDARD
TZOFFSETFROM:-0400
TZOFFSETTO:-0500
TZNAME:EST
DTSTART:20221106T060000
END:STANDARD
BEGIN:DAYLIGHT
TZOFFSETFROM:-0500
TZOFFSETTO:-0400
TZNAME:EDT
DTSTART:20230312T070000
END:DAYLIGHT
BEGIN:STANDARD
TZOFFSETFROM:-0400
TZOFFSETTO:-0500
TZNAME:EST
DTSTART:20231105T060000
END:STANDARD
BEGIN:DAYLIGHT
TZOFFSETFROM:-0500
TZOFFSETTO:-0400
TZNAME:EDT
DTSTART:20240310T070000
END:DAYLIGHT
BEGIN:STANDARD
TZOFFSETFROM:-0400
TZOFFSETTO:-0500
TZNAME:EST
DTSTART:20241103T060000
END:STANDARD
END:VTIMEZONE
BEGIN:VEVENT
DTSTART;TZID=America/New_York:20230602T100000
DTEND;TZID=America/New_York:20230602T110000
DTSTAMP:20260423T220219
CREATED:20221004T150715Z
LAST-MODIFIED:20230105T193210Z
UID:10003051-1685700000-1685703600@acdsinc.org
SUMMARY:Homeless Coalition Monthly Board Meeting
DESCRIPTION:Monthly Board Meeting\nWhen: First Friday of each month \nTime: 10:00 a.m. to 11:00 a.m. \nWhere: https://us02web.zoom.us/j/85345458953  \n**ACDS is Anne Arundel County’s CoC Lead Agency.
URL:https://acdsinc.org/event/homeless-coalition-october-2022-monthly-board-meeting/2023-06-02/
END:VEVENT
BEGIN:VEVENT
DTSTART;TZID=America/New_York:20230505T100000
DTEND;TZID=America/New_York:20230505T110000
DTSTAMP:20260423T220219
CREATED:20221004T150715Z
LAST-MODIFIED:20230105T193210Z
UID:10003050-1683280800-1683284400@acdsinc.org
SUMMARY:Homeless Coalition Monthly Board Meeting
DESCRIPTION:Monthly Board Meeting\nWhen: First Friday of each month \nTime: 10:00 a.m. to 11:00 a.m. \nWhere: https://us02web.zoom.us/j/85345458953  \n**ACDS is Anne Arundel County’s CoC Lead Agency.
URL:https://acdsinc.org/event/homeless-coalition-october-2022-monthly-board-meeting/2023-05-05/
END:VEVENT
BEGIN:VEVENT
DTSTART;TZID=America/New_York:20230407T100000
DTEND;TZID=America/New_York:20230407T110000
DTSTAMP:20260423T220219
CREATED:20221004T150715Z
LAST-MODIFIED:20230105T193210Z
UID:10003049-1680861600-1680865200@acdsinc.org
SUMMARY:Homeless Coalition Monthly Board Meeting
DESCRIPTION:Monthly Board Meeting\nWhen: First Friday of each month \nTime: 10:00 a.m. to 11:00 a.m. \nWhere: https://us02web.zoom.us/j/85345458953  \n**ACDS is Anne Arundel County’s CoC Lead Agency.
URL:https://acdsinc.org/event/homeless-coalition-october-2022-monthly-board-meeting/2023-04-07/
END:VEVENT
BEGIN:VEVENT
DTSTART;TZID=America/New_York:20230303T100000
DTEND;TZID=America/New_York:20230303T110000
DTSTAMP:20260423T220219
CREATED:20221004T150715Z
LAST-MODIFIED:20230105T193210Z
UID:10003048-1677837600-1677841200@acdsinc.org
SUMMARY:Homeless Coalition Monthly Board Meeting
DESCRIPTION:Monthly Board Meeting\nWhen: First Friday of each month \nTime: 10:00 a.m. to 11:00 a.m. \nWhere: https://us02web.zoom.us/j/85345458953  \n**ACDS is Anne Arundel County’s CoC Lead Agency.
URL:https://acdsinc.org/event/homeless-coalition-october-2022-monthly-board-meeting/2023-03-03/
END:VEVENT
BEGIN:VEVENT
DTSTART;TZID=America/New_York:20230203T100000
DTEND;TZID=America/New_York:20230203T110000
DTSTAMP:20260423T220220
CREATED:20221004T150715Z
LAST-MODIFIED:20230105T193210Z
UID:10003047-1675418400-1675422000@acdsinc.org
SUMMARY:Homeless Coalition Monthly Board Meeting
DESCRIPTION:Monthly Board Meeting\nWhen: First Friday of each month \nTime: 10:00 a.m. to 11:00 a.m. \nWhere: https://us02web.zoom.us/j/85345458953  \n**ACDS is Anne Arundel County’s CoC Lead Agency.
URL:https://acdsinc.org/event/homeless-coalition-october-2022-monthly-board-meeting/2023-02-03/
END:VEVENT
BEGIN:VEVENT
DTSTART;TZID=America/New_York:20221202T100000
DTEND;TZID=America/New_York:20221202T110000
DTSTAMP:20260423T220220
CREATED:20221004T150715Z
LAST-MODIFIED:20230105T193210Z
UID:10003045-1669975200-1669978800@acdsinc.org
SUMMARY:Homeless Coalition Monthly Board Meeting
DESCRIPTION:Monthly Board Meeting\nWhen: First Friday of each month \nTime: 10:00 a.m. to 11:00 a.m. \nWhere: https://us02web.zoom.us/j/85345458953  \n**ACDS is Anne Arundel County’s CoC Lead Agency.
URL:https://acdsinc.org/event/homeless-coalition-october-2022-monthly-board-meeting/2022-12-02/
END:VEVENT
BEGIN:VEVENT
DTSTART;TZID=America/New_York:20221104T100000
DTEND;TZID=America/New_York:20221104T110000
DTSTAMP:20260423T220220
CREATED:20221004T150715Z
LAST-MODIFIED:20230105T193210Z
UID:10003044-1667556000-1667559600@acdsinc.org
SUMMARY:Homeless Coalition Monthly Board Meeting
DESCRIPTION:Monthly Board Meeting\nWhen: First Friday of each month \nTime: 10:00 a.m. to 11:00 a.m. \nWhere: https://us02web.zoom.us/j/85345458953  \n**ACDS is Anne Arundel County’s CoC Lead Agency.
URL:https://acdsinc.org/event/homeless-coalition-october-2022-monthly-board-meeting/2022-11-04/
END:VEVENT
BEGIN:VEVENT
DTSTART;TZID=America/New_York:20221007T100000
DTEND;TZID=America/New_York:20221007T110000
DTSTAMP:20260423T220220
CREATED:20221004T150715Z
LAST-MODIFIED:20230105T193210Z
UID:10003043-1665136800-1665140400@acdsinc.org
SUMMARY:Homeless Coalition Monthly Board Meeting
DESCRIPTION:Monthly Board Meeting\nWhen: First Friday of each month \nTime: 10:00 a.m. to 11:00 a.m. \nWhere: https://us02web.zoom.us/j/85345458953  \n**ACDS is Anne Arundel County’s CoC Lead Agency.
URL:https://acdsinc.org/event/homeless-coalition-october-2022-monthly-board-meeting/2022-10-07/
END:VEVENT
END:VCALENDAR