BEGIN:VCALENDAR
VERSION:2.0
PRODID:-//Arundel Community Development Services, Inc. - ECPv6.15.20//NONSGML v1.0//EN
CALSCALE:GREGORIAN
METHOD:PUBLISH
X-WR-CALNAME:Arundel Community Development Services, Inc.
X-ORIGINAL-URL:https://acdsinc.org
X-WR-CALDESC:Events for Arundel Community Development Services, Inc.
REFRESH-INTERVAL;VALUE=DURATION:PT1H
X-Robots-Tag:noindex
X-PUBLISHED-TTL:PT1H
BEGIN:VTIMEZONE
TZID:America/New_York
BEGIN:DAYLIGHT
TZOFFSETFROM:-0500
TZOFFSETTO:-0400
TZNAME:EDT
DTSTART:20220313T070000
END:DAYLIGHT
BEGIN:STANDARD
TZOFFSETFROM:-0400
TZOFFSETTO:-0500
TZNAME:EST
DTSTART:20221106T060000
END:STANDARD
BEGIN:DAYLIGHT
TZOFFSETFROM:-0500
TZOFFSETTO:-0400
TZNAME:EDT
DTSTART:20230312T070000
END:DAYLIGHT
BEGIN:STANDARD
TZOFFSETFROM:-0400
TZOFFSETTO:-0500
TZNAME:EST
DTSTART:20231105T060000
END:STANDARD
BEGIN:DAYLIGHT
TZOFFSETFROM:-0500
TZOFFSETTO:-0400
TZNAME:EDT
DTSTART:20240310T070000
END:DAYLIGHT
BEGIN:STANDARD
TZOFFSETFROM:-0400
TZOFFSETTO:-0500
TZNAME:EST
DTSTART:20241103T060000
END:STANDARD
BEGIN:DAYLIGHT
TZOFFSETFROM:-0500
TZOFFSETTO:-0400
TZNAME:EDT
DTSTART:20250309T070000
END:DAYLIGHT
BEGIN:STANDARD
TZOFFSETFROM:-0400
TZOFFSETTO:-0500
TZNAME:EST
DTSTART:20251102T060000
END:STANDARD
END:VTIMEZONE
BEGIN:VEVENT
DTSTART;TZID=America/New_York:20240822T160000
DTEND;TZID=America/New_York:20240822T190000
DTSTAMP:20260423T214714
CREATED:20231027T124652Z
LAST-MODIFIED:20240627T182318Z
UID:10003239-1724342400-1724353200@acdsinc.org
SUMMARY:Homeownership Counseling Workshop Part II
DESCRIPTION:The Homeownership Counseling Program classes are by invitation only. \nTHOSE WHO DO NOT APPLY WILL NOT BE ALLOWED TO PARTICIPATE. \nTo being the programs please click here and this link will direct you to the Homeownership Counseling Application. To learn more about our Homeownership Counseling program please click here.
URL:https://acdsinc.org/event/homeownership-counseling-workshop-class-part-ii-8-2/2024-08-22/
LOCATION:Virtual
ORGANIZER;CN="Arundel Community Development Services%2C Inc.":MAILTO:info@acdsinc.org
END:VEVENT
BEGIN:VEVENT
DTSTART;TZID=America/New_York:20240820T160000
DTEND;TZID=America/New_York:20240820T190000
DTSTAMP:20260423T214714
CREATED:20240627T181417Z
LAST-MODIFIED:20240627T181854Z
UID:10003237-1724169600-1724180400@acdsinc.org
SUMMARY:Homeownership Counseling Workshop Part I
DESCRIPTION:The Homeownership Counseling Program classes are by invitation only. \nTHOSE WHO DO NOT APPLY WILL NOT BE ALLOWED TO PARTICIPATE. \nTo being the programs please click here and this link will direct you to the Homeownership Counseling Application. To learn more about our Homeownership Counseling program please click here.
URL:https://acdsinc.org/event/homeownership-counseling-workshop-class-part-ii-8-2-2/2024-08-20/
LOCATION:Virtual
ORGANIZER;CN="Arundel Community Development Services%2C Inc.":MAILTO:info@acdsinc.org
END:VEVENT
BEGIN:VEVENT
DTSTART;TZID=America/New_York:20240814T180000
DTEND;TZID=America/New_York:20240814T190000
DTSTAMP:20260423T214714
CREATED:20240627T175312Z
LAST-MODIFIED:20240627T180854Z
UID:10003233-1723658400-1723662000@acdsinc.org
SUMMARY:Homeownership Counseling Introduction Class
DESCRIPTION:THIS CLASS IS FULL \nThe Homeownership Counseling Program classes are by invitation only. THOSE WHO DO NOT APPLY WILL NOT BE ALLOWED TO PARTICIPATE. \nTo apply for the next available class please click here and this link will direct you to the Homeownership Counseling Application. To learn more about our Homeownership Counseling program please click here. \nThe Introduction Class is the first session of the Homeownership Counseling Program and helps participants understand the requirements of the program.
URL:https://acdsinc.org/event/homeownership-counseling-introduction-class-37-2/2024-08-14/
LOCATION:Virtual
ORGANIZER;CN="Arundel Community Development Services%2C Inc.":MAILTO:info@acdsinc.org
END:VEVENT
BEGIN:VEVENT
DTSTART;TZID=America/New_York:20240807T180000
DTEND;TZID=America/New_York:20240807T190000
DTSTAMP:20260423T214714
CREATED:20240627T175312Z
LAST-MODIFIED:20240627T180854Z
UID:10003232-1723053600-1723057200@acdsinc.org
SUMMARY:Homeownership Counseling Introduction Class
DESCRIPTION:THIS CLASS IS FULL \nThe Homeownership Counseling Program classes are by invitation only. THOSE WHO DO NOT APPLY WILL NOT BE ALLOWED TO PARTICIPATE. \nTo apply for the next available class please click here and this link will direct you to the Homeownership Counseling Application. To learn more about our Homeownership Counseling program please click here. \nThe Introduction Class is the first session of the Homeownership Counseling Program and helps participants understand the requirements of the program.
URL:https://acdsinc.org/event/homeownership-counseling-introduction-class-37-2/2024-08-07/
LOCATION:Virtual
ORGANIZER;CN="Arundel Community Development Services%2C Inc.":MAILTO:info@acdsinc.org
END:VEVENT
BEGIN:VEVENT
DTSTART;TZID=America/New_York:20240725T160000
DTEND;TZID=America/New_York:20240725T190000
DTSTAMP:20260423T214714
CREATED:20231027T124652Z
LAST-MODIFIED:20240627T182318Z
UID:10003095-1721923200-1721934000@acdsinc.org
SUMMARY:Homeownership Counseling Workshop Part II
DESCRIPTION:The Homeownership Counseling Program classes are by invitation only. \nTHOSE WHO DO NOT APPLY WILL NOT BE ALLOWED TO PARTICIPATE. \nTo being the programs please click here and this link will direct you to the Homeownership Counseling Application. To learn more about our Homeownership Counseling program please click here.
URL:https://acdsinc.org/event/homeownership-counseling-workshop-class-part-ii-8-2/2024-07-25/
LOCATION:Virtual
ORGANIZER;CN="Arundel Community Development Services%2C Inc.":MAILTO:info@acdsinc.org
END:VEVENT
BEGIN:VEVENT
DTSTART;TZID=America/New_York:20240723T160000
DTEND;TZID=America/New_York:20240723T190000
DTSTAMP:20260423T214714
CREATED:20240627T181417Z
LAST-MODIFIED:20240627T181854Z
UID:10003234-1721750400-1721761200@acdsinc.org
SUMMARY:Homeownership Counseling Workshop Part I
DESCRIPTION:The Homeownership Counseling Program classes are by invitation only. \nTHOSE WHO DO NOT APPLY WILL NOT BE ALLOWED TO PARTICIPATE. \nTo being the programs please click here and this link will direct you to the Homeownership Counseling Application. To learn more about our Homeownership Counseling program please click here.
URL:https://acdsinc.org/event/homeownership-counseling-workshop-class-part-ii-8-2-2/2024-07-23/
LOCATION:Virtual
ORGANIZER;CN="Arundel Community Development Services%2C Inc.":MAILTO:info@acdsinc.org
END:VEVENT
BEGIN:VEVENT
DTSTART;TZID=America/New_York:20240717T180000
DTEND;TZID=America/New_York:20240717T190000
DTSTAMP:20260423T214714
CREATED:20240627T175312Z
LAST-MODIFIED:20240627T180854Z
UID:10003231-1721239200-1721242800@acdsinc.org
SUMMARY:Homeownership Counseling Introduction Class
DESCRIPTION:THIS CLASS IS FULL \nThe Homeownership Counseling Program classes are by invitation only. THOSE WHO DO NOT APPLY WILL NOT BE ALLOWED TO PARTICIPATE. \nTo apply for the next available class please click here and this link will direct you to the Homeownership Counseling Application. To learn more about our Homeownership Counseling program please click here. \nThe Introduction Class is the first session of the Homeownership Counseling Program and helps participants understand the requirements of the program.
URL:https://acdsinc.org/event/homeownership-counseling-introduction-class-37-2/2024-07-17/
LOCATION:Virtual
ORGANIZER;CN="Arundel Community Development Services%2C Inc.":MAILTO:info@acdsinc.org
END:VEVENT
BEGIN:VEVENT
DTSTART;TZID=America/New_York:20240710T180000
DTEND;TZID=America/New_York:20240710T190000
DTSTAMP:20260423T214714
CREATED:20240627T175312Z
LAST-MODIFIED:20240627T180854Z
UID:10003230-1720634400-1720638000@acdsinc.org
SUMMARY:Homeownership Counseling Introduction Class
DESCRIPTION:THIS CLASS IS FULL \nThe Homeownership Counseling Program classes are by invitation only. THOSE WHO DO NOT APPLY WILL NOT BE ALLOWED TO PARTICIPATE. \nTo apply for the next available class please click here and this link will direct you to the Homeownership Counseling Application. To learn more about our Homeownership Counseling program please click here. \nThe Introduction Class is the first session of the Homeownership Counseling Program and helps participants understand the requirements of the program.
URL:https://acdsinc.org/event/homeownership-counseling-introduction-class-37-2/2024-07-10/
LOCATION:Virtual
ORGANIZER;CN="Arundel Community Development Services%2C Inc.":MAILTO:info@acdsinc.org
END:VEVENT
BEGIN:VEVENT
DTSTART;TZID=America/New_York:20240313T180000
DTEND;TZID=America/New_York:20240313T190000
DTSTAMP:20260423T214714
CREATED:20240122T190609Z
LAST-MODIFIED:20240122T190609Z
UID:10003227-1710352800-1710356400@acdsinc.org
SUMMARY:Homeownership Counseling Introduction Class
DESCRIPTION:The Homeownership Counseling Program classes are by invitation only. THOSE WHO DO NOT APPLY WILL NOT BE ALLOWED TO PARTICIPATE. \nTo apply for the next available class please click here and this link will direct you to the Homeownership Counseling Application. To learn more about our Homeownership Counseling program please click here. \nThe Introduction Class is the first session of the Homeownership Counseling Program and helps participants understand the requirements of the program.
URL:https://acdsinc.org/event/homeownership-counseling-introduction-class-37/2024-03-13/
LOCATION:Zoom Call
ORGANIZER;CN="Arundel Community Development Services%2C Inc.":MAILTO:info@acdsinc.org
END:VEVENT
BEGIN:VEVENT
DTSTART;TZID=America/New_York:20240306T180000
DTEND;TZID=America/New_York:20240306T190000
DTSTAMP:20260423T214714
CREATED:20240122T190609Z
LAST-MODIFIED:20240122T190609Z
UID:10003226-1709748000-1709751600@acdsinc.org
SUMMARY:Homeownership Counseling Introduction Class
DESCRIPTION:The Homeownership Counseling Program classes are by invitation only. THOSE WHO DO NOT APPLY WILL NOT BE ALLOWED TO PARTICIPATE. \nTo apply for the next available class please click here and this link will direct you to the Homeownership Counseling Application. To learn more about our Homeownership Counseling program please click here. \nThe Introduction Class is the first session of the Homeownership Counseling Program and helps participants understand the requirements of the program.
URL:https://acdsinc.org/event/homeownership-counseling-introduction-class-37/2024-03-06/
LOCATION:Zoom Call
ORGANIZER;CN="Arundel Community Development Services%2C Inc.":MAILTO:info@acdsinc.org
END:VEVENT
BEGIN:VEVENT
DTSTART;TZID=America/New_York:20240214T180000
DTEND;TZID=America/New_York:20240214T190000
DTSTAMP:20260423T214714
CREATED:20240122T190609Z
LAST-MODIFIED:20240122T190609Z
UID:10003225-1707933600-1707937200@acdsinc.org
SUMMARY:Homeownership Counseling Introduction Class
DESCRIPTION:The Homeownership Counseling Program classes are by invitation only. THOSE WHO DO NOT APPLY WILL NOT BE ALLOWED TO PARTICIPATE. \nTo apply for the next available class please click here and this link will direct you to the Homeownership Counseling Application. To learn more about our Homeownership Counseling program please click here. \nThe Introduction Class is the first session of the Homeownership Counseling Program and helps participants understand the requirements of the program.
URL:https://acdsinc.org/event/homeownership-counseling-introduction-class-37/2024-02-14/
LOCATION:Zoom Call
ORGANIZER;CN="Arundel Community Development Services%2C Inc.":MAILTO:info@acdsinc.org
END:VEVENT
BEGIN:VEVENT
DTSTART;TZID=America/New_York:20240207T180000
DTEND;TZID=America/New_York:20240207T190000
DTSTAMP:20260423T214714
CREATED:20240122T190609Z
LAST-MODIFIED:20240122T190609Z
UID:10003224-1707328800-1707332400@acdsinc.org
SUMMARY:Homeownership Counseling Introduction Class
DESCRIPTION:The Homeownership Counseling Program classes are by invitation only. THOSE WHO DO NOT APPLY WILL NOT BE ALLOWED TO PARTICIPATE. \nTo apply for the next available class please click here and this link will direct you to the Homeownership Counseling Application. To learn more about our Homeownership Counseling program please click here. \nThe Introduction Class is the first session of the Homeownership Counseling Program and helps participants understand the requirements of the program.
URL:https://acdsinc.org/event/homeownership-counseling-introduction-class-37/2024-02-07/
LOCATION:Zoom Call
ORGANIZER;CN="Arundel Community Development Services%2C Inc.":MAILTO:info@acdsinc.org
END:VEVENT
BEGIN:VEVENT
DTSTART;TZID=America/New_York:20231213T180000
DTEND;TZID=America/New_York:20231213T190000
DTSTAMP:20260423T214714
CREATED:20230426T203408Z
LAST-MODIFIED:20230602T143307Z
UID:10003130-1702490400-1702494000@acdsinc.org
SUMMARY:Homeownership Counseling Introduction Class
DESCRIPTION:The Homeownership Counseling Program classes are by invitation only. THOSE WHO DO NOT APPLY WILL NOT BE ALLOWED TO PARTICIPATE. \nTo apply for the next available class please click here and this link will direct you to the Homeownership Counseling Application. To learn more about our Homeownership Counseling program please click here. \nThe Introduction Class is the first session of the Homeownership Counseling Program and helps participants understand the requirements of the program.
URL:https://acdsinc.org/event/homeownership-counseling-introduction-class-36/2023-12-13/
LOCATION:Zoom Call
ORGANIZER;CN="Arundel Community Development Services%2C Inc.":MAILTO:info@acdsinc.org
END:VEVENT
BEGIN:VEVENT
DTSTART;TZID=America/New_York:20231206T180000
DTEND;TZID=America/New_York:20231206T190000
DTSTAMP:20260423T214714
CREATED:20230426T203408Z
LAST-MODIFIED:20230602T143307Z
UID:10003129-1701885600-1701889200@acdsinc.org
SUMMARY:Homeownership Counseling Introduction Class
DESCRIPTION:The Homeownership Counseling Program classes are by invitation only. THOSE WHO DO NOT APPLY WILL NOT BE ALLOWED TO PARTICIPATE. \nTo apply for the next available class please click here and this link will direct you to the Homeownership Counseling Application. To learn more about our Homeownership Counseling program please click here. \nThe Introduction Class is the first session of the Homeownership Counseling Program and helps participants understand the requirements of the program.
URL:https://acdsinc.org/event/homeownership-counseling-introduction-class-36/2023-12-06/
LOCATION:Zoom Call
ORGANIZER;CN="Arundel Community Development Services%2C Inc.":MAILTO:info@acdsinc.org
END:VEVENT
BEGIN:VEVENT
DTSTART;TZID=America/New_York:20231128T160000
DTEND;TZID=America/New_York:20231128T190000
DTSTAMP:20260423T214714
CREATED:20231103T153228Z
LAST-MODIFIED:20231103T153228Z
UID:10003220-1701187200-1701198000@acdsinc.org
SUMMARY:Homeownership Counseling Workshop Class Part 1
DESCRIPTION:THIS CLASS IS FULL \nThe Homeownership Counseling Program classes are by invitation only. \nTHOSE WHO DO NOT APPLY WILL NOT BE ALLOWED TO PARTICIPATE. \nTo being the programs please click here and this link will direct you to the Homeownership Counseling Application. To learn more about our Homeownership Counseling program please click here.
URL:https://acdsinc.org/event/homeownership-counseling-workshop-class-part-1-11/
LOCATION:Zoom Call
ORGANIZER;CN="Arundel Community Development Services%2C Inc.":MAILTO:info@acdsinc.org
END:VEVENT
BEGIN:VEVENT
DTSTART;TZID=America/New_York:20231121T160000
DTEND;TZID=America/New_York:20231121T190000
DTSTAMP:20260423T214714
CREATED:20230425T200938Z
LAST-MODIFIED:20231103T153055Z
UID:10003101-1700582400-1700593200@acdsinc.org
SUMMARY:Homeownership Counseling Workshop Class Part 1
DESCRIPTION:THIS CLASS IS FULL \nThe Homeownership Counseling Program classes are by invitation only. \nTHOSE WHO DO NOT APPLY WILL NOT BE ALLOWED TO PARTICIPATE. \nTo being the programs please click here and this link will direct you to the Homeownership Counseling Application. To learn more about our Homeownership Counseling program please click here.
URL:https://acdsinc.org/event/homeownership-counseling-workshop-class-part-1-6/2023-11-21/
LOCATION:Zoom Call
ORGANIZER;CN="Arundel Community Development Services%2C Inc.":MAILTO:info@acdsinc.org
END:VEVENT
BEGIN:VEVENT
DTSTART;TZID=America/New_York:20231108T180000
DTEND;TZID=America/New_York:20231108T190000
DTSTAMP:20260423T214714
CREATED:20230426T203408Z
LAST-MODIFIED:20230602T143307Z
UID:10003128-1699466400-1699470000@acdsinc.org
SUMMARY:Homeownership Counseling Introduction Class
DESCRIPTION:The Homeownership Counseling Program classes are by invitation only. THOSE WHO DO NOT APPLY WILL NOT BE ALLOWED TO PARTICIPATE. \nTo apply for the next available class please click here and this link will direct you to the Homeownership Counseling Application. To learn more about our Homeownership Counseling program please click here. \nThe Introduction Class is the first session of the Homeownership Counseling Program and helps participants understand the requirements of the program.
URL:https://acdsinc.org/event/homeownership-counseling-introduction-class-36/2023-11-08/
LOCATION:Zoom Call
ORGANIZER;CN="Arundel Community Development Services%2C Inc.":MAILTO:info@acdsinc.org
END:VEVENT
BEGIN:VEVENT
DTSTART;TZID=America/New_York:20231101T180000
DTEND;TZID=America/New_York:20231101T190000
DTSTAMP:20260423T214714
CREATED:20231003T170904Z
LAST-MODIFIED:20231003T170913Z
UID:10003127-1698861600-1698865200@acdsinc.org
SUMMARY:Homeownership Counseling Introduction Class
DESCRIPTION:THIS CLASS IS FULL \nThe Homeownership Counseling Program classes are by invitation only. THOSE WHO DO NOT APPLY WILL NOT BE ALLOWED TO PARTICIPATE. \nTo apply for the next available class please click here and this link will direct you to the Homeownership Counseling Application. To learn more about our Homeownership Counseling program please click here. \nThe Introduction Class is the first session of the Homeownership Counseling Program and helps participants understand the requirements of the program.
URL:https://acdsinc.org/event/homeownership-counseling-introduction-class-36-12/
LOCATION:Zoom Call
ORGANIZER;CN="Arundel Community Development Services%2C Inc.":MAILTO:info@acdsinc.org
END:VEVENT
BEGIN:VEVENT
DTSTART;TZID=America/New_York:20231026T160000
DTEND;TZID=America/New_York:20231026T190000
DTSTAMP:20260423T214714
CREATED:20230425T201349Z
LAST-MODIFIED:20230426T201704Z
UID:10003094-1698336000-1698346800@acdsinc.org
SUMMARY:Homeownership Counseling Workshop Class Part II
DESCRIPTION:THIS CLASS IS FULL \nThe Homeownership Counseling Program classes are by invitation only. \nTHOSE WHO DO NOT APPLY WILL NOT BE ALLOWED TO PARTICIPATE. \nTo being the programs please click here and this link will direct you to the Homeownership Counseling Application. To learn more about our Homeownership Counseling program please click here.
URL:https://acdsinc.org/event/homeownership-counseling-workshop-class-part-ii-8/2023-10-26/
LOCATION:Zoom Call
ORGANIZER;CN="Arundel Community Development Services%2C Inc.":MAILTO:info@acdsinc.org
END:VEVENT
BEGIN:VEVENT
DTSTART;TZID=America/New_York:20231024T160000
DTEND;TZID=America/New_York:20231024T190000
DTSTAMP:20260423T214714
CREATED:20230425T200938Z
LAST-MODIFIED:20231103T153055Z
UID:10003100-1698163200-1698174000@acdsinc.org
SUMMARY:Homeownership Counseling Workshop Class Part 1
DESCRIPTION:THIS CLASS IS FULL \nThe Homeownership Counseling Program classes are by invitation only. \nTHOSE WHO DO NOT APPLY WILL NOT BE ALLOWED TO PARTICIPATE. \nTo being the programs please click here and this link will direct you to the Homeownership Counseling Application. To learn more about our Homeownership Counseling program please click here.
URL:https://acdsinc.org/event/homeownership-counseling-workshop-class-part-1-6/2023-10-24/
LOCATION:Zoom Call
ORGANIZER;CN="Arundel Community Development Services%2C Inc.":MAILTO:info@acdsinc.org
END:VEVENT
BEGIN:VEVENT
DTSTART;TZID=America/New_York:20231011T180000
DTEND;TZID=America/New_York:20231011T190000
DTSTAMP:20260423T214714
CREATED:20230926T172406Z
LAST-MODIFIED:20230926T172413Z
UID:10003126-1697047200-1697050800@acdsinc.org
SUMMARY:Homeownership Counseling Introduction Class
DESCRIPTION:THIS CLASS IS FULL \nThe Homeownership Counseling Program classes are by invitation only. THOSE WHO DO NOT APPLY WILL NOT BE ALLOWED TO PARTICIPATE. \nTo apply for the next available class please click here and this link will direct you to the Homeownership Counseling Application. To learn more about our Homeownership Counseling program please click here. \nThe Introduction Class is the first session of the Homeownership Counseling Program and helps participants understand the requirements of the program.
URL:https://acdsinc.org/event/homeownership-counseling-introduction-class-36-11/
LOCATION:Zoom Call
ORGANIZER;CN="Arundel Community Development Services%2C Inc.":MAILTO:info@acdsinc.org
END:VEVENT
BEGIN:VEVENT
DTSTART;TZID=America/New_York:20231004T180000
DTEND;TZID=America/New_York:20231004T190000
DTSTAMP:20260423T214714
CREATED:20230824T172711Z
LAST-MODIFIED:20230824T172711Z
UID:10003125-1696442400-1696446000@acdsinc.org
SUMMARY:Homeownership Counseling Introduction Class
DESCRIPTION:THIS CLASS IS FULL \nThe Homeownership Counseling Program classes are by invitation only. THOSE WHO DO NOT APPLY WILL NOT BE ALLOWED TO PARTICIPATE. \nTo apply for the next available class please click here and this link will direct you to the Homeownership Counseling Application. To learn more about our Homeownership Counseling program please click here. \nThe Introduction Class is the first session of the Homeownership Counseling Program and helps participants understand the requirements of the program.
URL:https://acdsinc.org/event/homeownership-counseling-introduction-class-36-10/
LOCATION:Zoom Call
ORGANIZER;CN="Arundel Community Development Services%2C Inc.":MAILTO:info@acdsinc.org
END:VEVENT
BEGIN:VEVENT
DTSTART;TZID=America/New_York:20230928T160000
DTEND;TZID=America/New_York:20230928T190000
DTSTAMP:20260423T214714
CREATED:20230425T201349Z
LAST-MODIFIED:20230426T201704Z
UID:10003093-1695916800-1695927600@acdsinc.org
SUMMARY:Homeownership Counseling Workshop Class Part II
DESCRIPTION:THIS CLASS IS FULL \nThe Homeownership Counseling Program classes are by invitation only. \nTHOSE WHO DO NOT APPLY WILL NOT BE ALLOWED TO PARTICIPATE. \nTo being the programs please click here and this link will direct you to the Homeownership Counseling Application. To learn more about our Homeownership Counseling program please click here.
URL:https://acdsinc.org/event/homeownership-counseling-workshop-class-part-ii-8/2023-09-28/
LOCATION:Zoom Call
ORGANIZER;CN="Arundel Community Development Services%2C Inc.":MAILTO:info@acdsinc.org
END:VEVENT
BEGIN:VEVENT
DTSTART;TZID=America/New_York:20230926T160000
DTEND;TZID=America/New_York:20230926T190000
DTSTAMP:20260423T214714
CREATED:20230425T200938Z
LAST-MODIFIED:20231103T153055Z
UID:10003099-1695744000-1695754800@acdsinc.org
SUMMARY:Homeownership Counseling Workshop Class Part 1
DESCRIPTION:THIS CLASS IS FULL \nThe Homeownership Counseling Program classes are by invitation only. \nTHOSE WHO DO NOT APPLY WILL NOT BE ALLOWED TO PARTICIPATE. \nTo being the programs please click here and this link will direct you to the Homeownership Counseling Application. To learn more about our Homeownership Counseling program please click here.
URL:https://acdsinc.org/event/homeownership-counseling-workshop-class-part-1-6/2023-09-26/
LOCATION:Zoom Call
ORGANIZER;CN="Arundel Community Development Services%2C Inc.":MAILTO:info@acdsinc.org
END:VEVENT
BEGIN:VEVENT
DTSTART;TZID=America/New_York:20230920T180000
DTEND;TZID=America/New_York:20230920T190000
DTSTAMP:20260423T214714
CREATED:20230824T172619Z
LAST-MODIFIED:20230824T172625Z
UID:10003124-1695232800-1695236400@acdsinc.org
SUMMARY:Homeownership Counseling Introduction Class
DESCRIPTION:THIS CLASS IS FULL \nThe Homeownership Counseling Program classes are by invitation only. THOSE WHO DO NOT APPLY WILL NOT BE ALLOWED TO PARTICIPATE. \nTo apply for the next available class please click here and this link will direct you to the Homeownership Counseling Application. To learn more about our Homeownership Counseling program please click here. \nThe Introduction Class is the first session of the Homeownership Counseling Program and helps participants understand the requirements of the program.
URL:https://acdsinc.org/event/homeownership-counseling-introduction-class-36-9/
LOCATION:Zoom Call
ORGANIZER;CN="Arundel Community Development Services%2C Inc.":MAILTO:info@acdsinc.org
END:VEVENT
BEGIN:VEVENT
DTSTART;TZID=America/New_York:20230913T180000
DTEND;TZID=America/New_York:20230913T190000
DTSTAMP:20260423T214714
CREATED:20230725T153246Z
LAST-MODIFIED:20230725T153252Z
UID:10003123-1694628000-1694631600@acdsinc.org
SUMMARY:Homeownership Counseling Introduction Class
DESCRIPTION:THIS CLASS IS FULL \nThe Homeownership Counseling Program classes are by invitation only. THOSE WHO DO NOT APPLY WILL NOT BE ALLOWED TO PARTICIPATE. \nTo apply for the next available class please click here and this link will direct you to the Homeownership Counseling Application. To learn more about our Homeownership Counseling program please click here. \nThe Introduction Class is the first session of the Homeownership Counseling Program and helps participants understand the requirements of the program.
URL:https://acdsinc.org/event/homeownership-counseling-introduction-class-36-8/
LOCATION:Zoom Call
ORGANIZER;CN="Arundel Community Development Services%2C Inc.":MAILTO:info@acdsinc.org
END:VEVENT
BEGIN:VEVENT
DTSTART;TZID=America/New_York:20230824T160000
DTEND;TZID=America/New_York:20230824T190000
DTSTAMP:20260423T214714
CREATED:20230425T201349Z
LAST-MODIFIED:20230426T201704Z
UID:10003092-1692892800-1692903600@acdsinc.org
SUMMARY:Homeownership Counseling Workshop Class Part II
DESCRIPTION:THIS CLASS IS FULL \nThe Homeownership Counseling Program classes are by invitation only. \nTHOSE WHO DO NOT APPLY WILL NOT BE ALLOWED TO PARTICIPATE. \nTo being the programs please click here and this link will direct you to the Homeownership Counseling Application. To learn more about our Homeownership Counseling program please click here.
URL:https://acdsinc.org/event/homeownership-counseling-workshop-class-part-ii-8/2023-08-24/
LOCATION:Zoom Call
ORGANIZER;CN="Arundel Community Development Services%2C Inc.":MAILTO:info@acdsinc.org
END:VEVENT
BEGIN:VEVENT
DTSTART;TZID=America/New_York:20230822T160000
DTEND;TZID=America/New_York:20230822T190000
DTSTAMP:20260423T214714
CREATED:20230425T200938Z
LAST-MODIFIED:20231103T153055Z
UID:10003098-1692720000-1692730800@acdsinc.org
SUMMARY:Homeownership Counseling Workshop Class Part 1
DESCRIPTION:THIS CLASS IS FULL \nThe Homeownership Counseling Program classes are by invitation only. \nTHOSE WHO DO NOT APPLY WILL NOT BE ALLOWED TO PARTICIPATE. \nTo being the programs please click here and this link will direct you to the Homeownership Counseling Application. To learn more about our Homeownership Counseling program please click here.
URL:https://acdsinc.org/event/homeownership-counseling-workshop-class-part-1-6/2023-08-22/
LOCATION:Zoom Call
ORGANIZER;CN="Arundel Community Development Services%2C Inc.":MAILTO:info@acdsinc.org
END:VEVENT
BEGIN:VEVENT
DTSTART;TZID=America/New_York:20230809T180000
DTEND;TZID=America/New_York:20230809T190000
DTSTAMP:20260423T214714
CREATED:20230711T164750Z
LAST-MODIFIED:20230711T164808Z
UID:10003122-1691604000-1691607600@acdsinc.org
SUMMARY:Homeownership Counseling Introduction Class
DESCRIPTION:THIS CLASS IS FULL \nThe Homeownership Counseling Program classes are by invitation only. THOSE WHO DO NOT APPLY WILL NOT BE ALLOWED TO PARTICIPATE. \nTo apply for the next available class please click here and this link will direct you to the Homeownership Counseling Application. To learn more about our Homeownership Counseling program please click here. \nThe Introduction Class is the first session of the Homeownership Counseling Program and helps participants understand the requirements of the program.
URL:https://acdsinc.org/event/homeownership-counseling-introduction-class-36-7/
LOCATION:Zoom Call
ORGANIZER;CN="Arundel Community Development Services%2C Inc.":MAILTO:info@acdsinc.org
END:VEVENT
BEGIN:VEVENT
DTSTART;TZID=America/New_York:20230802T180000
DTEND;TZID=America/New_York:20230802T190000
DTSTAMP:20260423T214714
CREATED:20230711T164605Z
LAST-MODIFIED:20230711T164626Z
UID:10003121-1690999200-1691002800@acdsinc.org
SUMMARY:Homeownership Counseling Introduction Class
DESCRIPTION:THIS CLASS IS FULL \nThe Homeownership Counseling Program classes are by invitation only. THOSE WHO DO NOT APPLY WILL NOT BE ALLOWED TO PARTICIPATE. \nTo apply for the next available class please click here and this link will direct you to the Homeownership Counseling Application. To learn more about our Homeownership Counseling program please click here. \nThe Introduction Class is the first session of the Homeownership Counseling Program and helps participants understand the requirements of the program.
URL:https://acdsinc.org/event/homeownership-counseling-introduction-class-36-4/
LOCATION:Zoom Call
ORGANIZER;CN="Arundel Community Development Services%2C Inc.":MAILTO:info@acdsinc.org
END:VEVENT
END:VCALENDAR