BEGIN:VCALENDAR
VERSION:2.0
PRODID:-//Arundel Community Development Services, Inc. - ECPv6.15.20//NONSGML v1.0//EN
CALSCALE:GREGORIAN
METHOD:PUBLISH
X-ORIGINAL-URL:https://acdsinc.org
X-WR-CALDESC:Events for Arundel Community Development Services, Inc.
REFRESH-INTERVAL;VALUE=DURATION:PT1H
X-Robots-Tag:noindex
X-PUBLISHED-TTL:PT1H
BEGIN:VTIMEZONE
TZID:America/New_York
BEGIN:DAYLIGHT
TZOFFSETFROM:-0500
TZOFFSETTO:-0400
TZNAME:EDT
DTSTART:20180311T070000
END:DAYLIGHT
BEGIN:STANDARD
TZOFFSETFROM:-0400
TZOFFSETTO:-0500
TZNAME:EST
DTSTART:20181104T060000
END:STANDARD
BEGIN:DAYLIGHT
TZOFFSETFROM:-0500
TZOFFSETTO:-0400
TZNAME:EDT
DTSTART:20190310T070000
END:DAYLIGHT
BEGIN:STANDARD
TZOFFSETFROM:-0400
TZOFFSETTO:-0500
TZNAME:EST
DTSTART:20191103T060000
END:STANDARD
BEGIN:DAYLIGHT
TZOFFSETFROM:-0500
TZOFFSETTO:-0400
TZNAME:EDT
DTSTART:20200308T070000
END:DAYLIGHT
BEGIN:STANDARD
TZOFFSETFROM:-0400
TZOFFSETTO:-0500
TZNAME:EST
DTSTART:20201101T060000
END:STANDARD
END:VTIMEZONE
BEGIN:VEVENT
DTSTART;TZID=America/New_York:20191005T090000
DTEND;TZID=America/New_York:20191005T140000
DTSTAMP:20260424T184128
CREATED:20190920T185811Z
LAST-MODIFIED:20190920T185811Z
UID:10002968-1570266000-1570284000@acdsinc.org
SUMMARY:Odenton Day 2019
DESCRIPTION:A representative from ACDS will be an exhibitor there promoting our programs.
URL:https://acdsinc.org/event/odenton-day-2019/
LOCATION:Odenton Volunteer Fire House\, 1425 Annapolis Road\, Odenton\, MD\, 21113\, United States
ATTACH;FMTTYPE=application/pdf:https://acdsinc.org/wp-content/uploads/2019/09/Odenton-Day-Poster-2019.pdf
GEO:39.0903871;-76.7111471
X-APPLE-STRUCTURED-LOCATION;VALUE=URI;X-ADDRESS=Odenton Volunteer Fire House 1425 Annapolis Road Odenton MD 21113 United States;X-APPLE-RADIUS=500;X-TITLE=1425 Annapolis Road:geo:-76.7111471,39.0903871
END:VEVENT
END:VCALENDAR