BEGIN:VCALENDAR
VERSION:2.0
PRODID:-//Arundel Community Development Services, Inc. - ECPv6.15.20//NONSGML v1.0//EN
CALSCALE:GREGORIAN
METHOD:PUBLISH
X-ORIGINAL-URL:https://acdsinc.org
X-WR-CALDESC:Events for Arundel Community Development Services, Inc.
REFRESH-INTERVAL;VALUE=DURATION:PT1H
X-Robots-Tag:noindex
X-PUBLISHED-TTL:PT1H
BEGIN:VTIMEZONE
TZID:America/New_York
BEGIN:DAYLIGHT
TZOFFSETFROM:-0500
TZOFFSETTO:-0400
TZNAME:EDT
DTSTART:20190310T070000
END:DAYLIGHT
BEGIN:STANDARD
TZOFFSETFROM:-0400
TZOFFSETTO:-0500
TZNAME:EST
DTSTART:20191103T060000
END:STANDARD
BEGIN:DAYLIGHT
TZOFFSETFROM:-0500
TZOFFSETTO:-0400
TZNAME:EDT
DTSTART:20200308T070000
END:DAYLIGHT
BEGIN:STANDARD
TZOFFSETFROM:-0400
TZOFFSETTO:-0500
TZNAME:EST
DTSTART:20201101T060000
END:STANDARD
BEGIN:DAYLIGHT
TZOFFSETFROM:-0500
TZOFFSETTO:-0400
TZNAME:EDT
DTSTART:20210314T070000
END:DAYLIGHT
BEGIN:STANDARD
TZOFFSETFROM:-0400
TZOFFSETTO:-0500
TZNAME:EST
DTSTART:20211107T060000
END:STANDARD
END:VTIMEZONE
BEGIN:VEVENT
DTSTART;TZID=America/New_York:20200324T180000
DTEND;TZID=America/New_York:20200324T200000
DTSTAMP:20260424T154424
CREATED:20200107T182109Z
LAST-MODIFIED:20200316T150929Z
UID:10002990-1585072800-1585080000@acdsinc.org
SUMMARY:Debt Management & Budgeting Workshop - CANCELLED
DESCRIPTION:Due to COVID-19 and the emerging public health crisis\, ACDS has cancelled all group workshops and classes for the month of March.  Please check back for updates and/or contact our office at info@acdsinc.org for individual financial coaching.   \nWhere does all of my money go? Is your paycheck gone at the end of the week or month\, but you cannot figure out where it went? Then this workshop is for you! \nThis workshop covers a comprehensive approach to identifying what income you have and how much you need in order to cover your monthly expenses. It will focus on identifying the difference between wants and needs\, tracking your expenses\, and preventing the creation of a budget that is not realistic and does not work. Identify your money personality and what triggers your spending and savings habits. Identify methods to track your spending and modify those habits that break your budget. \nParticipate in budgeting exercises which will give you tips and guidance on creating a budget and meeting your short and long term goals. Learn the importance of on-time payments\, debt reduction\, and living within your means.
URL:https://acdsinc.org/event/debt-management-budgeting-workshop-2/
LOCATION:MD\, United States
GEO:39.0457549;-76.6412712
END:VEVENT
END:VCALENDAR