BEGIN:VCALENDAR
VERSION:2.0
PRODID:-//Arundel Community Development Services, Inc. - ECPv6.15.20//NONSGML v1.0//EN
CALSCALE:GREGORIAN
METHOD:PUBLISH
X-WR-CALNAME:Arundel Community Development Services, Inc.
X-ORIGINAL-URL:https://acdsinc.org
X-WR-CALDESC:Events for Arundel Community Development Services, Inc.
REFRESH-INTERVAL;VALUE=DURATION:PT1H
X-Robots-Tag:noindex
X-PUBLISHED-TTL:PT1H
BEGIN:VTIMEZONE
TZID:America/New_York
BEGIN:DAYLIGHT
TZOFFSETFROM:-0500
TZOFFSETTO:-0400
TZNAME:EDT
DTSTART:20150308T070000
END:DAYLIGHT
BEGIN:STANDARD
TZOFFSETFROM:-0400
TZOFFSETTO:-0500
TZNAME:EST
DTSTART:20151101T060000
END:STANDARD
BEGIN:DAYLIGHT
TZOFFSETFROM:-0500
TZOFFSETTO:-0400
TZNAME:EDT
DTSTART:20160313T070000
END:DAYLIGHT
BEGIN:STANDARD
TZOFFSETFROM:-0400
TZOFFSETTO:-0500
TZNAME:EST
DTSTART:20161106T060000
END:STANDARD
BEGIN:DAYLIGHT
TZOFFSETFROM:-0500
TZOFFSETTO:-0400
TZNAME:EDT
DTSTART:20170312T070000
END:DAYLIGHT
BEGIN:STANDARD
TZOFFSETFROM:-0400
TZOFFSETTO:-0500
TZNAME:EST
DTSTART:20171105T060000
END:STANDARD
BEGIN:DAYLIGHT
TZOFFSETFROM:-0500
TZOFFSETTO:-0400
TZNAME:EDT
DTSTART:20180311T070000
END:DAYLIGHT
BEGIN:STANDARD
TZOFFSETFROM:-0400
TZOFFSETTO:-0500
TZNAME:EST
DTSTART:20181104T060000
END:STANDARD
BEGIN:DAYLIGHT
TZOFFSETFROM:-0500
TZOFFSETTO:-0400
TZNAME:EDT
DTSTART:20190310T070000
END:DAYLIGHT
BEGIN:STANDARD
TZOFFSETFROM:-0400
TZOFFSETTO:-0500
TZNAME:EST
DTSTART:20191103T060000
END:STANDARD
BEGIN:DAYLIGHT
TZOFFSETFROM:-0500
TZOFFSETTO:-0400
TZNAME:EDT
DTSTART:20200308T070000
END:DAYLIGHT
BEGIN:STANDARD
TZOFFSETFROM:-0400
TZOFFSETTO:-0500
TZNAME:EST
DTSTART:20201101T060000
END:STANDARD
BEGIN:DAYLIGHT
TZOFFSETFROM:-0500
TZOFFSETTO:-0400
TZNAME:EDT
DTSTART:20210314T070000
END:DAYLIGHT
BEGIN:STANDARD
TZOFFSETFROM:-0400
TZOFFSETTO:-0500
TZNAME:EST
DTSTART:20211107T060000
END:STANDARD
BEGIN:DAYLIGHT
TZOFFSETFROM:-0500
TZOFFSETTO:-0400
TZNAME:EDT
DTSTART:20220313T070000
END:DAYLIGHT
BEGIN:STANDARD
TZOFFSETFROM:-0400
TZOFFSETTO:-0500
TZNAME:EST
DTSTART:20221106T060000
END:STANDARD
END:VTIMEZONE
BEGIN:VTIMEZONE
TZID:UTC
BEGIN:STANDARD
TZOFFSETFROM:+0000
TZOFFSETTO:+0000
TZNAME:UTC
DTSTART:20150101T000000
END:STANDARD
END:VTIMEZONE
BEGIN:VEVENT
DTSTART;TZID=America/New_York:20210225T170000
DTEND;TZID=America/New_York:20210225T183000
DTSTAMP:20260424T084649
CREATED:20190625T174736Z
LAST-MODIFIED:20210218T132436Z
UID:10002957-1614272400-1614277800@acdsinc.org
SUMMARY:2nd Public Hearing: County Housing and Community Development Budget - FY 2022
DESCRIPTION:February 25\, 2021 – 5:00 pm – Virtual \nRSVP to asmith@acdsinc.org for meeting details.   \nACDS will hold a second public hearing as part of the FY 2022 Housing and Community Development Budget and Consolidated Plan process on February 25\, 2021 to solicit feedback from the public on staff recommendations for projects and activities to be funded with the FY 2022 budget. \nIf you wish to attend and require a special accommodation (e.g. interpreter for deaf and hard of hearing or an interpreter for persons with limited English proficiency) please contact ekarpewicz@acdsinc.org no later than seven business days prior to the public meeting. \n  \n 
URL:https://acdsinc.org/event/3rd-public-hearing-county-housing-and-community-development-budget-process/
LOCATION:ACDS\, 2666 Riva Road\, Annapolis\, MD\, 21401\, United States
GEO:39.1702594;-76.6209984
X-APPLE-STRUCTURED-LOCATION;VALUE=URI;X-ADDRESS=ACDS 2666 Riva Road Annapolis MD 21401 United States;X-APPLE-RADIUS=500;X-TITLE=2666 Riva Road:geo:-76.6209984,39.1702594
END:VEVENT
BEGIN:VEVENT
DTSTART;TZID=America/New_York:20191205T183000
DTEND;TZID=America/New_York:20191205T183000
DTSTAMP:20260424T084649
CREATED:20190625T174435Z
LAST-MODIFIED:20191031T202128Z
UID:10002956-1575570600-1575570600@acdsinc.org
SUMMARY:2nd Public Hearing: County Housing and Community Development Budget Process
DESCRIPTION:December 5\, 2019 4:30pm – Independence Conference Room\, 2664 Riva Road\, Suite 170\, Annapolis\, MD 21401 \nA second public hearing on the Consolidated Plan process will be held on December 5\, 2019.  At this meeting\, ACDS staff will work with residents and stakeholders to articulate goals and strategies for the Consolidated Plan and prioritize those goals\, which will ultimately inform what projects and activities are budgeted for during FY 2021 through FY 2025. \nPlease note: this meeting starts at 4:30 pm and will be held around the corner from ACDS (same complex) at the Independence Conference Room\, 2664 Riva Road\, Suite 170\, Annapolis\, MD 21401. \nACDS and our public meeting sites are ADA accessible. If you wish to attend and require a special accommodation (e.g. interpreter for deaf and hard of hearing or an interpreter for persons with limited English proficiency) please contact kashby@acdsinc.org or 410-222-7805 no later than 7 business days prior to the public meeting. \n 
URL:https://acdsinc.org/event/2nd-public-hearing-county-housing-and-community-development-budget-process-2/
LOCATION:ACDS\, 2666 Riva Road\, Annapolis\, MD\, 21401\, United States
GEO:39.1702594;-76.6209984
X-APPLE-STRUCTURED-LOCATION;VALUE=URI;X-ADDRESS=ACDS 2666 Riva Road Annapolis MD 21401 United States;X-APPLE-RADIUS=500;X-TITLE=2666 Riva Road:geo:-76.6209984,39.1702594
END:VEVENT
BEGIN:VEVENT
DTSTART;TZID=America/New_York:20171201T093000
DTEND;TZID=America/New_York:20171201T110000
DTSTAMP:20260424T084649
CREATED:20171101T170954Z
LAST-MODIFIED:20171101T170954Z
UID:10002527-1512120600-1512126000@acdsinc.org
SUMMARY:Coalition for the Homeless General Body Meeting
DESCRIPTION:
URL:https://acdsinc.org/event/coalition-homeless-general-body-meeting/
LOCATION:ACDS\, 2666 Riva Road\, Annapolis\, MD\, 21401\, United States
ORGANIZER;CN="Elizabeth Brush":MAILTO:ebrush@acdsinc.org
GEO:39.1702594;-76.6209984
X-APPLE-STRUCTURED-LOCATION;VALUE=URI;X-ADDRESS=ACDS 2666 Riva Road Annapolis MD 21401 United States;X-APPLE-RADIUS=500;X-TITLE=2666 Riva Road:geo:-76.6209984,39.1702594
END:VEVENT
BEGIN:VEVENT
DTSTART;TZID=America/New_York:20170207T100000
DTEND;TZID=America/New_York:20170207T120000
DTSTAMP:20260424T084649
CREATED:20170113T150253Z
LAST-MODIFIED:20170113T150253Z
UID:10002512-1486461600-1486468800@acdsinc.org
SUMMARY:Lender Agent Day
DESCRIPTION:ACDS is pleased to announce our Lender/Agent Day on Tuesday\, February 7\, 2017 from 10:00 a.m. to 12:00 p.m.  Learn about how  our Homeownership Counseling Program and Mortgage Assistance Program can help your clients succeed in becoming a homeowner.  Click here to see our flyer that explains more about our event. To RSVP for Lender/Agent Day please speak with Linda DeLuca. She can be reached at 410-222-7618 or via e-mail ldeluca@acdsinc.org. Our RSVP deadline will be Wednesday\, February 1\, 2017. Please share this event with all of your colleagues and Community Partners.
URL:https://acdsinc.org/event/lender-agent-day/
LOCATION:ACDS\, 2666 Riva Road\, Annapolis\, MD\, 21401\, United States
ORGANIZER;CN="Linda DeLuca":MAILTO:ldeluca@acdsinc.org
GEO:39.1702594;-76.6209984
X-APPLE-STRUCTURED-LOCATION;VALUE=URI;X-ADDRESS=ACDS 2666 Riva Road Annapolis MD 21401 United States;X-APPLE-RADIUS=500;X-TITLE=2666 Riva Road:geo:-76.6209984,39.1702594
END:VEVENT
BEGIN:VEVENT
DTSTART;TZID=America/New_York:20161208T183000
DTEND;TZID=America/New_York:20161208T203000
DTSTAMP:20260424T084649
CREATED:20161206T142429Z
LAST-MODIFIED:20161206T142429Z
UID:10002487-1481221800-1481229000@acdsinc.org
SUMMARY:ACDS Board of Directors Meeting
DESCRIPTION:
URL:https://acdsinc.org/event/acds-board-directors-meeting/
LOCATION:ACDS\, 2666 Riva Road\, Annapolis\, MD\, 21401\, United States
GEO:39.1702594;-76.6209984
X-APPLE-STRUCTURED-LOCATION;VALUE=URI;X-ADDRESS=ACDS 2666 Riva Road Annapolis MD 21401 United States;X-APPLE-RADIUS=500;X-TITLE=2666 Riva Road:geo:-76.6209984,39.1702594
END:VEVENT
BEGIN:VEVENT
DTSTART;TZID=UTC:20161027T183000
DTEND;TZID=UTC:20161027T200000
DTSTAMP:20260424T084649
CREATED:20160928T222431Z
LAST-MODIFIED:20160928T222431Z
UID:10002458-1477593000-1477598400@acdsinc.org
SUMMARY:ACDS October Public Hearing
DESCRIPTION:Join Arundel Community Development Services\, Inc. (ACDS) for our Annual October Public Hearing as we kick off the County’s FY 2018 Housing and Community Development Budget Process! Staff will report out on the previous year’s accomplishments and our stakeholders and members of the general public can share the housing and community development needs they see in their communities. \nPlease join us on the second floor conference room. \nDownload invitation to public hearing and budget process
URL:https://acdsinc.org/event/acds-october-public-hearing/
LOCATION:ACDS\, 2666 Riva Road\, Annapolis\, MD\, 21401\, United States
ORGANIZER;CN="Eric Karpewicz":MAILTO:ekarpewicz@acdsinc.org
GEO:39.1702594;-76.6209984
X-APPLE-STRUCTURED-LOCATION;VALUE=URI;X-ADDRESS=ACDS 2666 Riva Road Annapolis MD 21401 United States;X-APPLE-RADIUS=500;X-TITLE=2666 Riva Road:geo:-76.6209984,39.1702594
END:VEVENT
BEGIN:VEVENT
DTSTART;TZID=UTC:20160914T100000
DTEND;TZID=UTC:20160914T120000
DTSTAMP:20260424T084649
CREATED:20160817T223120Z
LAST-MODIFIED:20160817T224738Z
UID:10002454-1473847200-1473854400@acdsinc.org
SUMMARY:Lender/Agent Day
DESCRIPTION:Are ACDS programs new to you? Do you need ideas to help your first time homebuyers purchase a home in Anne Arundel County? Then join us for an informational session to learn about our Homeownership Counseling and Mortgage Assistance Programs! \nThis session will help Lenders and Realtors understand the guidelines of our programs so you can refer your clients to us. \nPlease RSVP by September 9\, 2016 to: Shawn McGeth\, Housing Financial Advisor \nView Flyer
URL:https://acdsinc.org/event/lenderagent-day/
LOCATION:ACDS\, 2666 Riva Road\, Annapolis\, MD\, 21401\, United States
ORGANIZER;CN="Unnamed Organizer":MAILTO:smcgeth@acdsinc.org
GEO:39.1702594;-76.6209984
X-APPLE-STRUCTURED-LOCATION;VALUE=URI;X-ADDRESS=ACDS 2666 Riva Road Annapolis MD 21401 United States;X-APPLE-RADIUS=500;X-TITLE=2666 Riva Road:geo:-76.6209984,39.1702594
END:VEVENT
END:VCALENDAR