BEGIN:VCALENDAR
VERSION:2.0
PRODID:-//Arundel Community Development Services, Inc. - ECPv6.15.20//NONSGML v1.0//EN
CALSCALE:GREGORIAN
METHOD:PUBLISH
X-ORIGINAL-URL:https://acdsinc.org
X-WR-CALDESC:Events for Arundel Community Development Services, Inc.
REFRESH-INTERVAL;VALUE=DURATION:PT1H
X-Robots-Tag:noindex
X-PUBLISHED-TTL:PT1H
BEGIN:VTIMEZONE
TZID:America/New_York
BEGIN:DAYLIGHT
TZOFFSETFROM:-0500
TZOFFSETTO:-0400
TZNAME:EDT
DTSTART:20160313T070000
END:DAYLIGHT
BEGIN:STANDARD
TZOFFSETFROM:-0400
TZOFFSETTO:-0500
TZNAME:EST
DTSTART:20161106T060000
END:STANDARD
BEGIN:DAYLIGHT
TZOFFSETFROM:-0500
TZOFFSETTO:-0400
TZNAME:EDT
DTSTART:20170312T070000
END:DAYLIGHT
BEGIN:STANDARD
TZOFFSETFROM:-0400
TZOFFSETTO:-0500
TZNAME:EST
DTSTART:20171105T060000
END:STANDARD
BEGIN:DAYLIGHT
TZOFFSETFROM:-0500
TZOFFSETTO:-0400
TZNAME:EDT
DTSTART:20180311T070000
END:DAYLIGHT
BEGIN:STANDARD
TZOFFSETFROM:-0400
TZOFFSETTO:-0500
TZNAME:EST
DTSTART:20181104T060000
END:STANDARD
BEGIN:DAYLIGHT
TZOFFSETFROM:-0500
TZOFFSETTO:-0400
TZNAME:EDT
DTSTART:20190310T070000
END:DAYLIGHT
BEGIN:STANDARD
TZOFFSETFROM:-0400
TZOFFSETTO:-0500
TZNAME:EST
DTSTART:20191103T060000
END:STANDARD
BEGIN:DAYLIGHT
TZOFFSETFROM:-0500
TZOFFSETTO:-0400
TZNAME:EDT
DTSTART:20200308T070000
END:DAYLIGHT
BEGIN:STANDARD
TZOFFSETFROM:-0400
TZOFFSETTO:-0500
TZNAME:EST
DTSTART:20201101T060000
END:STANDARD
BEGIN:DAYLIGHT
TZOFFSETFROM:-0500
TZOFFSETTO:-0400
TZNAME:EDT
DTSTART:20210314T070000
END:DAYLIGHT
BEGIN:STANDARD
TZOFFSETFROM:-0400
TZOFFSETTO:-0500
TZNAME:EST
DTSTART:20211107T060000
END:STANDARD
BEGIN:DAYLIGHT
TZOFFSETFROM:-0500
TZOFFSETTO:-0400
TZNAME:EDT
DTSTART:20220313T070000
END:DAYLIGHT
BEGIN:STANDARD
TZOFFSETFROM:-0400
TZOFFSETTO:-0500
TZNAME:EST
DTSTART:20221106T060000
END:STANDARD
BEGIN:DAYLIGHT
TZOFFSETFROM:-0500
TZOFFSETTO:-0400
TZNAME:EDT
DTSTART:20230312T070000
END:DAYLIGHT
BEGIN:STANDARD
TZOFFSETFROM:-0400
TZOFFSETTO:-0500
TZNAME:EST
DTSTART:20231105T060000
END:STANDARD
BEGIN:DAYLIGHT
TZOFFSETFROM:-0500
TZOFFSETTO:-0400
TZNAME:EDT
DTSTART:20240310T070000
END:DAYLIGHT
BEGIN:STANDARD
TZOFFSETFROM:-0400
TZOFFSETTO:-0500
TZNAME:EST
DTSTART:20241103T060000
END:STANDARD
BEGIN:DAYLIGHT
TZOFFSETFROM:-0500
TZOFFSETTO:-0400
TZNAME:EDT
DTSTART:20250309T070000
END:DAYLIGHT
BEGIN:STANDARD
TZOFFSETFROM:-0400
TZOFFSETTO:-0500
TZNAME:EST
DTSTART:20251102T060000
END:STANDARD
BEGIN:DAYLIGHT
TZOFFSETFROM:-0500
TZOFFSETTO:-0400
TZNAME:EDT
DTSTART:20260308T070000
END:DAYLIGHT
BEGIN:STANDARD
TZOFFSETFROM:-0400
TZOFFSETTO:-0500
TZNAME:EST
DTSTART:20261101T060000
END:STANDARD
END:VTIMEZONE
BEGIN:VEVENT
DTSTART;TZID=America/New_York:20251202T133000
DTEND;TZID=America/New_York:20251202T143000
DTSTAMP:20260424T095125
CREATED:20251104T161507Z
LAST-MODIFIED:20251104T161519Z
UID:10003320-1764682200-1764685800@acdsinc.org
SUMMARY:Tenants' Rights Training Seminar - in person or virtual
DESCRIPTION:
URL:https://acdsinc.org/event/tenants-rights-training-seminar-in-person-or-virtual/
LOCATION:Arundel Community Development Services\, Inc.\, 2666 Riva Road\, Suite 210\, Annapolis\, MD\, 21401\, United States
GEO:38.9746862;-76.5612782
X-APPLE-STRUCTURED-LOCATION;VALUE=URI;X-ADDRESS=Arundel Community Development Services Inc. 2666 Riva Road Suite 210 Annapolis MD 21401 United States;X-APPLE-RADIUS=500;X-TITLE=2666 Riva Road\, Suite 210:geo:-76.5612782,38.9746862
END:VEVENT
BEGIN:VEVENT
DTSTART;TZID=America/New_York:20171215T120000
DTEND;TZID=America/New_York:20171215T120000
DTSTAMP:20260424T095125
CREATED:20171201T151147Z
LAST-MODIFIED:20171201T151147Z
UID:10002664-1513339200-1513339200@acdsinc.org
SUMMARY:Property Rehab Bid Opening
DESCRIPTION:Proposals for a Property Rehab Case offering general contracting services will be read at this time. \nFor Contractor Opportunities please click here.
URL:https://acdsinc.org/event/property-rehab-bid-opening-21/
LOCATION:Arundel Community Development Services\, Inc.\, 2666 Riva Road\, Suite 210\, Annapolis\, MD\, 21401\, United States
ORGANIZER;CN="George Leslie":MAILTO:gleslie@acdsinc.org
GEO:38.9746862;-76.5612782
X-APPLE-STRUCTURED-LOCATION;VALUE=URI;X-ADDRESS=Arundel Community Development Services Inc. 2666 Riva Road Suite 210 Annapolis MD 21401 United States;X-APPLE-RADIUS=500;X-TITLE=2666 Riva Road\, Suite 210:geo:-76.5612782,38.9746862
END:VEVENT
BEGIN:VEVENT
DTSTART;TZID=America/New_York:20171120T093000
DTEND;TZID=America/New_York:20171120T113000
DTSTAMP:20260424T095125
CREATED:20170105T150303Z
LAST-MODIFIED:20170105T150303Z
UID:10002511-1511170200-1511177400@acdsinc.org
SUMMARY:Anne Arundel County Coalition to End Homelessness Meeting
DESCRIPTION:
URL:https://acdsinc.org/event/anne-arundel-county-coalition-end-homelessness-meeting-5/
LOCATION:Arundel Community Development Services\, Inc.\, 2666 Riva Road\, Suite 210\, Annapolis\, MD\, 21401\, United States
ORGANIZER;CN="Elizabeth Brush":MAILTO:ebrush@acdsinc.org
GEO:38.9746862;-76.5612782
X-APPLE-STRUCTURED-LOCATION;VALUE=URI;X-ADDRESS=Arundel Community Development Services Inc. 2666 Riva Road Suite 210 Annapolis MD 21401 United States;X-APPLE-RADIUS=500;X-TITLE=2666 Riva Road\, Suite 210:geo:-76.5612782,38.9746862
END:VEVENT
BEGIN:VEVENT
DTSTART;TZID=America/New_York:20170915T093000
DTEND;TZID=America/New_York:20170915T113000
DTSTAMP:20260424T095125
CREATED:20170105T145906Z
LAST-MODIFIED:20170105T145906Z
UID:10002509-1505467800-1505475000@acdsinc.org
SUMMARY:Anne Arundel County Coalition to End Homelessness Meeting
DESCRIPTION:
URL:https://acdsinc.org/event/anne-arundel-county-coalition-end-homelessness-meeting-4/
LOCATION:Arundel Community Development Services\, Inc.\, 2666 Riva Road\, Suite 210\, Annapolis\, MD\, 21401\, United States
ORGANIZER;CN="Elizabeth Brush":MAILTO:ebrush@acdsinc.org
GEO:38.9746862;-76.5612782
X-APPLE-STRUCTURED-LOCATION;VALUE=URI;X-ADDRESS=Arundel Community Development Services Inc. 2666 Riva Road Suite 210 Annapolis MD 21401 United States;X-APPLE-RADIUS=500;X-TITLE=2666 Riva Road\, Suite 210:geo:-76.5612782,38.9746862
END:VEVENT
BEGIN:VEVENT
DTSTART;TZID=America/New_York:20170721T093000
DTEND;TZID=America/New_York:20170721T113000
DTSTAMP:20260424T095125
CREATED:20170105T145643Z
LAST-MODIFIED:20170105T145643Z
UID:10002507-1500629400-1500636600@acdsinc.org
SUMMARY:Anne Arundel County Coalition to End Homelessness Meeting
DESCRIPTION:
URL:https://acdsinc.org/event/anne-arundel-county-coalition-end-homelessness-meeting-3/
LOCATION:Arundel Community Development Services\, Inc.\, 2666 Riva Road\, Suite 210\, Annapolis\, MD\, 21401\, United States
ORGANIZER;CN="Elizabeth Brush":MAILTO:ebrush@acdsinc.org
GEO:38.9746862;-76.5612782
X-APPLE-STRUCTURED-LOCATION;VALUE=URI;X-ADDRESS=Arundel Community Development Services Inc. 2666 Riva Road Suite 210 Annapolis MD 21401 United States;X-APPLE-RADIUS=500;X-TITLE=2666 Riva Road\, Suite 210:geo:-76.5612782,38.9746862
END:VEVENT
BEGIN:VEVENT
DTSTART;TZID=America/New_York:20170519T093000
DTEND;TZID=America/New_York:20170519T113000
DTSTAMP:20260424T095126
CREATED:20170105T145500Z
LAST-MODIFIED:20170105T145500Z
UID:10002505-1495186200-1495193400@acdsinc.org
SUMMARY:Anne Arundel County Coalition to End Homelessness Meeting
DESCRIPTION:
URL:https://acdsinc.org/event/anne-arundel-county-coalition-end-homelessness-meeting-2/
LOCATION:Arundel Community Development Services\, Inc.\, 2666 Riva Road\, Suite 210\, Annapolis\, MD\, 21401\, United States
ORGANIZER;CN="Elizabeth Brush":MAILTO:ebrush@acdsinc.org
GEO:38.9746862;-76.5612782
X-APPLE-STRUCTURED-LOCATION;VALUE=URI;X-ADDRESS=Arundel Community Development Services Inc. 2666 Riva Road Suite 210 Annapolis MD 21401 United States;X-APPLE-RADIUS=500;X-TITLE=2666 Riva Road\, Suite 210:geo:-76.5612782,38.9746862
END:VEVENT
BEGIN:VEVENT
DTSTART;TZID=America/New_York:20170120T093000
DTEND;TZID=America/New_York:20170120T113000
DTSTAMP:20260424T095126
CREATED:20170104T213447Z
LAST-MODIFIED:20170104T214959Z
UID:10002501-1484904600-1484911800@acdsinc.org
SUMMARY:Anne Arundel County Coalition to End Homelessness Meeting
DESCRIPTION:
URL:https://acdsinc.org/event/coalition-end-homelessness-continuum-care-monthly-meeting/
LOCATION:Arundel Community Development Services\, Inc.\, 2666 Riva Road\, Suite 210\, Annapolis\, MD\, 21401\, United States
ORGANIZER;CN="Elizabeth Brush":MAILTO:ebrush@acdsinc.org
GEO:38.9746862;-76.5612782
X-APPLE-STRUCTURED-LOCATION;VALUE=URI;X-ADDRESS=Arundel Community Development Services Inc. 2666 Riva Road Suite 210 Annapolis MD 21401 United States;X-APPLE-RADIUS=500;X-TITLE=2666 Riva Road\, Suite 210:geo:-76.5612782,38.9746862
END:VEVENT
END:VCALENDAR