BEGIN:VCALENDAR
VERSION:2.0
PRODID:-//Arundel Community Development Services, Inc. - ECPv6.15.20//NONSGML v1.0//EN
CALSCALE:GREGORIAN
METHOD:PUBLISH
X-WR-CALNAME:Arundel Community Development Services, Inc.
X-ORIGINAL-URL:https://acdsinc.org
X-WR-CALDESC:Events for Arundel Community Development Services, Inc.
REFRESH-INTERVAL;VALUE=DURATION:PT1H
X-Robots-Tag:noindex
X-PUBLISHED-TTL:PT1H
BEGIN:VTIMEZONE
TZID:America/New_York
BEGIN:DAYLIGHT
TZOFFSETFROM:-0500
TZOFFSETTO:-0400
TZNAME:EDT
DTSTART:20180311T070000
END:DAYLIGHT
BEGIN:STANDARD
TZOFFSETFROM:-0400
TZOFFSETTO:-0500
TZNAME:EST
DTSTART:20181104T060000
END:STANDARD
BEGIN:DAYLIGHT
TZOFFSETFROM:-0500
TZOFFSETTO:-0400
TZNAME:EDT
DTSTART:20190310T070000
END:DAYLIGHT
BEGIN:STANDARD
TZOFFSETFROM:-0400
TZOFFSETTO:-0500
TZNAME:EST
DTSTART:20191103T060000
END:STANDARD
BEGIN:DAYLIGHT
TZOFFSETFROM:-0500
TZOFFSETTO:-0400
TZNAME:EDT
DTSTART:20200308T070000
END:DAYLIGHT
BEGIN:STANDARD
TZOFFSETFROM:-0400
TZOFFSETTO:-0500
TZNAME:EST
DTSTART:20201101T060000
END:STANDARD
END:VTIMEZONE
BEGIN:VEVENT
DTSTART;TZID=America/New_York:20190606T160000
DTEND;TZID=America/New_York:20190606T190000
DTSTAMP:20260425T203123
CREATED:20190604T143729Z
LAST-MODIFIED:20190604T143729Z
UID:10002950-1559836800-1559847600@acdsinc.org
SUMMARY:AAAHC Summer Event
DESCRIPTION:
URL:https://acdsinc.org/event/aaahc-summer-event/
LOCATION:Heritage Overlook\, 6670 Roberts Court\, Glen Burnie\, MD\, 21060\, United States
GEO:39.1950096;-76.6182599
X-APPLE-STRUCTURED-LOCATION;VALUE=URI;X-ADDRESS=Heritage Overlook 6670 Roberts Court Glen Burnie MD 21060 United States;X-APPLE-RADIUS=500;X-TITLE=6670 Roberts Court:geo:-76.6182599,39.1950096
END:VEVENT
END:VCALENDAR