BEGIN:VCALENDAR
VERSION:2.0
PRODID:-//Arundel Community Development Services, Inc. - ECPv6.15.20//NONSGML v1.0//EN
CALSCALE:GREGORIAN
METHOD:PUBLISH
X-ORIGINAL-URL:https://acdsinc.org
X-WR-CALDESC:Events for Arundel Community Development Services, Inc.
REFRESH-INTERVAL;VALUE=DURATION:PT1H
X-Robots-Tag:noindex
X-PUBLISHED-TTL:PT1H
BEGIN:VTIMEZONE
TZID:America/New_York
BEGIN:DAYLIGHT
TZOFFSETFROM:-0500
TZOFFSETTO:-0400
TZNAME:EDT
DTSTART:20220313T070000
END:DAYLIGHT
BEGIN:STANDARD
TZOFFSETFROM:-0400
TZOFFSETTO:-0500
TZNAME:EST
DTSTART:20221106T060000
END:STANDARD
BEGIN:DAYLIGHT
TZOFFSETFROM:-0500
TZOFFSETTO:-0400
TZNAME:EDT
DTSTART:20230312T070000
END:DAYLIGHT
BEGIN:STANDARD
TZOFFSETFROM:-0400
TZOFFSETTO:-0500
TZNAME:EST
DTSTART:20231105T060000
END:STANDARD
BEGIN:DAYLIGHT
TZOFFSETFROM:-0500
TZOFFSETTO:-0400
TZNAME:EDT
DTSTART:20240310T070000
END:DAYLIGHT
BEGIN:STANDARD
TZOFFSETFROM:-0400
TZOFFSETTO:-0500
TZNAME:EST
DTSTART:20241103T060000
END:STANDARD
END:VTIMEZONE
BEGIN:VEVENT
DTSTART;TZID=America/New_York:20231024T100000
DTEND;TZID=America/New_York:20231024T113000
DTSTAMP:20260422T063122
CREATED:20230927T141758Z
LAST-MODIFIED:20231011T161403Z
UID:10003216-1698141600-1698147000@acdsinc.org
SUMMARY:Lender Realtor Day Fall Session
DESCRIPTION:Are ACDS programs new to you? Do you need ideas to help your first time\nhomebuyers purchase a home in Anne Arundel County? Then join us for an\ninformational session to learn about our Homeownership Counseling and\nMortgage Assistance Programs! \nThis session will help Lenders and Realtors understand the guidelines of\nour programs so you can refer your clients to us. \nACDS is a HUD certified housing counseling agency looking to help you\nand your clients! \nTuesday\, October 24\, 2023\n10:00 a.m. – 11:30 a.m.\nThis will be a Microsoft Teams Presentation. \nLenders\, Realtors\, and Community Partners interested in signing up for the Fall session may email Linda DeLuca at ldeluca@acdsinc.org through October 21st. \n 
URL:https://acdsinc.org/event/lender-day-2022-2/
LOCATION:Microsoft Teams
ATTACH;FMTTYPE=image/jpeg:https://acdsinc.org/wp-content/uploads/2023/09/Lender-Realtor-Day-flyer-10.24-002.jpg
END:VEVENT
END:VCALENDAR