BEGIN:VCALENDAR
VERSION:2.0
PRODID:-//Arundel Community Development Services, Inc. - ECPv6.15.20//NONSGML v1.0//EN
CALSCALE:GREGORIAN
METHOD:PUBLISH
X-ORIGINAL-URL:https://acdsinc.org
X-WR-CALDESC:Events for Arundel Community Development Services, Inc.
REFRESH-INTERVAL;VALUE=DURATION:PT1H
X-Robots-Tag:noindex
X-PUBLISHED-TTL:PT1H
BEGIN:VTIMEZONE
TZID:America/New_York
BEGIN:DAYLIGHT
TZOFFSETFROM:-0500
TZOFFSETTO:-0400
TZNAME:EDT
DTSTART:20220313T070000
END:DAYLIGHT
BEGIN:STANDARD
TZOFFSETFROM:-0400
TZOFFSETTO:-0500
TZNAME:EST
DTSTART:20221106T060000
END:STANDARD
BEGIN:DAYLIGHT
TZOFFSETFROM:-0500
TZOFFSETTO:-0400
TZNAME:EDT
DTSTART:20230312T070000
END:DAYLIGHT
BEGIN:STANDARD
TZOFFSETFROM:-0400
TZOFFSETTO:-0500
TZNAME:EST
DTSTART:20231105T060000
END:STANDARD
BEGIN:DAYLIGHT
TZOFFSETFROM:-0500
TZOFFSETTO:-0400
TZNAME:EDT
DTSTART:20240310T070000
END:DAYLIGHT
BEGIN:STANDARD
TZOFFSETFROM:-0400
TZOFFSETTO:-0500
TZNAME:EST
DTSTART:20241103T060000
END:STANDARD
END:VTIMEZONE
BEGIN:VEVENT
DTSTART;TZID=America/New_York:20230827T100000
DTEND;TZID=America/New_York:20230827T140000
DTSTAMP:20260424T142334
CREATED:20230830T164744Z
LAST-MODIFIED:20230830T164822Z
UID:10003148-1693130400-1693144800@acdsinc.org
SUMMARY:Anne Arundel County River Days
DESCRIPTION:ACDS will have staff in attendance to provide information about our programming and resources for Anne Arundel County residents.
URL:https://acdsinc.org/event/river-days-2/
LOCATION:Quiet Waters Park\, 600 Quiet Waters Park Road\, Annapolis\, MD\, 21403\, United States
ATTACH;FMTTYPE=image/png:https://acdsinc.org/wp-content/uploads/2023/08/River-Day.png
GEO:38.948566;-76.494486
X-APPLE-STRUCTURED-LOCATION;VALUE=URI;X-ADDRESS=Quiet Waters Park 600 Quiet Waters Park Road Annapolis MD 21403 United States;X-APPLE-RADIUS=500;X-TITLE=600 Quiet Waters Park Road:geo:-76.494486,38.948566
END:VEVENT
BEGIN:VEVENT
DTSTART;TZID=America/New_York:20230716T100000
DTEND;TZID=America/New_York:20230716T140000
DTSTAMP:20260424T142334
CREATED:20230830T164651Z
LAST-MODIFIED:20230830T164907Z
UID:10003147-1689501600-1689516000@acdsinc.org
SUMMARY:Anne Arundel County River Days
DESCRIPTION:ACDS will have staff in attendance to provide information about our programming and resources for Anne Arundel County residents.
URL:https://acdsinc.org/event/river-days/
LOCATION:Quiet Waters Park\, 600 Quiet Waters Park Road\, Annapolis\, MD\, 21403\, United States
ATTACH;FMTTYPE=image/png:https://acdsinc.org/wp-content/uploads/2023/08/River-Day.png
GEO:38.948566;-76.494486
X-APPLE-STRUCTURED-LOCATION;VALUE=URI;X-ADDRESS=Quiet Waters Park 600 Quiet Waters Park Road Annapolis MD 21403 United States;X-APPLE-RADIUS=500;X-TITLE=600 Quiet Waters Park Road:geo:-76.494486,38.948566
END:VEVENT
END:VCALENDAR