BEGIN:VCALENDAR
VERSION:2.0
PRODID:-//Arundel Community Development Services, Inc. - ECPv6.15.20//NONSGML v1.0//EN
CALSCALE:GREGORIAN
METHOD:PUBLISH
X-ORIGINAL-URL:https://acdsinc.org
X-WR-CALDESC:Events for Arundel Community Development Services, Inc.
REFRESH-INTERVAL;VALUE=DURATION:PT1H
X-Robots-Tag:noindex
X-PUBLISHED-TTL:PT1H
BEGIN:VTIMEZONE
TZID:America/New_York
BEGIN:DAYLIGHT
TZOFFSETFROM:-0500
TZOFFSETTO:-0400
TZNAME:EDT
DTSTART:20250309T070000
END:DAYLIGHT
BEGIN:STANDARD
TZOFFSETFROM:-0400
TZOFFSETTO:-0500
TZNAME:EST
DTSTART:20251102T060000
END:STANDARD
BEGIN:DAYLIGHT
TZOFFSETFROM:-0500
TZOFFSETTO:-0400
TZNAME:EDT
DTSTART:20260308T070000
END:DAYLIGHT
BEGIN:STANDARD
TZOFFSETFROM:-0400
TZOFFSETTO:-0500
TZNAME:EST
DTSTART:20261101T060000
END:STANDARD
BEGIN:DAYLIGHT
TZOFFSETFROM:-0500
TZOFFSETTO:-0400
TZNAME:EDT
DTSTART:20270314T070000
END:DAYLIGHT
BEGIN:STANDARD
TZOFFSETFROM:-0400
TZOFFSETTO:-0500
TZNAME:EST
DTSTART:20271107T060000
END:STANDARD
END:VTIMEZONE
BEGIN:VEVENT
DTSTART;TZID=America/New_York:20260421T160000
DTEND;TZID=America/New_York:20260421T190000
DTSTAMP:20260421T084906
CREATED:20260420T164259Z
LAST-MODIFIED:20260420T164259Z
UID:10003335-1776787200-1776798000@acdsinc.org
SUMMARY:Homeownership Counseling Workshop Part I
DESCRIPTION:The Homeownership Counseling Program classes are by invitation only. \nTHOSE WHO DO NOT APPLY WILL NOT BE ALLOWED TO PARTICIPATE. \nTo being the programs please click here and this link will direct you to the Homeownership Counseling Application. To learn more about our Homeownership Counseling program please click here.
URL:https://acdsinc.org/event/homeownership-counseling-workshop-part-i-5-2/
LOCATION:Virtual
ORGANIZER;CN="Arundel Community Development Services%2C Inc.":MAILTO:info@acdsinc.org
END:VEVENT
BEGIN:VEVENT
DTSTART;TZID=America/New_York:20260423T160000
DTEND;TZID=America/New_York:20260423T190000
DTSTAMP:20260421T084906
CREATED:20260420T165921Z
LAST-MODIFIED:20260420T165921Z
UID:10003340-1776960000-1776970800@acdsinc.org
SUMMARY:Homeownership Counseling Workshop Part II
DESCRIPTION:The Homeownership Counseling Program classes are by invitation only. \nTHOSE WHO DO NOT APPLY WILL NOT BE ALLOWED TO PARTICIPATE. \nTo being the programs please click here and this link will direct you to the Homeownership Counseling Application. To learn more about our Homeownership Counseling program please click here.
URL:https://acdsinc.org/event/homeownership-counseling-workshop-part-ii-5/
LOCATION:Virtual
ORGANIZER;CN="Arundel Community Development Services%2C Inc.":MAILTO:info@acdsinc.org
END:VEVENT
BEGIN:VEVENT
DTSTART;TZID=America/New_York:20260519T160000
DTEND;TZID=America/New_York:20260519T190000
DTSTAMP:20260421T084906
CREATED:20260420T164413Z
LAST-MODIFIED:20260420T164413Z
UID:10003336-1779206400-1779217200@acdsinc.org
SUMMARY:Homeownership Counseling Workshop Part I
DESCRIPTION:The Homeownership Counseling Program classes are by invitation only. \nTHOSE WHO DO NOT APPLY WILL NOT BE ALLOWED TO PARTICIPATE. \nTo being the programs please click here and this link will direct you to the Homeownership Counseling Application. To learn more about our Homeownership Counseling program please click here.
URL:https://acdsinc.org/event/homeownership-counseling-workshop-part-i-6/
LOCATION:Virtual
ORGANIZER;CN="Arundel Community Development Services%2C Inc.":MAILTO:info@acdsinc.org
END:VEVENT
BEGIN:VEVENT
DTSTART;TZID=America/New_York:20260521T160000
DTEND;TZID=America/New_York:20260521T190000
DTSTAMP:20260421T084906
CREATED:20260420T165819Z
LAST-MODIFIED:20260420T165819Z
UID:10003338-1779379200-1779390000@acdsinc.org
SUMMARY:Homeownership Counseling Workshop Part II
DESCRIPTION:The Homeownership Counseling Program classes are by invitation only. \nTHOSE WHO DO NOT APPLY WILL NOT BE ALLOWED TO PARTICIPATE. \nTo being the programs please click here and this link will direct you to the Homeownership Counseling Application. To learn more about our Homeownership Counseling program please click here.
URL:https://acdsinc.org/event/homeownership-counseling-workshop-part-ii-3-2/
LOCATION:Virtual
ORGANIZER;CN="Arundel Community Development Services%2C Inc.":MAILTO:info@acdsinc.org
END:VEVENT
BEGIN:VEVENT
DTSTART;TZID=America/New_York:20260623T160000
DTEND;TZID=America/New_York:20260623T190000
DTSTAMP:20260421T084906
CREATED:20260420T165746Z
LAST-MODIFIED:20260420T165746Z
UID:10003337-1782230400-1782241200@acdsinc.org
SUMMARY:Homeownership Counseling Workshop Part I
DESCRIPTION:The Homeownership Counseling Program classes are by invitation only. \nTHOSE WHO DO NOT APPLY WILL NOT BE ALLOWED TO PARTICIPATE. \nTo being the programs please click here and this link will direct you to the Homeownership Counseling Application. To learn more about our Homeownership Counseling program please click here.
URL:https://acdsinc.org/event/homeownership-counseling-workshop-part-i-7/
LOCATION:Virtual
ORGANIZER;CN="Arundel Community Development Services%2C Inc.":MAILTO:info@acdsinc.org
END:VEVENT
BEGIN:VEVENT
DTSTART;TZID=America/New_York:20260625T160000
DTEND;TZID=America/New_York:20260625T190000
DTSTAMP:20260421T084906
CREATED:20260420T165845Z
LAST-MODIFIED:20260420T165845Z
UID:10003339-1782403200-1782414000@acdsinc.org
SUMMARY:Homeownership Counseling Workshop Part II
DESCRIPTION:The Homeownership Counseling Program classes are by invitation only. \nTHOSE WHO DO NOT APPLY WILL NOT BE ALLOWED TO PARTICIPATE. \nTo being the programs please click here and this link will direct you to the Homeownership Counseling Application. To learn more about our Homeownership Counseling program please click here.
URL:https://acdsinc.org/event/homeownership-counseling-workshop-part-ii-4/
LOCATION:Virtual
ORGANIZER;CN="Arundel Community Development Services%2C Inc.":MAILTO:info@acdsinc.org
END:VEVENT
END:VCALENDAR